Workbook

Sheet Intructivo
B2: Matriz Mapa de Riesgos
B4: Teniendo en cuenta que con la expedición del Decreto 1499 de 2017 “Por medio del cual se modifica el Decreto 1083 de 2015, Decreto Único Reglamentario del Sector Función Pública, en lo relacionado con el Sistema de Gestión establecido en el artículo 133 de la Ley 1753 de 2015”, se crea un solo Sistema de Gestión y se alinea con el Sistema de Control Interno, hoy todas las entidades públicas requieren actualizar y/o implementar el Modelo Integrado de Planeación y Gestión MIPG, modelo que incorpora el Modelo Estándar de Control Interno MECI a través de la 7a dimensión del mismo. En este marco general, el proceso de administración del riesgo es un esfuerzo conjunto entre la Alta Dirección y los servidores en todos sus niveles, ejercicio que inicia con la formulación de la política de Administración del Riesgo, la cual incluye los niveles de responsabilidad frente al seguimiento y evaluación, aspectos que deberán definirse acorde con el Esquema de Líneas de Defensa vinculado a la Dimensión 7. Teniendo en cuenta lo anterior y dada la necesidad de las entidades frente a la estructuración de los mapas de riesgos, como herramienta fundamental frente a la gestión del riesgo, el presente formato desarrolla un esquema completo acorde con los contenidos metodológicos de la Guía para la Administración del Riesgo y el diseño de controles V5. El formato cuenta con celdas parametrizadas y permite contar con los respectivos mapas de calor para riesgo inherente y riesgo residual.
B6: Orientaciones Generales
B7: Antes de iniciar con el diligenciamiento de la información en la matriz, se requiere haber avanzado en el análisis del proceso, su objetivo, alcance, actividades clave, considere los lineamientos establecidos en el Paso 2: identificación del riesgo, donde se explica ampliamente las bases para adelanter este análisis. Así mismo, considere en el Paso 3: valoración del riesgo los lineamientos para definir el No. de veces que se hace la actividad con la cual se relaciona el riesgo y su impacto en términos económicos o reputacionales. En este mismo paso se analizan los controles que deben responder a los atributos de eficiencia e informativos. NOTA: Si lo considera pertinente, es posible agregar hojas de trabajo adicionales al presente formato que permitan incluir la traza de estos análisis.
B9: El archivo contiene las siguientes hojas: - Hoja 1 Instructivo - Hoja 2 Mapa Final: Encontrará la totalidad de la estructura para la identificación y valoración de los riesgos por proceso, programa o proyecto, acorde con el nivel de desagregación que la entidad considere necesaria.
C12: Columna | E12: Descripción - Lineamientos para el diligenciamiento
C13: Proceso | E13: Diligencie el nombre del proceso al cual se le identificarán y valorarán los riesgos.
C14: Objetivo | E14: Diligencie el objetivo del proceso.
C15: Alcance | E15: Diligencie el alcance del proceso.
C16: Referencia | E16: Permite definir unl consecutivo de riesgos. Una entidad puede ir en el riesgo 150, pero tener 70 riesgos, lo que permite llevar una traza de los riesgos. Esta información la debe administrar la oficina asesora de planeación o gerencia de riesgos. Cuando un el riesgo salga del mapa no existirá otro riesgo con el mismo número.
C17: Impacto | E17: Analice las consecuencias que puede ocasionar a la organización la materialización del riesgo, redacte de la forma más concreta posible.
C18: Causa Inmediata | E18: Circunstancias bajo las cuales se presenta el riesgo, es la situación más evidente frente al riesgo, redacte de la forma más concreta posible.
C19: Causa Raíz | E19: Causa principal o básica, corresponde a las razones por la cuales se puede presentar el riesgo, redacte de la forma más concreta posible.
C20: Descripción del Riesgo | E20: Consolida o resume los análisis sobre impacto + causa inmediata + causa raíz, permitiendo contar con una redacción clara y concreta del riesgo indentificado. Tenga en cuenta la estructura de alto nivel establecida en al guía, inicia con POSIBILIDAD DE + Impacto para la entidad (Qué) + Causa Inmediata (Cómo) + Causa Raíz (Por qué)
C21: Clasificación del Riesgo | E21: Utilice la lista de despligue que se encuentra parametrizada, le aparecerán las opciones: i)Daños Activos Fisicos, ii)Ejecucion y Administracion de procesos, iii)Fallas Tecnologicas, iv)Fraude Externo, v)Fraude Interno, vi)Relaciones Laborales, vii)Usuarios, productos y practicas organizacionales.
C22: Frecuencia con la cual se lleva a cabo la actividad | E22: Defina el # de veces que se ejecuta la actividad durante el año, (Recuerde la probabilidad e ocurrencia del riesgo se defien como el No. de veces que se pasa por el punto de riesgo en el periodo de 1 año). La matriz automáticamente hará el cálculo para el nivel de probabilidad inherente (Columnas H-I)
C23: Criterios de Impacto | E23: Utilice la lista de despligue que se encuentra parametrizada, le aparecerán las opciones de la tabla de Impacto en la Hoja 6 del presente documento. La matriz automáticamente hará el cálculo para el nivel de impacto inherente (Columnas L-M)
... C37: Estado | E37: Utilice la lista de despligue que se encuentra parametrizada, le aparecerán las opciones: i)Finalizado, ii)En curso, la selección en este caso dependerá de las acciones del plan que se hayan establecido en cada caso.
B40: - Hoja 3 Matriz de Calor Inherente: En esta hoja, en la medida en que ese diligencia el Mapa Final, se verán reflejados los riesgos en su zona correspondiente. Esta hoja no se diligencia se genera de manera automática.
B41: - Hoja 4 Matriz de Calor Residual: En esta hoja, en la medida en que ese diligencia el Mapa Final, se verán reflejados los riesgos en su zona correspondiente. Esta hoja no se diligencia se genera de manera automática.
B42: - Hoja 5 Tabla de probabilidad: Tabla referente para todos los cálculos (no se diligencia)
B43: - Hoja 6 Tabla de Impacto: Tabla referente para todos los cálculos (no se diligencia)
B44: - Hoja 7 Tabla de Valoración de Controles: Tabla referente para todos los cálculos (no se diligencia)

Sheet Mapa final
A1: HOSPITAL MILITAR CENTRAL | H1: FORMATO: MAPA DE RIESGOS POR PROCESO | AP1: CÓDIGO: PL-OAPL-PR-05-FT-02
H2: OFICINA: ASESORA DE PLANEACION
AP3: FECHA DE EMISIÓN: 12-08-2022
H4: PROCESO: PLANEACION | AP4: VERSIÓN: 08
H5: SISTEMA DE GESTION INTEGRADO SGI | AP5: Página 1 de 1
A7: Proceso: | F7: MAPA DE RIESGOS INSTITUCIONAL 2026 V.1
A8: Objetivo: | F8: ESTABLECER UN MARCO DE REFERENCIA GENERAL QUE INVOLUCRE A TODOS LOS SERVIDORES PÚBLICOS Y CONTRATISTAS DEL HOSPITAL MILITAR CENTRAL PARA LA ADECUADA GESTIÓN DEL RIESGO, POR MEDIO DE LA IDENTIFICACIÓN DE ACCIONES DE CONTROL, RESPUESTAS OPORTUNAS Y ESTRATEGIAS INSTITUCIONALES FRENTE A LAS DIFERENTES SITUACIONES QUE PUEDAN AFECTAR EL CUMPLIMIENTO DE LA MISIONALIDAD Y EL LOGRO DE LOS OBJETIVOS INSTITUCIONALES.
A9: Alcance: | F9: LA ADMINISTRACIÓN DEL RIESGO ES APLICABLE A TODAS LAS DEPENDENCIAS, PROCESOS, PROYECTOS Y PLANES INSTITUCIONALES, CON EL FIN DE IDENTIFICAR, ANALIZAR, VALORAR, MONITOREAR Y DAR TRATAMIENTO A LOS RIESGOS IDENTIFICADOS DURANTE EL DESARROLLO DE LA GESTIÓN PLANIFICADA Y A TODOS LOS SERVIDORES PÚBLICOS Y CONTRATISTAS EN EL EJERCICIO DE SUS FUNCIONES Y OBLIGACIONES.
A10: Identificación del riesgo | P10: Análisis del riesgo inherente | W10: Evaluación del riesgo - Valoración de los controles | AF10: Evaluación del riesgo - Nivel del riesgo residual | AM10: Plan de Acción (Diligenciar si (AK) es = Alto o Extremo)
A11: Referencia | B11: Código Único (iD) | C11: Proceso | D11: Área responsable | E11: Impacto | F11: Causa Inmediata | G11: Causa Raíz | H11: Descripción del Riesgo | I11: Definición Riesgos de Corrupción Marcar con una ( X ) | M11: Clasificación del Riesgo | N11: Activo de la Información (Seguridad Digital) | O11: Frecuencia con la cual se realiza la actividad | P11: Probabilidad Inherente | Q11: % | R11: Criterios de impacto | S11: Observación de criterio | T11: Impacto Inherente | U11: % | V11: Zona de Riesgo Inherente | W11: No. Control | X11: Descripción del Control (Responsable, periodicidad, forma como se realiza y propósito) | Y11: Afectación | Z11: Atributos | AF11: Probabilidad Residual | AG11: Probabilidad Residual Final | AH11: % | AI11: Impacto Residual Final | AJ11: % | AK11: Zona de Riesgo Final | AL11: Tratamiento | AM11: Plan de Acción | AN11: Responsable | AO11: Fecha Implementación | AP11: Fecha Seguimiento | AQ11: Seguimiento | AR11: Estado
I12: Acción u Omisión | J12: Uso del Poder | K12: Desviar la Gestión de lo Público | L12: Beneficio Privado | Z12: Tipo | AA12: Implementación | AB12: Calificación | AC12: Documentación | AD12: Frecuencia | AE12: Evidencia
A13: 1 | B13: GBG_02 | C13: Gerencia y Buen Gobierno | D13: Gestión Ética, Bioética, Buen Gobierno y Humanización Administración de Personal Gestión Contratos, Selección Personal - Seguimiento, Ejecución y Apoyo Contractual | E13: Económico y Reputacional | F13: Multas y Sanciones | G13: Vinculación de personas naturales y/o jurídicas, sin considerar los lineamientos contemplados relacionados con conflictos de interés. (Política de Integridad) | H13: Posibilidad de afectación económica y reputacional por multas y sanciones, debido a la vinculación de personas naturales y/o jurídicas, sin considerar los lineamientos contemplados relacionados con conflictos de interés. (Política de Integridad). | I13: N/A | J13: N/A | K13: N/A | L13: N/A | M13: Ejecución y Administración de procesos | O13: 5000 | P13: =IF(O13<=0,"",IF(O13<=2,"Muy Baja",IF(O13<=24,"Baja",IF(O13<=500,"Media",IF(O13<=5000,"Alta","Muy Alta"))))) -> Alta | Q13: =IF(P13="","",IF(P13="Muy Baja",0.2,IF(P13="Baja",0.4,IF(P13="Media",0.6,IF(P13="Alta",0.8,IF(P13="Muy Alta",1,)))))) -> 0.8 | R13: El riesgo afecta la imagen de la entidad internamente, de conocimiento general, nivel interno, de junta dircetiva y accionistas y/o de provedores | S13: =IF(NOT(ISERROR(MATCH(R13,'Tabla Impacto'!$B$221:$B$224,0))),'Tabla Impacto'!$F$224&"Por favor no seleccionar los criterios de impacto(Afectación Económica o presupuestal y Pérdida Reputacional)",R13) -> El riesgo afecta la imagen de la entidad internamente, de conocimiento general, nivel interno, de junta dircetiva y accionistas y/o de provedores | T13: =+IF(OR(S13='Tabla Impacto'!$C$11,S13='Tabla Impacto'!$D$11),"Leve",IF(OR(S13='Tabla Impacto'!$C$12,S13='Tabla Impacto'!$D$12),"Menor",IF(OR(S13='Tabla Impacto'!$C$13,S13='Tabla Impacto'!$D$13,S13='Tabla Impacto'!$E$13),"Moderado",IF(OR(S13='Tabla Impacto'!$C$14,S13='Tabla Impacto'!$D$14,S13='Tabla Impacto'!$E$14),"Mayor",IF(OR(S13='Tabla Impacto'!$C$15,S13='Tabla Impacto'!$D$15,S13='Tabla Impacto'!$E$15),"Catastrófico",""))))) -> Menor | U13: =IF(T13="","",IF(T13="Leve",0.2,IF(T13="Menor",0.4,IF(T13="Moderado",0.6,IF(T13="Mayor",0.8,IF(T13="Catastrófico",1,)))))) -> 0.4 | V13: =IF(OR(AND(P13="Muy Baja",T13="Leve"),AND(P13="Muy Baja",T13="Menor"),AND(P13="Baja",T13="Leve")),"Bajo",IF(OR(AND(P13="Muy baja",T13="Moderado"),AND(P13="Baja",T13="Menor"),AND(P13="Baja",T13="Moderado"),AND(P13="Media",T13="Leve"),AND(P13="Media",T13="Menor"),AND(P13="Media",T13="Moderado"),AND(P13="Alta",T13="Leve"),AND(P13="Alta",T13="Menor")),"Moderado",IF(OR(AND(P13="Muy Baja",T13="Mayor"),AND(P13="Baja",T13="Mayor"),AND(P13="Media",T13="Mayor"),AND(P13="Alta",T13="Moderado"),AND(P13="Alta",T13="Mayor"),AND(P13="Muy Alta",T13="Leve"),AND(P13="Muy Alta",T13="Menor"),AND(P13="Muy Alta",T13="Moderado"),AND(P13="Muy Alta",T13="Mayor")),"Alto",IF(OR(AND(P13="Muy Baja",T13="Catastrófico"),AND(P13="Baja",T13="Catastrófico"),AND(P13="Media",T13="Catastrófico"),AND(P13="Alta",T13="Catastrófico"),AND(P13="Muy Alta",T13="Catastrófico")),"Extremo","")))) -> Moderado | W13: 1 | X13: El profesional del área de Administración de personal, junto con el responsable de Selección y contratación de personal y el profesional del área de Gestión contratos, garantizan cada vez que se requiere, el cumplimiento de la ley que exige el diligenciamiento del formato declaración de bienes y rentas y declaración de conflicto de interés y/o aplicativos de Ley 2013 de 2019, con el fin de acatar las disposiciones normativas vigentes. | Y13: =IF(OR(Z13="Preventivo",Z13="Detectivo"),"Probabilidad",IF(Z13="Correctivo","Impacto","")) -> Probabilidad | Z13: Preventivo | AA13: Manual | AB13: =IF(AND(Z13="Preventivo",AA13="Automático"),"50%",IF(AND(Z13="Preventivo",AA13="Manual"),"40%",IF(AND(Z13="Detectivo",AA13="Automático"),"40%",IF(AND(Z13="Detectivo",AA13="Manual"),"30%",IF(AND(Z13="Correctivo",AA13="Automático"),"35%",IF(AND(Z13="Correctivo",AA13="Manual"),"25%","")))))) -> 40% | AC13: Documentado | AD13: Continua | AE13: Con Registro | AF13: =IFERROR(IF(Y13="Probabilidad",(Q13-(+Q13*AB13)),IF(Y13="Impacto",Q13,"")),"") -> 0.48 | AG13: =IFERROR(IF(AF13="","",IF(AF13<=0.2,"Muy Baja",IF(AF13<=0.4,"Baja",IF(AF13<=0.6,"Media",IF(AF13<=0.8,"Alta","Muy Alta"))))),"") -> Media | AH13: =+AF13 -> 0.48 | AI13: =IFERROR(IF(AJ13="","",IF(AJ13<=0.2,"Leve",IF(AJ13<=0.4,"Menor",IF(AJ13<=0.6,"Moderado",IF(AJ13<=0.8,"Mayor","Catastrófico"))))),"") -> Menor | AJ13: =IFERROR(IF(Y13="Impacto",(U13-(+U13*AB13)),IF(Y13="Probabilidad",U13,"")),"") -> 0.4 | AK13: =IFERROR(IF(OR(AND(AG13="Muy Baja",AI13="Leve"),AND(AG13="Muy Baja",AI13="Menor"),AND(AG13="Baja",AI13="Leve")),"Bajo",IF(OR(AND(AG13="Muy baja",AI13="Moderado"),AND(AG13="Baja",AI13="Menor"),AND(AG13="Baja",AI13="Moderado"),AND(AG13="Media",AI13="Leve"),AND(AG13="Media",AI13="Menor"),AND(AG13="Media",AI13="Moderado"),AND(AG13="Alta",AI13="Leve"),AND(AG13="Alta",AI13="Menor")),"Moderado",IF(OR(AND(AG13="Muy Baja",AI13="Mayor"),AND(AG13="Baja",AI13="Mayor"),AND(AG13="Media",AI13="Mayor"),AND(AG13="Alta",AI13="Moderado"),AND(AG13="Alta",AI13="Mayor"),AND(AG13="Muy Alta",AI13="Leve"),AND(AG13="Muy Alta",AI13="Menor"),AND(AG13="Muy Alta",AI13="Moderado"),AND(AG13="Muy Alta",AI13="Mayor")),"Alto",IF(OR(AND(AG13="Muy Baja",AI13="Catastrófico"),AND(AG13="Baja",AI13="Catastrófico"),AND(AG13="Media",AI13="Catastrófico"),AND(AG13="Alta",AI13="Catastrófico"),AND(AG13="Muy Alta",AI13="Catastrófico")),"Extremo","")))),"") -> Moderado | AL13: Aceptar
W14: 2 | X14: El profesional del área de Administración de personal, junto con el responsable de Selección y contratación de personal y el profesional del área de Gestión contratos, verifican la información registrada en el formato declaración de bienes y rentas y declaración de conflicto de interés y/o aplicativos de Ley 2013 de 2019 y posteriormente es actualizada la información en el aplicativo SIGEP. | Y14: =IF(OR(Z14="Preventivo",Z14="Detectivo"),"Probabilidad",IF(Z14="Correctivo","Impacto","")) -> Probabilidad | Z14: Preventivo | AA14: Manual | AB14: =IF(AND(Z14="Preventivo",AA14="Automático"),"50%",IF(AND(Z14="Preventivo",AA14="Manual"),"40%",IF(AND(Z14="Detectivo",AA14="Automático"),"40%",IF(AND(Z14="Detectivo",AA14="Manual"),"30%",IF(AND(Z14="Correctivo",AA14="Automático"),"35%",IF(AND(Z14="Correctivo",AA14="Manual"),"25%","")))))) -> 40% | AC14: Documentado | AD14: Continua | AE14: Con Registro | AF14: =IFERROR(IF(AND(Y13="Probabilidad",Y14="Probabilidad"),(AH13-(+AH13*AB14)),IF(Y14="Probabilidad",(Q13-(+Q13*AB14)),IF(Y14="Impacto",AH13,""))),"") -> 0.288 | AG14: =IFERROR(IF(AF14="","",IF(AF14<=0.2,"Muy Baja",IF(AF14<=0.4,"Baja",IF(AF14<=0.6,"Media",IF(AF14<=0.8,"Alta","Muy Alta"))))),"") -> Baja | AH14: =+AF14 -> 0.288 | AI14: =IFERROR(IF(AJ14="","",IF(AJ14<=0.2,"Leve",IF(AJ14<=0.4,"Menor",IF(AJ14<=0.6,"Moderado",IF(AJ14<=0.8,"Mayor","Catastrófico"))))),"") -> Menor | AJ14: =IFERROR(IF(AND(Y13="Impacto",Y14="Impacto"),(AJ13-(+AJ13*AB14)),IF(Y14="Impacto",(U13-(+U13*AB14)),IF(Y14="Probabilidad",AJ13,""))),"") -> 0.4 | AK14: =IFERROR(IF(OR(AND(AG14="Muy Baja",AI14="Leve"),AND(AG14="Muy Baja",AI14="Menor"),AND(AG14="Baja",AI14="Leve")),"Bajo",IF(OR(AND(AG14="Muy baja",AI14="Moderado"),AND(AG14="Baja",AI14="Menor"),AND(AG14="Baja",AI14="Moderado"),AND(AG14="Media",AI14="Leve"),AND(AG14="Media",AI14="Menor"),AND(AG14="Media",AI14="Moderado"),AND(AG14="Alta",AI14="Leve"),AND(AG14="Alta",AI14="Menor")),"Moderado",IF(OR(AND(AG14="Muy Baja",AI14="Mayor"),AND(AG14="Baja",AI14="Mayor"),AND(AG14="Media",AI14="Mayor"),AND(AG14="Alta",AI14="Moderado"),AND(AG14="Alta",AI14="Mayor"),AND(AG14="Muy Alta",AI14="Leve"),AND(AG14="Muy Alta",AI14="Menor"),AND(AG14="Muy Alta",AI14="Moderado"),AND(AG14="Muy Alta",AI14="Mayor")),"Alto",IF(OR(AND(AG14="Muy Baja",AI14="Catastrófico"),AND(AG14="Baja",AI14="Catastrófico"),AND(AG14="Media",AI14="Catastrófico"),AND(AG14="Alta",AI14="Catastrófico"),AND(AG14="Muy Alta",AI14="Catastrófico")),"Extremo","")))),"") -> Moderado | AL14: Aceptar
A15: 2 | B15: GBG_03 | C15: Gerencia y Buen Gobierno | D15: Gestión Ética, Bioética, Buen Gobierno y Humanización Responsables de los Grupos de trabajo Presidentes de los Comités Institucionales. | E15: Económico y Reputacional | F15: Demandas Legales y Sanciones | G15: Omitir la declaración de impedimento o recusación ante la posibilidad real o aparente de un conflicto de interés. | H15: Posibilidad de afectación económica y reputacional por demandas legales y sanciones, debido a la omisión de la declaración de impedimento o recusación ante la posibilidad real o aparente de un conflicto de interés. | I15: N/A | J15: N/A | K15: N/A | L15: N/A | M15: Ejecución y Administración de procesos | O15: 500 | P15: =IF(O15<=0,"",IF(O15<=2,"Muy Baja",IF(O15<=24,"Baja",IF(O15<=500,"Media",IF(O15<=5000,"Alta","Muy Alta"))))) -> Media | Q15: =IF(P15="","",IF(P15="Muy Baja",0.2,IF(P15="Baja",0.4,IF(P15="Media",0.6,IF(P15="Alta",0.8,IF(P15="Muy Alta",1,)))))) -> 0.6 | R15: El riesgo afecta la imagen de la entidad con algunos usuarios de relevancia frente al logro de los objetivos | S15: =IF(NOT(ISERROR(MATCH(R15,'Tabla Impacto'!$B$221:$B$224,0))),'Tabla Impacto'!$F$224&"Por favor no seleccionar los criterios de impacto(Afectación Económica o presupuestal y Pérdida Reputacional)",R15) -> El riesgo afecta la imagen de la entidad con algunos usuarios de relevancia frente al logro de los objetivos | T15: =+IF(OR(S15='Tabla Impacto'!$C$11,S15='Tabla Impacto'!$D$11),"Leve",IF(OR(S15='Tabla Impacto'!$C$12,S15='Tabla Impacto'!$D$12),"Menor",IF(OR(S15='Tabla Impacto'!$C$13,S15='Tabla Impacto'!$D$13,S15='Tabla Impacto'!$E$13),"Moderado",IF(OR(S15='Tabla Impacto'!$C$14,S15='Tabla Impacto'!$D$14,S15='Tabla Impacto'!$E$14),"Mayor",IF(OR(S15='Tabla Impacto'!$C$15,S15='Tabla Impacto'!$D$15,S15='Tabla Impacto'!$E$15),"Catastrófico",""))))) -> Moderado | U15: =IF(T15="","",IF(T15="Leve",0.2,IF(T15="Menor",0.4,IF(T15="Moderado",0.6,IF(T15="Mayor",0.8,IF(T15="Catastrófico",1,)))))) -> 0.6 | V15: =IF(OR(AND(P15="Muy Baja",T15="Leve"),AND(P15="Muy Baja",T15="Menor"),AND(P15="Baja",T15="Leve")),"Bajo",IF(OR(AND(P15="Muy baja",T15="Moderado"),AND(P15="Baja",T15="Menor"),AND(P15="Baja",T15="Moderado"),AND(P15="Media",T15="Leve"),AND(P15="Media",T15="Menor"),AND(P15="Media",T15="Moderado"),AND(P15="Alta",T15="Leve"),AND(P15="Alta",T15="Menor")),"Moderado",IF(OR(AND(P15="Muy Baja",T15="Mayor"),AND(P15="Baja",T15="Mayor"),AND(P15="Media",T15="Mayor"),AND(P15="Alta",T15="Moderado"),AND(P15="Alta",T15="Mayor"),AND(P15="Muy Alta",T15="Leve"),AND(P15="Muy Alta",T15="Menor"),AND(P15="Muy Alta",T15="Moderado"),AND(P15="Muy Alta",T15="Mayor")),"Alto",IF(OR(AND(P15="Muy Baja",T15="Catastrófico"),AND(P15="Baja",T15="Catastrófico"),AND(P15="Media",T15="Catastrófico"),AND(P15="Alta",T15="Catastrófico"),AND(P15="Muy Alta",T15="Catastrófico")),"Extremo","")))) -> Moderado | W15: 1 | X15: Los responsables de los grupos de trabajo realizan cada vez que se requiera el seguimiento a la presentación de posibles situaciones de conflicto de interés o recusación, con el fin de mitigar el riesgo. Realizan reporte trimestral al Grupo de integridad. | Y15: =IF(OR(Z15="Preventivo",Z15="Detectivo"),"Probabilidad",IF(Z15="Correctivo","Impacto","")) -> Probabilidad | Z15: Preventivo | AA15: Manual | AB15: =IF(AND(Z15="Preventivo",AA15="Automático"),"50%",IF(AND(Z15="Preventivo",AA15="Manual"),"40%",IF(AND(Z15="Detectivo",AA15="Automático"),"40%",IF(AND(Z15="Detectivo",AA15="Manual"),"30%",IF(AND(Z15="Correctivo",AA15="Automático"),"35%",IF(AND(Z15="Correctivo",AA15="Manual"),"25%","")))))) -> 40% | AC15: Documentado | AD15: Continua | AE15: Con Registro | AF15: =IFERROR(IF(Y15="Probabilidad",(Q15-(+Q15*AB15)),IF(Y15="Impacto",Q15,"")),"") -> 0.36 | AG15: =IFERROR(IF(AF15="","",IF(AF15<=0.2,"Muy Baja",IF(AF15<=0.4,"Baja",IF(AF15<=0.6,"Media",IF(AF15<=0.8,"Alta","Muy Alta"))))),"") -> Baja | AH15: =+AF15 -> 0.36 | AI15: =IFERROR(IF(AJ15="","",IF(AJ15<=0.2,"Leve",IF(AJ15<=0.4,"Menor",IF(AJ15<=0.6,"Moderado",IF(AJ15<=0.8,"Mayor","Catastrófico"))))),"") -> Moderado | AJ15: =IFERROR(IF(Y15="Impacto",(U15-(+U15*AB15)),IF(Y15="Probabilidad",U15,"")),"") -> 0.6 | AK15: =IFERROR(IF(OR(AND(AG15="Muy Baja",AI15="Leve"),AND(AG15="Muy Baja",AI15="Menor"),AND(AG15="Baja",AI15="Leve")),"Bajo",IF(OR(AND(AG15="Muy baja",AI15="Moderado"),AND(AG15="Baja",AI15="Menor"),AND(AG15="Baja",AI15="Moderado"),AND(AG15="Media",AI15="Leve"),AND(AG15="Media",AI15="Menor"),AND(AG15="Media",AI15="Moderado"),AND(AG15="Alta",AI15="Leve"),AND(AG15="Alta",AI15="Menor")),"Moderado",IF(OR(AND(AG15="Muy Baja",AI15="Mayor"),AND(AG15="Baja",AI15="Mayor"),AND(AG15="Media",AI15="Mayor"),AND(AG15="Alta",AI15="Moderado"),AND(AG15="Alta",AI15="Mayor"),AND(AG15="Muy Alta",AI15="Leve"),AND(AG15="Muy Alta",AI15="Menor"),AND(AG15="Muy Alta",AI15="Moderado"),AND(AG15="Muy Alta",AI15="Mayor")),"Alto",IF(OR(AND(AG15="Muy Baja",AI15="Catastrófico"),AND(AG15="Baja",AI15="Catastrófico"),AND(AG15="Media",AI15="Catastrófico"),AND(AG15="Alta",AI15="Catastrófico"),AND(AG15="Muy Alta",AI15="Catastrófico")),"Extremo","")))),"") -> Moderado | AL15: Aceptar
W16: 2 | X16: Los presidentes o secretarios de los comités institucionales incluyen en el orden del día cada vez que se requiera, la pregunta sobre posible declaración de conflicto de interés o recusación a los miembros de cada comité, con el fin de mitigar el riesgo. Lo registran en actas y realizan reporte trimestral al Grupo Gestor de Integridad. | Y16: =IF(OR(Z16="Preventivo",Z16="Detectivo"),"Probabilidad",IF(Z16="Correctivo","Impacto","")) -> Probabilidad | Z16: Preventivo | AA16: Manual | AB16: =IF(AND(Z16="Preventivo",AA16="Automático"),"50%",IF(AND(Z16="Preventivo",AA16="Manual"),"40%",IF(AND(Z16="Detectivo",AA16="Automático"),"40%",IF(AND(Z16="Detectivo",AA16="Manual"),"30%",IF(AND(Z16="Correctivo",AA16="Automático"),"35%",IF(AND(Z16="Correctivo",AA16="Manual"),"25%","")))))) -> 40% | AC16: Documentado | AD16: Continua | AE16: Con Registro | AF16: =IFERROR(IF(AND(Y15="Probabilidad",Y16="Probabilidad"),(AH15-(+AH15*AB16)),IF(Y16="Probabilidad",(Q15-(+Q15*AB16)),IF(Y16="Impacto",AH15,""))),"") -> 0.216 | AG16: =IFERROR(IF(AF16="","",IF(AF16<=0.2,"Muy Baja",IF(AF16<=0.4,"Baja",IF(AF16<=0.6,"Media",IF(AF16<=0.8,"Alta","Muy Alta"))))),"") -> Baja | AH16: =+AF16 -> 0.216 | AI16: =IFERROR(IF(AJ16="","",IF(AJ16<=0.2,"Leve",IF(AJ16<=0.4,"Menor",IF(AJ16<=0.6,"Moderado",IF(AJ16<=0.8,"Mayor","Catastrófico"))))),"") -> Moderado | AJ16: =IFERROR(IF(AND(Y15="Impacto",Y16="Impacto"),(AJ15-(+AJ15*AB16)),IF(Y16="Impacto",(U15-(+U15*AB16)),IF(Y16="Probabilidad",AJ15,""))),"") -> 0.6 | AK16: =IFERROR(IF(OR(AND(AG16="Muy Baja",AI16="Leve"),AND(AG16="Muy Baja",AI16="Menor"),AND(AG16="Baja",AI16="Leve")),"Bajo",IF(OR(AND(AG16="Muy baja",AI16="Moderado"),AND(AG16="Baja",AI16="Menor"),AND(AG16="Baja",AI16="Moderado"),AND(AG16="Media",AI16="Leve"),AND(AG16="Media",AI16="Menor"),AND(AG16="Media",AI16="Moderado"),AND(AG16="Alta",AI16="Leve"),AND(AG16="Alta",AI16="Menor")),"Moderado",IF(OR(AND(AG16="Muy Baja",AI16="Mayor"),AND(AG16="Baja",AI16="Mayor"),AND(AG16="Media",AI16="Mayor"),AND(AG16="Alta",AI16="Moderado"),AND(AG16="Alta",AI16="Mayor"),AND(AG16="Muy Alta",AI16="Leve"),AND(AG16="Muy Alta",AI16="Menor"),AND(AG16="Muy Alta",AI16="Moderado"),AND(AG16="Muy Alta",AI16="Mayor")),"Alto",IF(OR(AND(AG16="Muy Baja",AI16="Catastrófico"),AND(AG16="Baja",AI16="Catastrófico"),AND(AG16="Media",AI16="Catastrófico"),AND(AG16="Alta",AI16="Catastrófico"),AND(AG16="Muy Alta",AI16="Catastrófico")),"Extremo","")))),"") -> Moderado | AL16: Aceptar
A17: 3 | B17: OAP_01 | C17: Planeación | D17: Oficina Asesora de Planeación | E17: Económico y Reputacional | F17: No prestación en la atención integral de los servicios de salud a los usuarios del Subsistema de las Fuerzas Militares. | G17: Inadecuada identificación de necesidades para la adquisición de bienes y/o servicios. | H17: Posibilidad de afectación económica por la no prestación integral de los servicios de salud a los usuarios del HOMIL, debido a la inadecuada identificación de necesidades para la adquisición de bienes y/o servicios. | I17: N/A | J17: N/A | K17: N/A | L17: N/A | M17: Ejecución y Administración de procesos | O17: 1 | P17: =IF(O17<=0,"",IF(O17<=2,"Muy Baja",IF(O17<=24,"Baja",IF(O17<=500,"Media",IF(O17<=5000,"Alta","Muy Alta"))))) -> Muy Baja | Q17: =IF(P17="","",IF(P17="Muy Baja",0.2,IF(P17="Baja",0.4,IF(P17="Media",0.6,IF(P17="Alta",0.8,IF(P17="Muy Alta",1,)))))) -> 0.2 | R17: Entre 100 y 500 SMLMV | S17: =IF(NOT(ISERROR(MATCH(R17,'Tabla Impacto'!$B$221:$B$224,0))),'Tabla Impacto'!$F$224&"Por favor no seleccionar los criterios de impacto(Afectación Económica o presupuestal y Pérdida Reputacional)",R17) -> Entre 100 y 500 SMLMV | T17: =+IF(OR(S17='Tabla Impacto'!$C$11,S17='Tabla Impacto'!$D$11),"Leve",IF(OR(S17='Tabla Impacto'!$C$12,S17='Tabla Impacto'!$D$12),"Menor",IF(OR(S17='Tabla Impacto'!$C$13,S17='Tabla Impacto'!$D$13,S17='Tabla Impacto'!$E$13),"Moderado",IF(OR(S17='Tabla Impacto'!$C$14,S17='Tabla Impacto'!$D$14,S17='Tabla Impacto'!$E$14),"Mayor",IF(OR(S17='Tabla Impacto'!$C$15,S17='Tabla Impacto'!$D$15,S17='Tabla Impacto'!$E$15),"Catastrófico",""))))) -> Mayor | U17: =IF(T17="","",IF(T17="Leve",0.2,IF(T17="Menor",0.4,IF(T17="Moderado",0.6,IF(T17="Mayor",0.8,IF(T17="Catastrófico",1,)))))) -> 0.8 | V17: =IF(OR(AND(P17="Muy Baja",T17="Leve"),AND(P17="Muy Baja",T17="Menor"),AND(P17="Baja",T17="Leve")),"Bajo",IF(OR(AND(P17="Muy baja",T17="Moderado"),AND(P17="Baja",T17="Menor"),AND(P17="Baja",T17="Moderado"),AND(P17="Media",T17="Leve"),AND(P17="Media",T17="Menor"),AND(P17="Media",T17="Moderado"),AND(P17="Alta",T17="Leve"),AND(P17="Alta",T17="Menor")),"Moderado",IF(OR(AND(P17="Muy Baja",T17="Mayor"),AND(P17="Baja",T17="Mayor"),AND(P17="Media",T17="Mayor"),AND(P17="Alta",T17="Moderado"),AND(P17="Alta",T17="Mayor"),AND(P17="Muy Alta",T17="Leve"),AND(P17="Muy Alta",T17="Menor"),AND(P17="Muy Alta",T17="Moderado"),AND(P17="Muy Alta",T17="Mayor")),"Alto",IF(OR(AND(P17="Muy Baja",T17="Catastrófico"),AND(P17="Baja",T17="Catastrófico"),AND(P17="Media",T17="Catastrófico"),AND(P17="Alta",T17="Catastrófico"),AND(P17="Muy Alta",T17="Catastrófico")),"Extremo","")))) -> Alto | W17: 1 | X17: El profesional de la Oficina Asesora de Planeación elabora la directiva y envía formato del Plan de Adquisiciones de manera anual a los Subdirectores, jefes de unidad, jefes de Oficina y demás responsables de áreas o servicios, con el fin de emitir los lineamientos para identificación y consolidación de necesidades de bienes y/o servicios a contratar en la siguiente vigencia. | Y17: =IF(OR(Z17="Preventivo",Z17="Detectivo"),"Probabilidad",IF(Z17="Correctivo","Impacto","")) -> Probabilidad | Z17: Preventivo | AA17: Manual | AB17: =IF(AND(Z17="Preventivo",AA17="Automático"),"50%",IF(AND(Z17="Preventivo",AA17="Manual"),"40%",IF(AND(Z17="Detectivo",AA17="Automático"),"40%",IF(AND(Z17="Detectivo",AA17="Manual"),"30%",IF(AND(Z17="Correctivo",AA17="Automático"),"35%",IF(AND(Z17="Correctivo",AA17="Manual"),"25%","")))))) -> 40% | AC17: Documentado | AD17: Continua | AE17: Con Registro | AF17: =IFERROR(IF(Y17="Probabilidad",(Q17-(+Q17*AB17)),IF(Y17="Impacto",Q17,"")),"") -> 0.12 | AG17: =IFERROR(IF(AF17="","",IF(AF17<=0.2,"Muy Baja",IF(AF17<=0.4,"Baja",IF(AF17<=0.6,"Media",IF(AF17<=0.8,"Alta","Muy Alta"))))),"") -> Muy Baja | AH17: =+AF17 -> 0.12 | AI17: =IFERROR(IF(AJ17="","",IF(AJ17<=0.2,"Leve",IF(AJ17<=0.4,"Menor",IF(AJ17<=0.6,"Moderado",IF(AJ17<=0.8,"Mayor","Catastrófico"))))),"") -> Mayor | AJ17: =IFERROR(IF(Y17="Impacto",(U17-(+U17*AB17)),IF(Y17="Probabilidad",U17,"")),"") -> 0.8 | AK17: =IFERROR(IF(OR(AND(AG17="Muy Baja",AI17="Leve"),AND(AG17="Muy Baja",AI17="Menor"),AND(AG17="Baja",AI17="Leve")),"Bajo",IF(OR(AND(AG17="Muy baja",AI17="Moderado"),AND(AG17="Baja",AI17="Menor"),AND(AG17="Baja",AI17="Moderado"),AND(AG17="Media",AI17="Leve"),AND(AG17="Media",AI17="Menor"),AND(AG17="Media",AI17="Moderado"),AND(AG17="Alta",AI17="Leve"),AND(AG17="Alta",AI17="Menor")),"Moderado",IF(OR(AND(AG17="Muy Baja",AI17="Mayor"),AND(AG17="Baja",AI17="Mayor"),AND(AG17="Media",AI17="Mayor"),AND(AG17="Alta",AI17="Moderado"),AND(AG17="Alta",AI17="Mayor"),AND(AG17="Muy Alta",AI17="Leve"),AND(AG17="Muy Alta",AI17="Menor"),AND(AG17="Muy Alta",AI17="Moderado"),AND(AG17="Muy Alta",AI17="Mayor")),"Alto",IF(OR(AND(AG17="Muy Baja",AI17="Catastrófico"),AND(AG17="Baja",AI17="Catastrófico"),AND(AG17="Media",AI17="Catastrófico"),AND(AG17="Alta",AI17="Catastrófico"),AND(AG17="Muy Alta",AI17="Catastrófico")),"Extremo","")))),"") -> Alto | AL17: Reducir (mitigar) | AM17: Realización de mesa de trabajo para la Socialización de la Directiva y diligenciamiento del formato de requerimientos del Plan Anual de Adquisiciones | AN17: Andrea Polanía González | AO17: 04 de Octubre | AP17: 04 de Octubre | AQ17: Acta de reunión, listado de asistencia, envío de correo electrónico con documentos presentados en la socialización | AR17: En curso
W18: 2 | X18: El profesional de la Oficina Asesora de Planeación desarrolla de manera anual mesas de trabajo con jefes de unidad, jefes de oficina y demás responsables de áreas y servicios, según cronograma establecido en la directiva del Plan anual de Adquisiciones, para realizar divulgación de los lineamientos definidos y brindar acompañamiento en la identificación y diligenciamiento de los formatos solicitados, así como para la validación y aprobación de las necesidades proyectadas por cada una de las unidades por parte de los Subdirectores. | Y18: =IF(OR(Z18="Preventivo",Z18="Detectivo"),"Probabilidad",IF(Z18="Correctivo","Impacto","")) -> Probabilidad | Z18: Preventivo | AA18: Manual | AB18: =IF(AND(Z18="Preventivo",AA18="Automático"),"50%",IF(AND(Z18="Preventivo",AA18="Manual"),"40%",IF(AND(Z18="Detectivo",AA18="Automático"),"40%",IF(AND(Z18="Detectivo",AA18="Manual"),"30%",IF(AND(Z18="Correctivo",AA18="Automático"),"35%",IF(AND(Z18="Correctivo",AA18="Manual"),"25%","")))))) -> 40% | AC18: Documentado | AD18: Continua | AE18: Con Registro | AF18: =IFERROR(IF(AND(Y17="Probabilidad",Y18="Probabilidad"),(AH17-(+AH17*AB18)),IF(Y18="Probabilidad",(Q17-(+Q17*AB18)),IF(Y18="Impacto",AH17,""))),"") -> 0.072 | AG18: =IFERROR(IF(AF18="","",IF(AF18<=0.2,"Muy Baja",IF(AF18<=0.4,"Baja",IF(AF18<=0.6,"Media",IF(AF18<=0.8,"Alta","Muy Alta"))))),"") -> Muy Baja | AH18: =+AF18 -> 0.072 | AI18: =IFERROR(IF(AJ18="","",IF(AJ18<=0.2,"Leve",IF(AJ18<=0.4,"Menor",IF(AJ18<=0.6,"Moderado",IF(AJ18<=0.8,"Mayor","Catastrófico"))))),"") -> Mayor | AJ18: =IFERROR(IF(AND(Y17="Impacto",Y18="Impacto"),(AJ17-(+AJ17*AB18)),IF(Y18="Impacto",(U17-(+U17*AB18)),IF(Y18="Probabilidad",AJ17,""))),"") -> 0.8 | AK18: =IFERROR(IF(OR(AND(AG18="Muy Baja",AI18="Leve"),AND(AG18="Muy Baja",AI18="Menor"),AND(AG18="Baja",AI18="Leve")),"Bajo",IF(OR(AND(AG18="Muy baja",AI18="Moderado"),AND(AG18="Baja",AI18="Menor"),AND(AG18="Baja",AI18="Moderado"),AND(AG18="Media",AI18="Leve"),AND(AG18="Media",AI18="Menor"),AND(AG18="Media",AI18="Moderado"),AND(AG18="Alta",AI18="Leve"),AND(AG18="Alta",AI18="Menor")),"Moderado",IF(OR(AND(AG18="Muy Baja",AI18="Mayor"),AND(AG18="Baja",AI18="Mayor"),AND(AG18="Media",AI18="Mayor"),AND(AG18="Alta",AI18="Moderado"),AND(AG18="Alta",AI18="Mayor"),AND(AG18="Muy Alta",AI18="Leve"),AND(AG18="Muy Alta",AI18="Menor"),AND(AG18="Muy Alta",AI18="Moderado"),AND(AG18="Muy Alta",AI18="Mayor")),"Alto",IF(OR(AND(AG18="Muy Baja",AI18="Catastrófico"),AND(AG18="Baja",AI18="Catastrófico"),AND(AG18="Media",AI18="Catastrófico"),AND(AG18="Alta",AI18="Catastrófico"),AND(AG18="Muy Alta",AI18="Catastrófico")),"Extremo","")))),"") -> Alto | AL18: Reducir (mitigar) | AM18: Realización de mesas de trabajo adicionales, para aquellas áreas y/o servicios en los que se hace necesario validar de manera detallada la información remitida o re-valiar requerimientos planteados | AN18: Andrea Polanía González | AO18: 30 de noviembre | AP18: 30 de noviembre | AQ18: Acta de reunión, listado de asistencia, envío de correo electrónico con solicitud de ajustes | AR18: En curso
W19: 3 | X19: El profesional de la Oficina Asesora de Planeación convoca al Comité Institucional de Gestión y Desempeño de manera anual, para la presentación de la desagregación presupuestal según Decreto de Liquidación de la vigencia y aprobación del Plan de Adquisiciones consolidado. | Y19: =IF(OR(Z19="Preventivo",Z19="Detectivo"),"Probabilidad",IF(Z19="Correctivo","Impacto","")) -> Probabilidad | Z19: Preventivo | AA19: Manual | AB19: =IF(AND(Z19="Preventivo",AA19="Automático"),"50%",IF(AND(Z19="Preventivo",AA19="Manual"),"40%",IF(AND(Z19="Detectivo",AA19="Automático"),"40%",IF(AND(Z19="Detectivo",AA19="Manual"),"30%",IF(AND(Z19="Correctivo",AA19="Automático"),"35%",IF(AND(Z19="Correctivo",AA19="Manual"),"25%","")))))) -> 40% | AC19: Documentado | AD19: Continua | AE19: Con Registro | AF19: =IFERROR(IF(AND(Y18="Probabilidad",Y19="Probabilidad"),(AH18-(+AH18*AB19)),IF(Y19="Probabilidad",(Q18-(+Q18*AB19)),IF(Y19="Impacto",AH18,""))),"") -> 0.0432 | AG19: =IFERROR(IF(AF19="","",IF(AF19<=0.2,"Muy Baja",IF(AF19<=0.4,"Baja",IF(AF19<=0.6,"Media",IF(AF19<=0.8,"Alta","Muy Alta"))))),"") -> Muy Baja | AH19: =+AF19 -> 0.0432 | AI19: =IFERROR(IF(AJ19="","",IF(AJ19<=0.2,"Leve",IF(AJ19<=0.4,"Menor",IF(AJ19<=0.6,"Moderado",IF(AJ19<=0.8,"Mayor","Catastrófico"))))),"") -> Mayor | AJ19: =IFERROR(IF(AND(Y18="Impacto",Y19="Impacto"),(AJ18-(+AJ18*AB19)),IF(AND(Y18="Probabilidad",Y19="Impacto"),(AJ17-(+AJ17*AB19)),IF(Y19="Probabilidad",AJ18,""))),"") -> 0.8 | AK19: =IFERROR(IF(OR(AND(AG19="Muy Baja",AI19="Leve"),AND(AG19="Muy Baja",AI19="Menor"),AND(AG19="Baja",AI19="Leve")),"Bajo",IF(OR(AND(AG19="Muy baja",AI19="Moderado"),AND(AG19="Baja",AI19="Menor"),AND(AG19="Baja",AI19="Moderado"),AND(AG19="Media",AI19="Leve"),AND(AG19="Media",AI19="Menor"),AND(AG19="Media",AI19="Moderado"),AND(AG19="Alta",AI19="Leve"),AND(AG19="Alta",AI19="Menor")),"Moderado",IF(OR(AND(AG19="Muy Baja",AI19="Mayor"),AND(AG19="Baja",AI19="Mayor"),AND(AG19="Media",AI19="Mayor"),AND(AG19="Alta",AI19="Moderado"),AND(AG19="Alta",AI19="Mayor"),AND(AG19="Muy Alta",AI19="Leve"),AND(AG19="Muy Alta",AI19="Menor"),AND(AG19="Muy Alta",AI19="Moderado"),AND(AG19="Muy Alta",AI19="Mayor")),"Alto",IF(OR(AND(AG19="Muy Baja",AI19="Catastrófico"),AND(AG19="Baja",AI19="Catastrófico"),AND(AG19="Media",AI19="Catastrófico"),AND(AG19="Alta",AI19="Catastrófico"),AND(AG19="Muy Alta",AI19="Catastrófico")),"Extremo","")))),"") -> Alto | AL19: Reducir (mitigar)
A20: 4 | B20: OAP_02 | C20: Planeación | D20: Oficina Asesora de Planeación | E20: Económico y Reputacional | F20: Multas, sanciones por parte de entes de control y desconfianza por parte de la ciudadanía, grupos de valor, usuarios internos y externos. | G20: Fallas en la verificación de la información reportada en el aplicativo (Suite Visión Empresarial) y errores en la transcripción y procesamiento de datos. | H20: Posibilidad de afectación económica y reputacional por multas, sanciones por parte de entes de control y desconfianza por parte de la ciudadanía, grupos de valor, usuarios internos y externos, debido a fallas en la verificación de la información reportada en el aplicativo (Suite Visión Empresarial) y errores en la transcripción y procesamiento de datos. | I20: N/A | J20: N/A | K20: N/A | L20: N/A | M20: Ejecución y Administración de procesos | O20: 12 | P20: =IF(O20<=0,"",IF(O20<=2,"Muy Baja",IF(O20<=24,"Baja",IF(O20<=500,"Media",IF(O20<=5000,"Alta","Muy Alta"))))) -> Baja | Q20: =IF(P20="","",IF(P20="Muy Baja",0.2,IF(P20="Baja",0.4,IF(P20="Media",0.6,IF(P20="Alta",0.8,IF(P20="Muy Alta",1,)))))) -> 0.4 | R20: El riesgo afecta la imagen de la entidad con algunos usuarios de relevancia frente al logro de los objetivos | S20: =IF(NOT(ISERROR(MATCH(R20,'Tabla Impacto'!$B$221:$B$224,0))),'Tabla Impacto'!$F$224&"Por favor no seleccionar los criterios de impacto(Afectación Económica o presupuestal y Pérdida Reputacional)",R20) -> El riesgo afecta la imagen de la entidad con algunos usuarios de relevancia frente al logro de los objetivos | T20: =+IF(OR(S20='Tabla Impacto'!$C$11,S20='Tabla Impacto'!$D$11),"Leve",IF(OR(S20='Tabla Impacto'!$C$12,S20='Tabla Impacto'!$D$12),"Menor",IF(OR(S20='Tabla Impacto'!$C$13,S20='Tabla Impacto'!$D$13,S20='Tabla Impacto'!$E$13),"Moderado",IF(OR(S20='Tabla Impacto'!$C$14,S20='Tabla Impacto'!$D$14,S20='Tabla Impacto'!$E$14),"Mayor",IF(OR(S20='Tabla Impacto'!$C$15,S20='Tabla Impacto'!$D$15,S20='Tabla Impacto'!$E$15),"Catastrófico",""))))) -> Moderado | U20: =IF(T20="","",IF(T20="Leve",0.2,IF(T20="Menor",0.4,IF(T20="Moderado",0.6,IF(T20="Mayor",0.8,IF(T20="Catastrófico",1,)))))) -> 0.6 | V20: =IF(OR(AND(P20="Muy Baja",T20="Leve"),AND(P20="Muy Baja",T20="Menor"),AND(P20="Baja",T20="Leve")),"Bajo",IF(OR(AND(P20="Muy baja",T20="Moderado"),AND(P20="Baja",T20="Menor"),AND(P20="Baja",T20="Moderado"),AND(P20="Media",T20="Leve"),AND(P20="Media",T20="Menor"),AND(P20="Media",T20="Moderado"),AND(P20="Alta",T20="Leve"),AND(P20="Alta",T20="Menor")),"Moderado",IF(OR(AND(P20="Muy Baja",T20="Mayor"),AND(P20="Baja",T20="Mayor"),AND(P20="Media",T20="Mayor"),AND(P20="Alta",T20="Moderado"),AND(P20="Alta",T20="Mayor"),AND(P20="Muy Alta",T20="Leve"),AND(P20="Muy Alta",T20="Menor"),AND(P20="Muy Alta",T20="Moderado"),AND(P20="Muy Alta",T20="Mayor")),"Alto",IF(OR(AND(P20="Muy Baja",T20="Catastrófico"),AND(P20="Baja",T20="Catastrófico"),AND(P20="Media",T20="Catastrófico"),AND(P20="Alta",T20="Catastrófico"),AND(P20="Muy Alta",T20="Catastrófico")),"Extremo","")))) -> Moderado | W20: 1 | X20: El profesional de la Oficina Asesora de Planeación realiza trimestralmente la verificación de datos de los indicadores estratégicos, comparando lo reportado en el aplicativo (Suite Visión Empresarial) Vs el formato PL-OAPL-PR-09-FT-02, con el fin de cotejar la información suministrada por parte de las dependencias. Nota: Teniendo en cuenta que el análisis y el cruce de la información de resultados de los indicadores y actividades estratégicas del PAI en el aplicativo vs formato PL-OAPL-PR-09-FT-02 se realizan un mes posterior al cierre trimestral, la aplicación del control se efectuará y se reportará de la siguiente manera: Primer monitoreo: Control aplicado del IV Trimestre de la vigencia anterior. Segundo monitoreo: Control aplicado del I Trimestre de la presente vigencia. Tercer monitoreo: Control aplicado del II Trimestre de la presente vigencia. Cuarto monitoreo: Control aplicado del III Trimestre de la presente vigencia. | Y20: =IF(OR(Z20="Preventivo",Z20="Detectivo"),"Probabilidad",IF(Z20="Correctivo","Impacto","")) -> Probabilidad | Z20: Detectivo | AA20: Manual | AB20: =IF(AND(Z20="Preventivo",AA20="Automático"),"50%",IF(AND(Z20="Preventivo",AA20="Manual"),"40%",IF(AND(Z20="Detectivo",AA20="Automático"),"40%",IF(AND(Z20="Detectivo",AA20="Manual"),"30%",IF(AND(Z20="Correctivo",AA20="Automático"),"35%",IF(AND(Z20="Correctivo",AA20="Manual"),"25%","")))))) -> 30% | AC20: Documentado | AD20: Continua | AE20: Con Registro | AF20: =IFERROR(IF(Y20="Probabilidad",(Q20-(+Q20*AB20)),IF(Y20="Impacto",Q20,"")),"") -> 0.28 | AG20: =IFERROR(IF(AF20="","",IF(AF20<=0.2,"Muy Baja",IF(AF20<=0.4,"Baja",IF(AF20<=0.6,"Media",IF(AF20<=0.8,"Alta","Muy Alta"))))),"") -> Baja | AH20: =+AF20 -> 0.28 | AI20: =IFERROR(IF(AJ20="","",IF(AJ20<=0.2,"Leve",IF(AJ20<=0.4,"Menor",IF(AJ20<=0.6,"Moderado",IF(AJ20<=0.8,"Mayor","Catastrófico"))))),"") -> Moderado | AJ20: =IFERROR(IF(Y20="Impacto",(U20-(+U20*AB20)),IF(Y20="Probabilidad",U20,"")),"") -> 0.6 | AK20: =IFERROR(IF(OR(AND(AG20="Muy Baja",AI20="Leve"),AND(AG20="Muy Baja",AI20="Menor"),AND(AG20="Baja",AI20="Leve")),"Bajo",IF(OR(AND(AG20="Muy baja",AI20="Moderado"),AND(AG20="Baja",AI20="Menor"),AND(AG20="Baja",AI20="Moderado"),AND(AG20="Media",AI20="Leve"),AND(AG20="Media",AI20="Menor"),AND(AG20="Media",AI20="Moderado"),AND(AG20="Alta",AI20="Leve"),AND(AG20="Alta",AI20="Menor")),"Moderado",IF(OR(AND(AG20="Muy Baja",AI20="Mayor"),AND(AG20="Baja",AI20="Mayor"),AND(AG20="Media",AI20="Mayor"),AND(AG20="Alta",AI20="Moderado"),AND(AG20="Alta",AI20="Mayor"),AND(AG20="Muy Alta",AI20="Leve"),AND(AG20="Muy Alta",AI20="Menor"),AND(AG20="Muy Alta",AI20="Moderado"),AND(AG20="Muy Alta",AI20="Mayor")),"Alto",IF(OR(AND(AG20="Muy Baja",AI20="Catastrófico"),AND(AG20="Baja",AI20="Catastrófico"),AND(AG20="Media",AI20="Catastrófico"),AND(AG20="Alta",AI20="Catastrófico"),AND(AG20="Muy Alta",AI20="Catastrófico")),"Extremo","")))),"") -> Moderado
W21: 2 | X21: El profesional de la Oficina Asesora de Planeación realiza mesas de trabajo cada vez que sea requerido, para validar y verificar los resultados trimestrales obtenidos en los indicadores y actividades estratégicas que conforman el Plan de Acción Institucional, con Subdirectores y Jefes de Unidad. Soporte: Actas de reunión. Nota: Teniendo en cuenta que la validación y verificación de los resultados de los indicadores y actividades estratégicas del PAI se realizan un mes posterior al cierre trimestral, la aplicación del control se efectuará y se reportará de la siguiente manera: Primer monitoreo: Control aplicado del IV Trimestre de la vigencia anterior. Segundo monitoreo: Control aplicado del I Trimestre de la presente vigencia. Tercer monitoreo: Control aplicado del II Trimestre de la presente vigencia. Cuarto monitoreo: Control aplicado del III Trimestre de la presente vigencia. | Y21: =IF(OR(Z21="Preventivo",Z21="Detectivo"),"Probabilidad",IF(Z21="Correctivo","Impacto","")) -> Probabilidad | Z21: Detectivo | AA21: Manual | AB21: =IF(AND(Z21="Preventivo",AA21="Automático"),"50%",IF(AND(Z21="Preventivo",AA21="Manual"),"40%",IF(AND(Z21="Detectivo",AA21="Automático"),"40%",IF(AND(Z21="Detectivo",AA21="Manual"),"30%",IF(AND(Z21="Correctivo",AA21="Automático"),"35%",IF(AND(Z21="Correctivo",AA21="Manual"),"25%","")))))) -> 30% | AC21: Documentado | AD21: Continua | AE21: Con Registro | AF21: =IFERROR(IF(AND(Y20="Probabilidad",Y21="Probabilidad"),(AH20-(+AH20*AB21)),IF(Y21="Probabilidad",(Q20-(+Q20*AB21)),IF(Y21="Impacto",AH20,""))),"") -> 0.196 | AG21: =IFERROR(IF(AF21="","",IF(AF21<=0.2,"Muy Baja",IF(AF21<=0.4,"Baja",IF(AF21<=0.6,"Media",IF(AF21<=0.8,"Alta","Muy Alta"))))),"") -> Muy Baja | AH21: =+AF21 -> 0.196 | AI21: =IFERROR(IF(AJ21="","",IF(AJ21<=0.2,"Leve",IF(AJ21<=0.4,"Menor",IF(AJ21<=0.6,"Moderado",IF(AJ21<=0.8,"Mayor","Catastrófico"))))),"") -> Moderado | AJ21: =IFERROR(IF(AND(Y20="Impacto",Y21="Impacto"),(AJ20-(+AJ20*AB21)),IF(Y21="Impacto",(U20-(+U20*AB21)),IF(Y21="Probabilidad",AJ20,""))),"") -> 0.6 | AK21: =IFERROR(IF(OR(AND(AG21="Muy Baja",AI21="Leve"),AND(AG21="Muy Baja",AI21="Menor"),AND(AG21="Baja",AI21="Leve")),"Bajo",IF(OR(AND(AG21="Muy baja",AI21="Moderado"),AND(AG21="Baja",AI21="Menor"),AND(AG21="Baja",AI21="Moderado"),AND(AG21="Media",AI21="Leve"),AND(AG21="Media",AI21="Menor"),AND(AG21="Media",AI21="Moderado"),AND(AG21="Alta",AI21="Leve"),AND(AG21="Alta",AI21="Menor")),"Moderado",IF(OR(AND(AG21="Muy Baja",AI21="Mayor"),AND(AG21="Baja",AI21="Mayor"),AND(AG21="Media",AI21="Mayor"),AND(AG21="Alta",AI21="Moderado"),AND(AG21="Alta",AI21="Mayor"),AND(AG21="Muy Alta",AI21="Leve"),AND(AG21="Muy Alta",AI21="Menor"),AND(AG21="Muy Alta",AI21="Moderado"),AND(AG21="Muy Alta",AI21="Mayor")),"Alto",IF(OR(AND(AG21="Muy Baja",AI21="Catastrófico"),AND(AG21="Baja",AI21="Catastrófico"),AND(AG21="Media",AI21="Catastrófico"),AND(AG21="Alta",AI21="Catastrófico"),AND(AG21="Muy Alta",AI21="Catastrófico")),"Extremo","")))),"") -> Moderado
A22: 5 | B22: OAP_03 | C22: Planeación | D22: Oficina Asesora de Planeación | E22: Reputacional | F22: Pérdida de credibilidad y desconfianza por parte de la ciudadanía, grupos de valor y usuarios internos y externos. | G22: Respuestas inexactas o sin soportes en el Formulario Único de Avances de la Gestión - FURAG, por parte de las áreas y servicios de la entidad. | H22: Posibilidad de afectación reputacional por pérdida de credibilidad y desconfianza por parte de la ciudadanía, grupos de valor y usuarios internos y externos, debido a respuestas inexactas o sin soportes en el Formulario Único de Avances de la Gestión - FURAG, por parte de las áreas y servicios de la entidad. | I22: N/A | J22: N/A | K22: N/A | L22: N/A | M22: Ejecución y Administración de procesos | O22: 1 | P22: =IF(O22<=0,"",IF(O22<=2,"Muy Baja",IF(O22<=24,"Baja",IF(O22<=500,"Media",IF(O22<=5000,"Alta","Muy Alta"))))) -> Muy Baja | Q22: =IF(P22="","",IF(P22="Muy Baja",0.2,IF(P22="Baja",0.4,IF(P22="Media",0.6,IF(P22="Alta",0.8,IF(P22="Muy Alta",1,)))))) -> 0.2 | R22: El riesgo afecta la imagen de de la entidad con efecto publicitario sostenido a nivel de sector administrativo, nivel departamental o municipal | S22: =IF(NOT(ISERROR(MATCH(R22,'Tabla Impacto'!$B$221:$B$224,0))),'Tabla Impacto'!$F$224&"Por favor no seleccionar los criterios de impacto(Afectación Económica o presupuestal y Pérdida Reputacional)",R22) -> El riesgo afecta la imagen de de la entidad con efecto publicitario sostenido a nivel de sector administrativo, nivel departamental o municipal | T22: =+IF(OR(S22='Tabla Impacto'!$C$11,S22='Tabla Impacto'!$D$11),"Leve",IF(OR(S22='Tabla Impacto'!$C$12,S22='Tabla Impacto'!$D$12),"Menor",IF(OR(S22='Tabla Impacto'!$C$13,S22='Tabla Impacto'!$D$13,S22='Tabla Impacto'!$E$13),"Moderado",IF(OR(S22='Tabla Impacto'!$C$14,S22='Tabla Impacto'!$D$14,S22='Tabla Impacto'!$E$14),"Mayor",IF(OR(S22='Tabla Impacto'!$C$15,S22='Tabla Impacto'!$D$15,S22='Tabla Impacto'!$E$15),"Catastrófico",""))))) -> Mayor | U22: =IF(T22="","",IF(T22="Leve",0.2,IF(T22="Menor",0.4,IF(T22="Moderado",0.6,IF(T22="Mayor",0.8,IF(T22="Catastrófico",1,)))))) -> 0.8 | V22: =IF(OR(AND(P22="Muy Baja",T22="Leve"),AND(P22="Muy Baja",T22="Menor"),AND(P22="Baja",T22="Leve")),"Bajo",IF(OR(AND(P22="Muy baja",T22="Moderado"),AND(P22="Baja",T22="Menor"),AND(P22="Baja",T22="Moderado"),AND(P22="Media",T22="Leve"),AND(P22="Media",T22="Menor"),AND(P22="Media",T22="Moderado"),AND(P22="Alta",T22="Leve"),AND(P22="Alta",T22="Menor")),"Moderado",IF(OR(AND(P22="Muy Baja",T22="Mayor"),AND(P22="Baja",T22="Mayor"),AND(P22="Media",T22="Mayor"),AND(P22="Alta",T22="Moderado"),AND(P22="Alta",T22="Mayor"),AND(P22="Muy Alta",T22="Leve"),AND(P22="Muy Alta",T22="Menor"),AND(P22="Muy Alta",T22="Moderado"),AND(P22="Muy Alta",T22="Mayor")),"Alto",IF(OR(AND(P22="Muy Baja",T22="Catastrófico"),AND(P22="Baja",T22="Catastrófico"),AND(P22="Media",T22="Catastrófico"),AND(P22="Alta",T22="Catastrófico"),AND(P22="Muy Alta",T22="Catastrófico")),"Extremo","")))) -> Alto | W22: 1 | X22: El profesional de la Oficina Asesora de Planeación envía anualmente vía correo electrónico el Formulario Único de Reporte de Avances de la Gestión - Furag de la vigencia evaluada a los Jefes de Unidad, líderes de proceso y demás responsables del diligenciamiento del furag, con el fin de revisar y dar repuesta según corresponda a cada una de las diferentes políticas del Modelo Integrado de Planeación y Gestión. | Y22: =IF(OR(Z22="Preventivo",Z22="Detectivo"),"Probabilidad",IF(Z22="Correctivo","Impacto","")) -> Probabilidad | Z22: Preventivo | AA22: Manual | AB22: =IF(AND(Z22="Preventivo",AA22="Automático"),"50%",IF(AND(Z22="Preventivo",AA22="Manual"),"40%",IF(AND(Z22="Detectivo",AA22="Automático"),"40%",IF(AND(Z22="Detectivo",AA22="Manual"),"30%",IF(AND(Z22="Correctivo",AA22="Automático"),"35%",IF(AND(Z22="Correctivo",AA22="Manual"),"25%","")))))) -> 40% | AC22: Sin Documentar | AD22: Continua | AE22: Con Registro | AF22: =IFERROR(IF(Y22="Probabilidad",(Q22-(+Q22*AB22)),IF(Y22="Impacto",Q22,"")),"") -> 0.12 | AG22: =IFERROR(IF(AF22="","",IF(AF22<=0.2,"Muy Baja",IF(AF22<=0.4,"Baja",IF(AF22<=0.6,"Media",IF(AF22<=0.8,"Alta","Muy Alta"))))),"") -> Muy Baja | AH22: =+AF22 -> 0.12 | AI22: =IFERROR(IF(AJ22="","",IF(AJ22<=0.2,"Leve",IF(AJ22<=0.4,"Menor",IF(AJ22<=0.6,"Moderado",IF(AJ22<=0.8,"Mayor","Catastrófico"))))),"") -> Mayor | AJ22: =IFERROR(IF(Y22="Impacto",(U22-(+U22*AB22)),IF(Y22="Probabilidad",U22,"")),"") -> 0.8 | AK22: =IFERROR(IF(OR(AND(AG22="Muy Baja",AI22="Leve"),AND(AG22="Muy Baja",AI22="Menor"),AND(AG22="Baja",AI22="Leve")),"Bajo",IF(OR(AND(AG22="Muy baja",AI22="Moderado"),AND(AG22="Baja",AI22="Menor"),AND(AG22="Baja",AI22="Moderado"),AND(AG22="Media",AI22="Leve"),AND(AG22="Media",AI22="Menor"),AND(AG22="Media",AI22="Moderado"),AND(AG22="Alta",AI22="Leve"),AND(AG22="Alta",AI22="Menor")),"Moderado",IF(OR(AND(AG22="Muy Baja",AI22="Mayor"),AND(AG22="Baja",AI22="Mayor"),AND(AG22="Media",AI22="Mayor"),AND(AG22="Alta",AI22="Moderado"),AND(AG22="Alta",AI22="Mayor"),AND(AG22="Muy Alta",AI22="Leve"),AND(AG22="Muy Alta",AI22="Menor"),AND(AG22="Muy Alta",AI22="Moderado"),AND(AG22="Muy Alta",AI22="Mayor")),"Alto",IF(OR(AND(AG22="Muy Baja",AI22="Catastrófico"),AND(AG22="Baja",AI22="Catastrófico"),AND(AG22="Media",AI22="Catastrófico"),AND(AG22="Alta",AI22="Catastrófico"),AND(AG22="Muy Alta",AI22="Catastrófico")),"Extremo","")))),"") -> Alto | AL22: Reducir (mitigar) | AM22: Validación de preguntas FURAG Vs soportes y/o evidencias entregados por los Jefes de Unidad y/o Jefes de Oficina. | AN22: Nicolás Corredor Ramírez | AO22: 30 de Junio | AP22: 30 de Junio | AQ22: Repositorio Documental (GoogleDrive) | AR22: En curso
W23: 2 | X23: Los Jefes de Unidad, Líderes de Proceso y demás responsables del reporte del Formulario Único de Reporte de Avances de la Gestión, envían anualmente al Profesional de la Oficina Asesora de Planeación el Furag diligenciado según corresponda, junto con los soportes de respuesta de cada pregunta, con el fin de garantizar el total diligenciamiento y cumplimiento a la normatividad legal vigente aplicable a la entidad. | Y23: =IF(OR(Z23="Preventivo",Z23="Detectivo"),"Probabilidad",IF(Z23="Correctivo","Impacto","")) -> Probabilidad | Z23: Preventivo | AA23: Manual | AB23: =IF(AND(Z23="Preventivo",AA23="Automático"),"50%",IF(AND(Z23="Preventivo",AA23="Manual"),"40%",IF(AND(Z23="Detectivo",AA23="Automático"),"40%",IF(AND(Z23="Detectivo",AA23="Manual"),"30%",IF(AND(Z23="Correctivo",AA23="Automático"),"35%",IF(AND(Z23="Correctivo",AA23="Manual"),"25%","")))))) -> 40% | AC23: Sin Documentar | AD23: Continua | AE23: Con Registro | AF23: =IFERROR(IF(AND(Y22="Probabilidad",Y23="Probabilidad"),(AH22-(+AH22*AB23)),IF(Y23="Probabilidad",(Q22-(+Q22*AB23)),IF(Y23="Impacto",AH22,""))),"") -> 0.072 | AG23: =IFERROR(IF(AF23="","",IF(AF23<=0.2,"Muy Baja",IF(AF23<=0.4,"Baja",IF(AF23<=0.6,"Media",IF(AF23<=0.8,"Alta","Muy Alta"))))),"") -> Muy Baja | AH23: =+AF23 -> 0.072 | AI23: =IFERROR(IF(AJ23="","",IF(AJ23<=0.2,"Leve",IF(AJ23<=0.4,"Menor",IF(AJ23<=0.6,"Moderado",IF(AJ23<=0.8,"Mayor","Catastrófico"))))),"") -> Mayor | AJ23: =IFERROR(IF(AND(Y22="Impacto",Y23="Impacto"),(AJ22-(+AJ22*AB23)),IF(Y23="Impacto",(U22-(+U22*AB23)),IF(Y23="Probabilidad",AJ22,""))),"") -> 0.8 | AK23: =IFERROR(IF(OR(AND(AG23="Muy Baja",AI23="Leve"),AND(AG23="Muy Baja",AI23="Menor"),AND(AG23="Baja",AI23="Leve")),"Bajo",IF(OR(AND(AG23="Muy baja",AI23="Moderado"),AND(AG23="Baja",AI23="Menor"),AND(AG23="Baja",AI23="Moderado"),AND(AG23="Media",AI23="Leve"),AND(AG23="Media",AI23="Menor"),AND(AG23="Media",AI23="Moderado"),AND(AG23="Alta",AI23="Leve"),AND(AG23="Alta",AI23="Menor")),"Moderado",IF(OR(AND(AG23="Muy Baja",AI23="Mayor"),AND(AG23="Baja",AI23="Mayor"),AND(AG23="Media",AI23="Mayor"),AND(AG23="Alta",AI23="Moderado"),AND(AG23="Alta",AI23="Mayor"),AND(AG23="Muy Alta",AI23="Leve"),AND(AG23="Muy Alta",AI23="Menor"),AND(AG23="Muy Alta",AI23="Moderado"),AND(AG23="Muy Alta",AI23="Mayor")),"Alto",IF(OR(AND(AG23="Muy Baja",AI23="Catastrófico"),AND(AG23="Baja",AI23="Catastrófico"),AND(AG23="Media",AI23="Catastrófico"),AND(AG23="Alta",AI23="Catastrófico"),AND(AG23="Muy Alta",AI23="Catastrófico")),"Extremo","")))),"") -> Alto | AL23: Reducir (mitigar)
W24: 3 | X24: El profesional de la Oficina Asesora de Planeación, diligencia anualmente la herramienta el línea del Formulario Único de Avances de la Gestión - FURAG, con el fin de dar cumplimiento a la normatividad vigente aplicable a la entidad. | Y24: =IF(OR(Z24="Preventivo",Z24="Detectivo"),"Probabilidad",IF(Z24="Correctivo","Impacto","")) -> Probabilidad | Z24: Preventivo | AA24: Manual | AB24: =IF(AND(Z24="Preventivo",AA24="Automático"),"50%",IF(AND(Z24="Preventivo",AA24="Manual"),"40%",IF(AND(Z24="Detectivo",AA24="Automático"),"40%",IF(AND(Z24="Detectivo",AA24="Manual"),"30%",IF(AND(Z24="Correctivo",AA24="Automático"),"35%",IF(AND(Z24="Correctivo",AA24="Manual"),"25%","")))))) -> 40% | AC24: Sin Documentar | AD24: Continua | AE24: Con Registro | AF24: =IFERROR(IF(AND(Y23="Probabilidad",Y24="Probabilidad"),(AH23-(+AH23*AB24)),IF(Y24="Probabilidad",(Q23-(+Q23*AB24)),IF(Y24="Impacto",AH23,""))),"") -> 0.0432 | AG24: =IFERROR(IF(AF24="","",IF(AF24<=0.2,"Muy Baja",IF(AF24<=0.4,"Baja",IF(AF24<=0.6,"Media",IF(AF24<=0.8,"Alta","Muy Alta"))))),"") -> Muy Baja | AH24: =+AF24 -> 0.0432 | AI24: =IFERROR(IF(AJ24="","",IF(AJ24<=0.2,"Leve",IF(AJ24<=0.4,"Menor",IF(AJ24<=0.6,"Moderado",IF(AJ24<=0.8,"Mayor","Catastrófico"))))),"") -> Mayor | AJ24: =IFERROR(IF(AND(Y23="Impacto",Y24="Impacto"),(AJ23-(+AJ23*AB24)),IF(AND(Y23="Probabilidad",Y24="Impacto"),(AJ22-(+AJ22*AB24)),IF(Y24="Probabilidad",AJ23,""))),"") -> 0.8 | AK24: =IFERROR(IF(OR(AND(AG24="Muy Baja",AI24="Leve"),AND(AG24="Muy Baja",AI24="Menor"),AND(AG24="Baja",AI24="Leve")),"Bajo",IF(OR(AND(AG24="Muy baja",AI24="Moderado"),AND(AG24="Baja",AI24="Menor"),AND(AG24="Baja",AI24="Moderado"),AND(AG24="Media",AI24="Leve"),AND(AG24="Media",AI24="Menor"),AND(AG24="Media",AI24="Moderado"),AND(AG24="Alta",AI24="Leve"),AND(AG24="Alta",AI24="Menor")),"Moderado",IF(OR(AND(AG24="Muy Baja",AI24="Mayor"),AND(AG24="Baja",AI24="Mayor"),AND(AG24="Media",AI24="Mayor"),AND(AG24="Alta",AI24="Moderado"),AND(AG24="Alta",AI24="Mayor"),AND(AG24="Muy Alta",AI24="Leve"),AND(AG24="Muy Alta",AI24="Menor"),AND(AG24="Muy Alta",AI24="Moderado"),AND(AG24="Muy Alta",AI24="Mayor")),"Alto",IF(OR(AND(AG24="Muy Baja",AI24="Catastrófico"),AND(AG24="Baja",AI24="Catastrófico"),AND(AG24="Media",AI24="Catastrófico"),AND(AG24="Alta",AI24="Catastrófico"),AND(AG24="Muy Alta",AI24="Catastrófico")),"Extremo","")))),"") -> Alto | AL24: Reducir (mitigar)
