Workbook

Sheet Intructivo
B2: Matriz Mapa de Riesgos
B4: Teniendo en cuenta que con la expedición del Decreto 1499 de 2017 “Por medio del cual se modifica el Decreto 1083 de 2015, Decreto Único Reglamentario del Sector Función Pública, en lo relacionado con el Sistema de Gestión establecido en el artículo 133 de la Ley 1753 de 2015”, se crea un solo Sistema de Gestión y se alinea con el Sistema de Control Interno, hoy todas las entidades públicas requieren actualizar y/o implementar el Modelo Integrado de Planeación y Gestión MIPG, modelo que incorpora el Modelo Estándar de Control Interno MECI a través de la 7a dimensión del mismo. En este marco general, el proceso de administración del riesgo es un esfuerzo conjunto entre la Alta Dirección y los servidores en todos sus niveles, ejercicio que inicia con la formulación de la política de Administración del Riesgo, la cual incluye los niveles de responsabilidad frente al seguimiento y evaluación, aspectos que deberán definirse acorde con el Esquema de Líneas de Defensa vinculado a la Dimensión 7. Teniendo en cuenta lo anterior y dada la necesidad de las entidades frente a la estructuración de los mapas de riesgos, como herramienta fundamental frente a la gestión del riesgo, el presente formato desarrolla un esquema completo acorde con los contenidos metodológicos de la Guía para la Administración del Riesgo y el diseño de controles V5. El formato cuenta con celdas parametrizadas y permite contar con los respectivos mapas de calor para riesgo inherente y riesgo residual.
B6: Orientaciones Generales
B7: Antes de iniciar con el diligenciamiento de la información en la matriz, se requiere haber avanzado en el análisis del proceso, su objetivo, alcance, actividades clave, considere los lineamientos establecidos en el Paso 2: identificación del riesgo, donde se explica ampliamente las bases para adelanter este análisis. Así mismo, considere en el Paso 3: valoración del riesgo los lineamientos para definir el No. de veces que se hace la actividad con la cual se relaciona el riesgo y su impacto en términos económicos o reputacionales. En este mismo paso se analizan los controles que deben responder a los atributos de eficiencia e informativos. NOTA: Si lo considera pertinente, es posible agregar hojas de trabajo adicionales al presente formato que permitan incluir la traza de estos análisis.
B9: El archivo contiene las siguientes hojas: - Hoja 1 Instructivo - Hoja 2 Mapa Final: Encontrará la totalidad de la estructura para la identificación y valoración de los riesgos por proceso, programa o proyecto, acorde con el nivel de desagregación que la entidad considere necesaria.
C12: Columna | E12: Descripción - Lineamientos para el diligenciamiento
C13: Proceso | E13: Diligencie el nombre del proceso al cual se le identificarán y valorarán los riesgos.
C14: Objetivo | E14: Diligencie el objetivo del proceso.
C15: Alcance | E15: Diligencie el alcance del proceso.
C16: Referencia | E16: Permite definir unl consecutivo de riesgos. Una entidad puede ir en el riesgo 150, pero tener 70 riesgos, lo que permite llevar una traza de los riesgos. Esta información la debe administrar la oficina asesora de planeación o gerencia de riesgos. Cuando un el riesgo salga del mapa no existirá otro riesgo con el mismo número.
C17: Impacto | E17: Analice las consecuencias que puede ocasionar a la organización la materialización del riesgo, redacte de la forma más concreta posible.
C18: Causa Inmediata | E18: Circunstancias bajo las cuales se presenta el riesgo, es la situación más evidente frente al riesgo, redacte de la forma más concreta posible.
C19: Causa Raíz | E19: Causa principal o básica, corresponde a las razones por la cuales se puede presentar el riesgo, redacte de la forma más concreta posible.
C20: Descripción del Riesgo | E20: Consolida o resume los análisis sobre impacto + causa inmediata + causa raíz, permitiendo contar con una redacción clara y concreta del riesgo indentificado. Tenga en cuenta la estructura de alto nivel establecida en al guía, inicia con POSIBILIDAD DE + Impacto para la entidad (Qué) + Causa Inmediata (Cómo) + Causa Raíz (Por qué)
C21: Clasificación del Riesgo | E21: Utilice la lista de despligue que se encuentra parametrizada, le aparecerán las opciones: i)Daños Activos Fisicos, ii)Ejecucion y Administracion de procesos, iii)Fallas Tecnologicas, iv)Fraude Externo, v)Fraude Interno, vi)Relaciones Laborales, vii)Usuarios, productos y practicas organizacionales.
C22: Frecuencia con la cual se lleva a cabo la actividad | E22: Defina el # de veces que se ejecuta la actividad durante el año, (Recuerde la probabilidad e ocurrencia del riesgo se defien como el No. de veces que se pasa por el punto de riesgo en el periodo de 1 año). La matriz automáticamente hará el cálculo para el nivel de probabilidad inherente (Columnas H-I)
C23: Criterios de Impacto | E23: Utilice la lista de despligue que se encuentra parametrizada, le aparecerán las opciones de la tabla de Impacto en la Hoja 6 del presente documento. La matriz automáticamente hará el cálculo para el nivel de impacto inherente (Columnas L-M)
... C37: Estado | E37: Utilice la lista de despligue que se encuentra parametrizada, le aparecerán las opciones: i)Finalizado, ii)En curso, la selección en este caso dependerá de las acciones del plan que se hayan establecido en cada caso.
B40: - Hoja 3 Matriz de Calor Inherente: En esta hoja, en la medida en que ese diligencia el Mapa Final, se verán reflejados los riesgos en su zona correspondiente. Esta hoja no se diligencia se genera de manera automática.
B41: - Hoja 4 Matriz de Calor Residual: En esta hoja, en la medida en que ese diligencia el Mapa Final, se verán reflejados los riesgos en su zona correspondiente. Esta hoja no se diligencia se genera de manera automática.
B42: - Hoja 5 Tabla de probabilidad: Tabla referente para todos los cálculos (no se diligencia)
B43: - Hoja 6 Tabla de Impacto: Tabla referente para todos los cálculos (no se diligencia)
B44: - Hoja 7 Tabla de Valoración de Controles: Tabla referente para todos los cálculos (no se diligencia)

Sheet Mapa final
A1: HOSPITAL MILITAR CENTRAL | H1: FORMATO: MAPA DE RIESGOS POR PROCESO | AP1: CÓDIGO: PL-OAPL-PR-05-FT-02
H2: OFICINA: ASESORA DE PLANEACION
AP3: FECHA DE EMISIÓN: 12-08-2022
H4: PROCESO: PLANEACION | AP4: VERSIÓN: 08
H5: SISTEMA DE GESTION INTEGRADO SGI | AP5: Página 1 de 1
A7: Proceso: | F7: MAPA DE RIESGOS INSTITUCIONAL 2024 V.1 - Aprobado mediante acta de Comité Institucional de Gestión y Desempaño del día 20 de Enero de 2024.
A8: Objetivo: | F8: Establecer un marco de referencia general que involucre a todos los servidores públicos y contratistas del HOSPITAL MILITAR CENTRAL para la adecuada gestión del riesgo, por medio de la identificación de acciones de control, respuestas oportunas y estrategias institucionales frente a las diferentes situaciones que puedan afectar el cumplimiento de la misionalidad y el logro de los objetivos institucionales.
A9: Alcance: | F9: La administración del riesgo es aplicable a todas las dependencias, procesos, proyectos y planes institucionales, con el fin de identificar, analizar, valorar, monitorear y dar tratamiento a los riesgos identificados durante el desarrollo de la gestión planificada y a todos los servidores públicos y contratistas en el ejercicio de sus funciones y obligaciones.
A10: Identificación del riesgo | P10: Análisis del riesgo inherente | W10: Evaluación del riesgo - Valoración de los controles | AF10: Evaluación del riesgo - Nivel del riesgo residual | AM10: Plan de Acción
A11: Referencia | B11: Código Único (iD) | C11: Proceso | D11: Área responsable | E11: Impacto | F11: Causa Inmediata | G11: Causa Raíz | H11: Descripción del Riesgo | I11: Definición Riesgos de Corrupción Marcar con una ( X ) | M11: Clasificación del Riesgo | N11: Activo de la Información (Seguridad Digital) | O11: Frecuencia con la cual se realiza la actividad | P11: Probabilidad Inherente | Q11: % | R11: Criterios de impacto | S11: Observación de criterio | T11: Impacto Inherente | U11: % | V11: Zona de Riesgo Inherente | W11: No. Control | X11: Descripción del Control (Propósito, forma como se realiza, responsable, periodicidad, | Y11: Afectación | Z11: Atributos | AF11: Probabilidad Residual | AG11: Probabilidad Residual Final | AH11: % | AI11: Impacto Residual Final | AJ11: % | AK11: Zona de Riesgo Final | AL11: Tratamiento | AM11: Plan de Acción | AN11: Responsable | AO11: Fecha Implementación | AP11: Fecha Seguimiento | AQ11: Seguimiento | AR11: Estado
I12: Acción u Omisión | J12: Uso del Poder | K12: Desviar la Gestión de lo Público | L12: Beneficio Privado | Z12: Tipo | AA12: Implementación | AB12: Calificación | AC12: Documentación | AD12: Frecuencia | AE12: Evidencia
A13: 1 | B13: GBG_02 | C13: Gerencia y Buen Gobierno | D13: Gestión Ética y Buen Gobierno Administración de Personal Selección y Contratación Gestión Contratos | E13: Económico y Reputacional | F13: Multas y Sanciones | G13: Vinculación de personas naturales y/o jurídicas, sin considerar los lineamientos contemplados relacionados con conflictos de interés. (Política de Integridad) | H13: Posibilidad de afectación económica y reputacional por multas y sanciones, debido a la vinculación de personas naturales y/o jurídicas, sin considerar los lineamientos contemplados relacionados con conflictos de interés. (Política de Integridad). | I13: N/A | J13: N/A | K13: N/A | L13: N/A | M13: Ejecución y Administración de procesos | O13: 5000 | P13: =IF(O13<=0,"",IF(O13<=2,"Muy Baja",IF(O13<=24,"Baja",IF(O13<=500,"Media",IF(O13<=5000,"Alta","Muy Alta"))))) -> Alta | Q13: =IF(P13="","",IF(P13="Muy Baja",0.2,IF(P13="Baja",0.4,IF(P13="Media",0.6,IF(P13="Alta",0.8,IF(P13="Muy Alta",1,)))))) -> 0.8 | R13: El riesgo afecta la imagen de la entidad internamente, de conocimiento general, nivel interno, de junta dircetiva y accionistas y/o de provedores | S13: =IF(NOT(ISERROR(MATCH(R13,'Tabla Impacto'!$B$221:$B$223,0))),'Tabla Impacto'!$F$223&"Por favor no seleccionar los criterios de impacto(Afectación Económica o presupuestal y Pérdida Reputacional)",R13) -> El riesgo afecta la imagen de la entidad internamente, de conocimiento general, nivel interno, de junta dircetiva y accionistas y/o de provedores | T13: =+IF(OR(S13='[1]Tabla Impacto'!$C$11,S13='[1]Tabla Impacto'!$D$11),"Leve",IF(OR(S13='[1]Tabla Impacto'!$C$12,S13='[1]Tabla Impacto'!$D$12),"Menor",IF(OR(S13='[1]Tabla Impacto'!$C$13,S13='[1]Tabla Impacto'!$D$13),"Moderado",IF(OR(S13='[1]Tabla Impacto'!$C$14,S13='[1]Tabla Impacto'!$D$14),"Mayor",IF(OR(S13='[1]Tabla Impacto'!$C$15,S13='[1]Tabla Impacto'!$D$15),"Catastrófico",""))))) -> Menor | U13: =IF(T13="","",IF(T13="Leve",0.2,IF(T13="Menor",0.4,IF(T13="Moderado",0.6,IF(T13="Mayor",0.8,IF(T13="Catastrófico",1,)))))) -> 0.4 | V13: =IF(OR(AND(P13="Muy Baja",T13="Leve"),AND(P13="Muy Baja",T13="Menor"),AND(P13="Baja",T13="Leve")),"Bajo",IF(OR(AND(P13="Muy baja",T13="Moderado"),AND(P13="Baja",T13="Menor"),AND(P13="Baja",T13="Moderado"),AND(P13="Media",T13="Leve"),AND(P13="Media",T13="Menor"),AND(P13="Media",T13="Moderado"),AND(P13="Alta",T13="Leve"),AND(P13="Alta",T13="Menor")),"Moderado",IF(OR(AND(P13="Muy Baja",T13="Mayor"),AND(P13="Baja",T13="Mayor"),AND(P13="Media",T13="Mayor"),AND(P13="Alta",T13="Moderado"),AND(P13="Alta",T13="Mayor"),AND(P13="Muy Alta",T13="Leve"),AND(P13="Muy Alta",T13="Menor"),AND(P13="Muy Alta",T13="Moderado"),AND(P13="Muy Alta",T13="Mayor")),"Alto",IF(OR(AND(P13="Muy Baja",T13="Catastrófico"),AND(P13="Baja",T13="Catastrófico"),AND(P13="Media",T13="Catastrófico"),AND(P13="Alta",T13="Catastrófico"),AND(P13="Muy Alta",T13="Catastrófico")),"Extremo","")))) -> Moderado | W13: 1 | X13: El profesional del área de Administración de personal, junto con el responsable de Selección y contratación de personal y el profesional del área de Gestión contratos, garantizan cada vez que se requiere, el cumplimiento de la ley que exige el diligenciamiento del formato declaración de bienes y rentas y declaración de conflicto de interés y/o aplicativos de Ley 2013 de 2019, con el fin de acatar las disposiciones normativas vigentes. | Y13: =IF(OR(Z13="Preventivo",Z13="Detectivo"),"Probabilidad",IF(Z13="Correctivo","Impacto","")) -> Probabilidad | Z13: Preventivo | AA13: Manual | AB13: =IF(AND(Z13="Preventivo",AA13="Automático"),"50%",IF(AND(Z13="Preventivo",AA13="Manual"),"40%",IF(AND(Z13="Detectivo",AA13="Automático"),"40%",IF(AND(Z13="Detectivo",AA13="Manual"),"30%",IF(AND(Z13="Correctivo",AA13="Automático"),"35%",IF(AND(Z13="Correctivo",AA13="Manual"),"25%","")))))) -> 40% | AC13: Documentado | AD13: Continua | AE13: Con Registro | AF13: =IFERROR(IF(Y13="Probabilidad",(Q13-(+Q13*AB13)),IF(Y13="Impacto",Q13,"")),"") -> 0.48 | AG13: =IFERROR(IF(AF13="","",IF(AF13<=0.2,"Muy Baja",IF(AF13<=0.4,"Baja",IF(AF13<=0.6,"Media",IF(AF13<=0.8,"Alta","Muy Alta"))))),"") -> Media | AH13: =+AF13 -> 0.48 | AI13: =IFERROR(IF(AJ13="","",IF(AJ13<=0.2,"Leve",IF(AJ13<=0.4,"Menor",IF(AJ13<=0.6,"Moderado",IF(AJ13<=0.8,"Mayor","Catastrófico"))))),"") -> Menor | AJ13: =IFERROR(IF(Y13="Impacto",(U13-(+U13*AB13)),IF(Y13="Probabilidad",U13,"")),"") -> 0.4 | AK13: =IFERROR(IF(OR(AND(AG13="Muy Baja",AI13="Leve"),AND(AG13="Muy Baja",AI13="Menor"),AND(AG13="Baja",AI13="Leve")),"Bajo",IF(OR(AND(AG13="Muy baja",AI13="Moderado"),AND(AG13="Baja",AI13="Menor"),AND(AG13="Baja",AI13="Moderado"),AND(AG13="Media",AI13="Leve"),AND(AG13="Media",AI13="Menor"),AND(AG13="Media",AI13="Moderado"),AND(AG13="Alta",AI13="Leve"),AND(AG13="Alta",AI13="Menor")),"Moderado",IF(OR(AND(AG13="Muy Baja",AI13="Mayor"),AND(AG13="Baja",AI13="Mayor"),AND(AG13="Media",AI13="Mayor"),AND(AG13="Alta",AI13="Moderado"),AND(AG13="Alta",AI13="Mayor"),AND(AG13="Muy Alta",AI13="Leve"),AND(AG13="Muy Alta",AI13="Menor"),AND(AG13="Muy Alta",AI13="Moderado"),AND(AG13="Muy Alta",AI13="Mayor")),"Alto",IF(OR(AND(AG13="Muy Baja",AI13="Catastrófico"),AND(AG13="Baja",AI13="Catastrófico"),AND(AG13="Media",AI13="Catastrófico"),AND(AG13="Alta",AI13="Catastrófico"),AND(AG13="Muy Alta",AI13="Catastrófico")),"Extremo","")))),"") -> Moderado | AL13: Aceptar
S14: =IF(NOT(ISERROR(MATCH(R14,_xlfn.ANCHORARRAY(H25),0))),Q27&"Por favor no seleccionar los criterios de impacto",R14) -> 0 | W14: 2 | X14: El profesional del área de Administración de personal, junto con el responsable de Selección y contratación de personal y el profesional del área de Gestión contratos, verifican la información registrada en el formato declaración de bienes y rentas y declaración de conflicto de interés y/o aplicativos de Ley 2013 de 2019 y posteriormente es actualizada la información en el aplicativo SIGEP. | Y14: =IF(OR(Z14="Preventivo",Z14="Detectivo"),"Probabilidad",IF(Z14="Correctivo","Impacto","")) -> Probabilidad | Z14: Preventivo | AA14: Manual | AB14: =IF(AND(Z14="Preventivo",AA14="Automático"),"50%",IF(AND(Z14="Preventivo",AA14="Manual"),"40%",IF(AND(Z14="Detectivo",AA14="Automático"),"40%",IF(AND(Z14="Detectivo",AA14="Manual"),"30%",IF(AND(Z14="Correctivo",AA14="Automático"),"35%",IF(AND(Z14="Correctivo",AA14="Manual"),"25%","")))))) -> 40% | AC14: Documentado | AD14: Continua | AE14: Con Registro | AF14: =IFERROR(IF(AND(Y13="Probabilidad",Y14="Probabilidad"),(AH13-(+AH13*AB14)),IF(Y14="Probabilidad",(Q13-(+Q13*AB14)),IF(Y14="Impacto",AH13,""))),"") -> 0.288 | AG14: =IFERROR(IF(AF14="","",IF(AF14<=0.2,"Muy Baja",IF(AF14<=0.4,"Baja",IF(AF14<=0.6,"Media",IF(AF14<=0.8,"Alta","Muy Alta"))))),"") -> Baja | AH14: =+AF14 -> 0.288 | AI14: =IFERROR(IF(AJ14="","",IF(AJ14<=0.2,"Leve",IF(AJ14<=0.4,"Menor",IF(AJ14<=0.6,"Moderado",IF(AJ14<=0.8,"Mayor","Catastrófico"))))),"") -> Menor | AJ14: =IFERROR(IF(AND(Y13="Impacto",Y14="Impacto"),(AJ13-(+AJ13*AB14)),IF(Y14="Impacto",(U13-(+U13*AB14)),IF(Y14="Probabilidad",AJ13,""))),"") -> 0.4 | AK14: =IFERROR(IF(OR(AND(AG14="Muy Baja",AI14="Leve"),AND(AG14="Muy Baja",AI14="Menor"),AND(AG14="Baja",AI14="Leve")),"Bajo",IF(OR(AND(AG14="Muy baja",AI14="Moderado"),AND(AG14="Baja",AI14="Menor"),AND(AG14="Baja",AI14="Moderado"),AND(AG14="Media",AI14="Leve"),AND(AG14="Media",AI14="Menor"),AND(AG14="Media",AI14="Moderado"),AND(AG14="Alta",AI14="Leve"),AND(AG14="Alta",AI14="Menor")),"Moderado",IF(OR(AND(AG14="Muy Baja",AI14="Mayor"),AND(AG14="Baja",AI14="Mayor"),AND(AG14="Media",AI14="Mayor"),AND(AG14="Alta",AI14="Moderado"),AND(AG14="Alta",AI14="Mayor"),AND(AG14="Muy Alta",AI14="Leve"),AND(AG14="Muy Alta",AI14="Menor"),AND(AG14="Muy Alta",AI14="Moderado"),AND(AG14="Muy Alta",AI14="Mayor")),"Alto",IF(OR(AND(AG14="Muy Baja",AI14="Catastrófico"),AND(AG14="Baja",AI14="Catastrófico"),AND(AG14="Media",AI14="Catastrófico"),AND(AG14="Alta",AI14="Catastrófico"),AND(AG14="Muy Alta",AI14="Catastrófico")),"Extremo","")))),"") -> Moderado | AL14: Aceptar
S15: =IF(NOT(ISERROR(MATCH(R15,_xlfn.ANCHORARRAY(H26),0))),Q28&"Por favor no seleccionar los criterios de impacto",R15) -> 0 | W15: 3 | Y15: =IF(OR(Z15="Preventivo",Z15="Detectivo"),"Probabilidad",IF(Z15="Correctivo","Impacto","")) | AB15: =IF(AND(Z15="Preventivo",AA15="Automático"),"50%",IF(AND(Z15="Preventivo",AA15="Manual"),"40%",IF(AND(Z15="Detectivo",AA15="Automático"),"40%",IF(AND(Z15="Detectivo",AA15="Manual"),"30%",IF(AND(Z15="Correctivo",AA15="Automático"),"35%",IF(AND(Z15="Correctivo",AA15="Manual"),"25%","")))))) | AF15: =IFERROR(IF(AND(Y14="Probabilidad",Y15="Probabilidad"),(AH14-(+AH14*AB15)),IF(Y15="Probabilidad",(Q14-(+Q14*AB15)),IF(Y15="Impacto",AH14,""))),"") | AG15: =IFERROR(IF(AF15="","",IF(AF15<=0.2,"Muy Baja",IF(AF15<=0.4,"Baja",IF(AF15<=0.6,"Media",IF(AF15<=0.8,"Alta","Muy Alta"))))),"") | AH15: =+AF15 | AI15: =IFERROR(IF(AJ15="","",IF(AJ15<=0.2,"Leve",IF(AJ15<=0.4,"Menor",IF(AJ15<=0.6,"Moderado",IF(AJ15<=0.8,"Mayor","Catastrófico"))))),"") | AJ15: =IFERROR(IF(AND(Y14="Impacto",Y15="Impacto"),(AJ14-(+AJ14*AB15)),IF(AND(Y14="Probabilidad",Y15="Impacto"),(AJ13-(+AJ13*AB15)),IF(Y15="Probabilidad",AJ14,""))),"") | AK15: =IFERROR(IF(OR(AND(AG15="Muy Baja",AI15="Leve"),AND(AG15="Muy Baja",AI15="Menor"),AND(AG15="Baja",AI15="Leve")),"Bajo",IF(OR(AND(AG15="Muy baja",AI15="Moderado"),AND(AG15="Baja",AI15="Menor"),AND(AG15="Baja",AI15="Moderado"),AND(AG15="Media",AI15="Leve"),AND(AG15="Media",AI15="Menor"),AND(AG15="Media",AI15="Moderado"),AND(AG15="Alta",AI15="Leve"),AND(AG15="Alta",AI15="Menor")),"Moderado",IF(OR(AND(AG15="Muy Baja",AI15="Mayor"),AND(AG15="Baja",AI15="Mayor"),AND(AG15="Media",AI15="Mayor"),AND(AG15="Alta",AI15="Moderado"),AND(AG15="Alta",AI15="Mayor"),AND(AG15="Muy Alta",AI15="Leve"),AND(AG15="Muy Alta",AI15="Menor"),AND(AG15="Muy Alta",AI15="Moderado"),AND(AG15="Muy Alta",AI15="Mayor")),"Alto",IF(OR(AND(AG15="Muy Baja",AI15="Catastrófico"),AND(AG15="Baja",AI15="Catastrófico"),AND(AG15="Media",AI15="Catastrófico"),AND(AG15="Alta",AI15="Catastrófico"),AND(AG15="Muy Alta",AI15="Catastrófico")),"Extremo","")))),"")
S16: =IF(NOT(ISERROR(MATCH(R16,_xlfn.ANCHORARRAY(H27),0))),Q29&"Por favor no seleccionar los criterios de impacto",R16) -> 0 | W16: 4 | Y16: =IF(OR(Z16="Preventivo",Z16="Detectivo"),"Probabilidad",IF(Z16="Correctivo","Impacto","")) | AB16: =IF(AND(Z16="Preventivo",AA16="Automático"),"50%",IF(AND(Z16="Preventivo",AA16="Manual"),"40%",IF(AND(Z16="Detectivo",AA16="Automático"),"40%",IF(AND(Z16="Detectivo",AA16="Manual"),"30%",IF(AND(Z16="Correctivo",AA16="Automático"),"35%",IF(AND(Z16="Correctivo",AA16="Manual"),"25%","")))))) | AF16: =IFERROR(IF(AND(Y15="Probabilidad",Y16="Probabilidad"),(AH15-(+AH15*AB16)),IF(Y16="Probabilidad",(Q15-(+Q15*AB16)),IF(Y16="Impacto",AH15,""))),"") | AG16: =IFERROR(IF(AF16="","",IF(AF16<=0.2,"Muy Baja",IF(AF16<=0.4,"Baja",IF(AF16<=0.6,"Media",IF(AF16<=0.8,"Alta","Muy Alta"))))),"") | AH16: =+AF16 | AI16: =IFERROR(IF(AJ16="","",IF(AJ16<=0.2,"Leve",IF(AJ16<=0.4,"Menor",IF(AJ16<=0.6,"Moderado",IF(AJ16<=0.8,"Mayor","Catastrófico"))))),"") | AJ16: =IFERROR(IF(AND(Y15="Impacto",Y16="Impacto"),(AJ15-(+AJ15*AB16)),IF(AND(Y15="Probabilidad",Y16="Impacto"),(AJ14-(+AJ14*AB16)),IF(Y16="Probabilidad",AJ15,""))),"") | AK16: =IFERROR(IF(OR(AND(AG16="Muy Baja",AI16="Leve"),AND(AG16="Muy Baja",AI16="Menor"),AND(AG16="Baja",AI16="Leve")),"Bajo",IF(OR(AND(AG16="Muy baja",AI16="Moderado"),AND(AG16="Baja",AI16="Menor"),AND(AG16="Baja",AI16="Moderado"),AND(AG16="Media",AI16="Leve"),AND(AG16="Media",AI16="Menor"),AND(AG16="Media",AI16="Moderado"),AND(AG16="Alta",AI16="Leve"),AND(AG16="Alta",AI16="Menor")),"Moderado",IF(OR(AND(AG16="Muy Baja",AI16="Mayor"),AND(AG16="Baja",AI16="Mayor"),AND(AG16="Media",AI16="Mayor"),AND(AG16="Alta",AI16="Moderado"),AND(AG16="Alta",AI16="Mayor"),AND(AG16="Muy Alta",AI16="Leve"),AND(AG16="Muy Alta",AI16="Menor"),AND(AG16="Muy Alta",AI16="Moderado"),AND(AG16="Muy Alta",AI16="Mayor")),"Alto",IF(OR(AND(AG16="Muy Baja",AI16="Catastrófico"),AND(AG16="Baja",AI16="Catastrófico"),AND(AG16="Media",AI16="Catastrófico"),AND(AG16="Alta",AI16="Catastrófico"),AND(AG16="Muy Alta",AI16="Catastrófico")),"Extremo","")))),"")
S17: =IF(NOT(ISERROR(MATCH(R17,_xlfn.ANCHORARRAY(H28),0))),Q30&"Por favor no seleccionar los criterios de impacto",R17) -> 0 | W17: 5 | Y17: =IF(OR(Z17="Preventivo",Z17="Detectivo"),"Probabilidad",IF(Z17="Correctivo","Impacto","")) | AB17: =IF(AND(Z17="Preventivo",AA17="Automático"),"50%",IF(AND(Z17="Preventivo",AA17="Manual"),"40%",IF(AND(Z17="Detectivo",AA17="Automático"),"40%",IF(AND(Z17="Detectivo",AA17="Manual"),"30%",IF(AND(Z17="Correctivo",AA17="Automático"),"35%",IF(AND(Z17="Correctivo",AA17="Manual"),"25%","")))))) | AF17: =IFERROR(IF(AND(Y16="Probabilidad",Y17="Probabilidad"),(AH16-(+AH16*AB17)),IF(Y17="Probabilidad",(Q16-(+Q16*AB17)),IF(Y17="Impacto",AH16,""))),"") | AG17: =IFERROR(IF(AF17="","",IF(AF17<=0.2,"Muy Baja",IF(AF17<=0.4,"Baja",IF(AF17<=0.6,"Media",IF(AF17<=0.8,"Alta","Muy Alta"))))),"") | AH17: =+AF17 | AI17: =IFERROR(IF(AJ17="","",IF(AJ17<=0.2,"Leve",IF(AJ17<=0.4,"Menor",IF(AJ17<=0.6,"Moderado",IF(AJ17<=0.8,"Mayor","Catastrófico"))))),"") | AJ17: =IFERROR(IF(AND(Y16="Impacto",Y17="Impacto"),(AJ16-(+AJ16*AB17)),IF(AND(Y16="Probabilidad",Y17="Impacto"),(AJ15-(+AJ15*AB17)),IF(Y17="Probabilidad",AJ16,""))),"") | AK17: =IFERROR(IF(OR(AND(AG17="Muy Baja",AI17="Leve"),AND(AG17="Muy Baja",AI17="Menor"),AND(AG17="Baja",AI17="Leve")),"Bajo",IF(OR(AND(AG17="Muy baja",AI17="Moderado"),AND(AG17="Baja",AI17="Menor"),AND(AG17="Baja",AI17="Moderado"),AND(AG17="Media",AI17="Leve"),AND(AG17="Media",AI17="Menor"),AND(AG17="Media",AI17="Moderado"),AND(AG17="Alta",AI17="Leve"),AND(AG17="Alta",AI17="Menor")),"Moderado",IF(OR(AND(AG17="Muy Baja",AI17="Mayor"),AND(AG17="Baja",AI17="Mayor"),AND(AG17="Media",AI17="Mayor"),AND(AG17="Alta",AI17="Moderado"),AND(AG17="Alta",AI17="Mayor"),AND(AG17="Muy Alta",AI17="Leve"),AND(AG17="Muy Alta",AI17="Menor"),AND(AG17="Muy Alta",AI17="Moderado"),AND(AG17="Muy Alta",AI17="Mayor")),"Alto",IF(OR(AND(AG17="Muy Baja",AI17="Catastrófico"),AND(AG17="Baja",AI17="Catastrófico"),AND(AG17="Media",AI17="Catastrófico"),AND(AG17="Alta",AI17="Catastrófico"),AND(AG17="Muy Alta",AI17="Catastrófico")),"Extremo","")))),"")
S18: =IF(NOT(ISERROR(MATCH(R18,_xlfn.ANCHORARRAY(H29),0))),Q31&"Por favor no seleccionar los criterios de impacto",R18) -> 0 | W18: 6 | Y18: =IF(OR(Z18="Preventivo",Z18="Detectivo"),"Probabilidad",IF(Z18="Correctivo","Impacto","")) | AB18: =IF(AND(Z18="Preventivo",AA18="Automático"),"50%",IF(AND(Z18="Preventivo",AA18="Manual"),"40%",IF(AND(Z18="Detectivo",AA18="Automático"),"40%",IF(AND(Z18="Detectivo",AA18="Manual"),"30%",IF(AND(Z18="Correctivo",AA18="Automático"),"35%",IF(AND(Z18="Correctivo",AA18="Manual"),"25%","")))))) | AF18: =IFERROR(IF(AND(Y17="Probabilidad",Y18="Probabilidad"),(AH17-(+AH17*AB18)),IF(Y18="Probabilidad",(Q17-(+Q17*AB18)),IF(Y18="Impacto",AH17,""))),"") | AG18: =IFERROR(IF(AF18="","",IF(AF18<=0.2,"Muy Baja",IF(AF18<=0.4,"Baja",IF(AF18<=0.6,"Media",IF(AF18<=0.8,"Alta","Muy Alta"))))),"") | AH18: =+AF18 | AI18: =IFERROR(IF(AJ18="","",IF(AJ18<=0.2,"Leve",IF(AJ18<=0.4,"Menor",IF(AJ18<=0.6,"Moderado",IF(AJ18<=0.8,"Mayor","Catastrófico"))))),"") | AJ18: =IFERROR(IF(AND(Y17="Impacto",Y18="Impacto"),(AJ17-(+AJ17*AB18)),IF(AND(Y17="Probabilidad",Y18="Impacto"),(AJ16-(+AJ16*AB18)),IF(Y18="Probabilidad",AJ17,""))),"") | AK18: =IFERROR(IF(OR(AND(AG18="Muy Baja",AI18="Leve"),AND(AG18="Muy Baja",AI18="Menor"),AND(AG18="Baja",AI18="Leve")),"Bajo",IF(OR(AND(AG18="Muy baja",AI18="Moderado"),AND(AG18="Baja",AI18="Menor"),AND(AG18="Baja",AI18="Moderado"),AND(AG18="Media",AI18="Leve"),AND(AG18="Media",AI18="Menor"),AND(AG18="Media",AI18="Moderado"),AND(AG18="Alta",AI18="Leve"),AND(AG18="Alta",AI18="Menor")),"Moderado",IF(OR(AND(AG18="Muy Baja",AI18="Mayor"),AND(AG18="Baja",AI18="Mayor"),AND(AG18="Media",AI18="Mayor"),AND(AG18="Alta",AI18="Moderado"),AND(AG18="Alta",AI18="Mayor"),AND(AG18="Muy Alta",AI18="Leve"),AND(AG18="Muy Alta",AI18="Menor"),AND(AG18="Muy Alta",AI18="Moderado"),AND(AG18="Muy Alta",AI18="Mayor")),"Alto",IF(OR(AND(AG18="Muy Baja",AI18="Catastrófico"),AND(AG18="Baja",AI18="Catastrófico"),AND(AG18="Media",AI18="Catastrófico"),AND(AG18="Alta",AI18="Catastrófico"),AND(AG18="Muy Alta",AI18="Catastrófico")),"Extremo","")))),"")
A19: 2 | B19: GBG_03 | C19: Gerencia y Buen Gobierno | D19: Gestión Ética y Buen Gobierno Responsables de los Grupos de trabajo Presidentes de los comités institucionales. | E19: Económico y Reputacional | F19: Demandas Legales y Sanciones | G19: Omitir la declaración de impedimento o recusación ante la posibilidad real o aparente de un conflicto de interés. | H19: Posibilidad de afectación económica y reputacional por demandas legales y sanciones, debido a la omisiòn de la declaración de impedimento o recusación ante la posibilidad real o aparente de un conflicto de interés. | I19: N/A | J19: N/A | K19: N/A | L19: N/A | M19: Ejecución y Administración de procesos | O19: 500 | P19: =IF(O19<=0,"",IF(O19<=2,"Muy Baja",IF(O19<=24,"Baja",IF(O19<=500,"Media",IF(O19<=5000,"Alta","Muy Alta"))))) -> Media | Q19: =IF(P19="","",IF(P19="Muy Baja",0.2,IF(P19="Baja",0.4,IF(P19="Media",0.6,IF(P19="Alta",0.8,IF(P19="Muy Alta",1,)))))) -> 0.6 | R19: El riesgo afecta la imagen de la entidad con algunos usuarios de relevancia frente al logro de los objetivos | S19: =IF(NOT(ISERROR(MATCH(R19,'Tabla Impacto'!$B$221:$B$223,0))),'Tabla Impacto'!$F$223&"Por favor no seleccionar los criterios de impacto(Afectación Económica o presupuestal y Pérdida Reputacional)",R19) -> El riesgo afecta la imagen de la entidad con algunos usuarios de relevancia frente al logro de los objetivos | T19: =+IF(OR(S19='[1]Tabla Impacto'!$C$11,S19='[1]Tabla Impacto'!$D$11),"Leve",IF(OR(S19='[1]Tabla Impacto'!$C$12,S19='[1]Tabla Impacto'!$D$12),"Menor",IF(OR(S19='[1]Tabla Impacto'!$C$13,S19='[1]Tabla Impacto'!$D$13),"Moderado",IF(OR(S19='[1]Tabla Impacto'!$C$14,S19='[1]Tabla Impacto'!$D$14),"Mayor",IF(OR(S19='[1]Tabla Impacto'!$C$15,S19='[1]Tabla Impacto'!$D$15),"Catastrófico",""))))) -> Moderado | U19: =IF(T19="","",IF(T19="Leve",0.2,IF(T19="Menor",0.4,IF(T19="Moderado",0.6,IF(T19="Mayor",0.8,IF(T19="Catastrófico",1,)))))) -> 0.6 | V19: =IF(OR(AND(P19="Muy Baja",T19="Leve"),AND(P19="Muy Baja",T19="Menor"),AND(P19="Baja",T19="Leve")),"Bajo",IF(OR(AND(P19="Muy baja",T19="Moderado"),AND(P19="Baja",T19="Menor"),AND(P19="Baja",T19="Moderado"),AND(P19="Media",T19="Leve"),AND(P19="Media",T19="Menor"),AND(P19="Media",T19="Moderado"),AND(P19="Alta",T19="Leve"),AND(P19="Alta",T19="Menor")),"Moderado",IF(OR(AND(P19="Muy Baja",T19="Mayor"),AND(P19="Baja",T19="Mayor"),AND(P19="Media",T19="Mayor"),AND(P19="Alta",T19="Moderado"),AND(P19="Alta",T19="Mayor"),AND(P19="Muy Alta",T19="Leve"),AND(P19="Muy Alta",T19="Menor"),AND(P19="Muy Alta",T19="Moderado"),AND(P19="Muy Alta",T19="Mayor")),"Alto",IF(OR(AND(P19="Muy Baja",T19="Catastrófico"),AND(P19="Baja",T19="Catastrófico"),AND(P19="Media",T19="Catastrófico"),AND(P19="Alta",T19="Catastrófico"),AND(P19="Muy Alta",T19="Catastrófico")),"Extremo","")))) -> Moderado | W19: 1 | X19: Los responsables de los grupos de trabajo realizan cada vez que se requiera el seguimiento a la presentación de posibles situaciones de conflicto de interés o recusación, con el fin de mitigar el riesgo. Realizan reporte trimestral al Grupo de integridad. | Y19: =IF(OR(Z19="Preventivo",Z19="Detectivo"),"Probabilidad",IF(Z19="Correctivo","Impacto","")) -> Probabilidad | Z19: Preventivo | AA19: Manual | AB19: 40% | AC19: Documentado | AD19: Continua | AE19: Con Registro | AF19: =IFERROR(IF(Y19="Probabilidad",(Q19-(+Q19*AB19)),IF(Y19="Impacto",Q19,"")),"") -> 0.36 | AG19: =IFERROR(IF(AF19="","",IF(AF19<=0.2,"Muy Baja",IF(AF19<=0.4,"Baja",IF(AF19<=0.6,"Media",IF(AF19<=0.8,"Alta","Muy Alta"))))),"") -> Baja | AH19: =+AF19 -> 0.36 | AI19: =IFERROR(IF(AJ19="","",IF(AJ19<=0.2,"Leve",IF(AJ19<=0.4,"Menor",IF(AJ19<=0.6,"Moderado",IF(AJ19<=0.8,"Mayor","Catastrófico"))))),"") -> Moderado | AJ19: =IFERROR(IF(Y19="Impacto",(U19-(+U19*AB19)),IF(Y19="Probabilidad",U19,"")),"") -> 0.6 | AK19: =IFERROR(IF(OR(AND(AG19="Muy Baja",AI19="Leve"),AND(AG19="Muy Baja",AI19="Menor"),AND(AG19="Baja",AI19="Leve")),"Bajo",IF(OR(AND(AG19="Muy baja",AI19="Moderado"),AND(AG19="Baja",AI19="Menor"),AND(AG19="Baja",AI19="Moderado"),AND(AG19="Media",AI19="Leve"),AND(AG19="Media",AI19="Menor"),AND(AG19="Media",AI19="Moderado"),AND(AG19="Alta",AI19="Leve"),AND(AG19="Alta",AI19="Menor")),"Moderado",IF(OR(AND(AG19="Muy Baja",AI19="Mayor"),AND(AG19="Baja",AI19="Mayor"),AND(AG19="Media",AI19="Mayor"),AND(AG19="Alta",AI19="Moderado"),AND(AG19="Alta",AI19="Mayor"),AND(AG19="Muy Alta",AI19="Leve"),AND(AG19="Muy Alta",AI19="Menor"),AND(AG19="Muy Alta",AI19="Moderado"),AND(AG19="Muy Alta",AI19="Mayor")),"Alto",IF(OR(AND(AG19="Muy Baja",AI19="Catastrófico"),AND(AG19="Baja",AI19="Catastrófico"),AND(AG19="Media",AI19="Catastrófico"),AND(AG19="Alta",AI19="Catastrófico"),AND(AG19="Muy Alta",AI19="Catastrófico")),"Extremo","")))),"") -> Moderado | AL19: Aceptar
S20: =IF(NOT(ISERROR(MATCH(R20,_xlfn.ANCHORARRAY(H31),0))),Q33&"Por favor no seleccionar los criterios de impacto",R20) -> 0 | W20: 2 | X20: Los presidentes o secretarios de los comités institucionales incluyen en el orden del día cada vez que se requiera, la pregunta sobre posible declaración de conflicto de interés o recusación a los miembros de cada comité, con el fin de mitigar el riesgo. Lo registran en actas y realizan reporte trimestral al Grupo Gestor de Integridad. | Y20: =IF(OR(Z20="Preventivo",Z20="Detectivo"),"Probabilidad",IF(Z20="Correctivo","Impacto","")) -> Probabilidad | Z20: Preventivo | AA20: Manual | AB20: 40% | AC20: Documentado | AD20: Continua | AE20: Con Registro | AF20: =IFERROR(IF(AND(Y19="Probabilidad",Y20="Probabilidad"),(AH19-(+AH19*AB20)),IF(Y20="Probabilidad",(Q19-(+Q19*AB20)),IF(Y20="Impacto",AH19,""))),"") -> 0.216 | AG20: =IFERROR(IF(AF20="","",IF(AF20<=0.2,"Muy Baja",IF(AF20<=0.4,"Baja",IF(AF20<=0.6,"Media",IF(AF20<=0.8,"Alta","Muy Alta"))))),"") -> Baja | AH20: =+AF20 -> 0.216 | AI20: =IFERROR(IF(AJ20="","",IF(AJ20<=0.2,"Leve",IF(AJ20<=0.4,"Menor",IF(AJ20<=0.6,"Moderado",IF(AJ20<=0.8,"Mayor","Catastrófico"))))),"") -> Moderado | AJ20: =IFERROR(IF(AND(Y19="Impacto",Y20="Impacto"),(AJ19-(+AJ19*AB20)),IF(Y20="Impacto",(U19-(+U19*AB20)),IF(Y20="Probabilidad",AJ19,""))),"") -> 0.6 | AK20: =IFERROR(IF(OR(AND(AG20="Muy Baja",AI20="Leve"),AND(AG20="Muy Baja",AI20="Menor"),AND(AG20="Baja",AI20="Leve")),"Bajo",IF(OR(AND(AG20="Muy baja",AI20="Moderado"),AND(AG20="Baja",AI20="Menor"),AND(AG20="Baja",AI20="Moderado"),AND(AG20="Media",AI20="Leve"),AND(AG20="Media",AI20="Menor"),AND(AG20="Media",AI20="Moderado"),AND(AG20="Alta",AI20="Leve"),AND(AG20="Alta",AI20="Menor")),"Moderado",IF(OR(AND(AG20="Muy Baja",AI20="Mayor"),AND(AG20="Baja",AI20="Mayor"),AND(AG20="Media",AI20="Mayor"),AND(AG20="Alta",AI20="Moderado"),AND(AG20="Alta",AI20="Mayor"),AND(AG20="Muy Alta",AI20="Leve"),AND(AG20="Muy Alta",AI20="Menor"),AND(AG20="Muy Alta",AI20="Moderado"),AND(AG20="Muy Alta",AI20="Mayor")),"Alto",IF(OR(AND(AG20="Muy Baja",AI20="Catastrófico"),AND(AG20="Baja",AI20="Catastrófico"),AND(AG20="Media",AI20="Catastrófico"),AND(AG20="Alta",AI20="Catastrófico"),AND(AG20="Muy Alta",AI20="Catastrófico")),"Extremo","")))),"") -> Moderado | AL20: Aceptar
S21: =IF(NOT(ISERROR(MATCH(R21,_xlfn.ANCHORARRAY(H32),0))),Q34&"Por favor no seleccionar los criterios de impacto",R21) -> 0 | W21: 3 | Y21: =IF(OR(Z21="Preventivo",Z21="Detectivo"),"Probabilidad",IF(Z21="Correctivo","Impacto","")) | AB21: =IF(AND(Z21="Preventivo",AA21="Automático"),"50%",IF(AND(Z21="Preventivo",AA21="Manual"),"40%",IF(AND(Z21="Detectivo",AA21="Automático"),"40%",IF(AND(Z21="Detectivo",AA21="Manual"),"30%",IF(AND(Z21="Correctivo",AA21="Automático"),"35%",IF(AND(Z21="Correctivo",AA21="Manual"),"25%","")))))) | AF21: =IFERROR(IF(AND(Y20="Probabilidad",Y21="Probabilidad"),(AH20-(+AH20*AB21)),IF(Y21="Probabilidad",(Q20-(+Q20*AB21)),IF(Y21="Impacto",AH20,""))),"") | AG21: =IFERROR(IF(AF21="","",IF(AF21<=0.2,"Muy Baja",IF(AF21<=0.4,"Baja",IF(AF21<=0.6,"Media",IF(AF21<=0.8,"Alta","Muy Alta"))))),"") | AH21: =+AF21 | AI21: =IFERROR(IF(AJ21="","",IF(AJ21<=0.2,"Leve",IF(AJ21<=0.4,"Menor",IF(AJ21<=0.6,"Moderado",IF(AJ21<=0.8,"Mayor","Catastrófico"))))),"") | AJ21: =IFERROR(IF(AND(Y20="Impacto",Y21="Impacto"),(AJ20-(+AJ20*AB21)),IF(AND(Y20="Probabilidad",Y21="Impacto"),(AJ19-(+AJ19*AB21)),IF(Y21="Probabilidad",AJ20,""))),"") | AK21: =IFERROR(IF(OR(AND(AG21="Muy Baja",AI21="Leve"),AND(AG21="Muy Baja",AI21="Menor"),AND(AG21="Baja",AI21="Leve")),"Bajo",IF(OR(AND(AG21="Muy baja",AI21="Moderado"),AND(AG21="Baja",AI21="Menor"),AND(AG21="Baja",AI21="Moderado"),AND(AG21="Media",AI21="Leve"),AND(AG21="Media",AI21="Menor"),AND(AG21="Media",AI21="Moderado"),AND(AG21="Alta",AI21="Leve"),AND(AG21="Alta",AI21="Menor")),"Moderado",IF(OR(AND(AG21="Muy Baja",AI21="Mayor"),AND(AG21="Baja",AI21="Mayor"),AND(AG21="Media",AI21="Mayor"),AND(AG21="Alta",AI21="Moderado"),AND(AG21="Alta",AI21="Mayor"),AND(AG21="Muy Alta",AI21="Leve"),AND(AG21="Muy Alta",AI21="Menor"),AND(AG21="Muy Alta",AI21="Moderado"),AND(AG21="Muy Alta",AI21="Mayor")),"Alto",IF(OR(AND(AG21="Muy Baja",AI21="Catastrófico"),AND(AG21="Baja",AI21="Catastrófico"),AND(AG21="Media",AI21="Catastrófico"),AND(AG21="Alta",AI21="Catastrófico"),AND(AG21="Muy Alta",AI21="Catastrófico")),"Extremo","")))),"")
S22: =IF(NOT(ISERROR(MATCH(R22,_xlfn.ANCHORARRAY(H33),0))),Q35&"Por favor no seleccionar los criterios de impacto",R22) -> 0 | W22: 4 | Y22: =IF(OR(Z22="Preventivo",Z22="Detectivo"),"Probabilidad",IF(Z22="Correctivo","Impacto","")) | AB22: =IF(AND(Z22="Preventivo",AA22="Automático"),"50%",IF(AND(Z22="Preventivo",AA22="Manual"),"40%",IF(AND(Z22="Detectivo",AA22="Automático"),"40%",IF(AND(Z22="Detectivo",AA22="Manual"),"30%",IF(AND(Z22="Correctivo",AA22="Automático"),"35%",IF(AND(Z22="Correctivo",AA22="Manual"),"25%","")))))) | AF22: =IFERROR(IF(AND(Y21="Probabilidad",Y22="Probabilidad"),(AH21-(+AH21*AB22)),IF(Y22="Probabilidad",(Q21-(+Q21*AB22)),IF(Y22="Impacto",AH21,""))),"") | AG22: =IFERROR(IF(AF22="","",IF(AF22<=0.2,"Muy Baja",IF(AF22<=0.4,"Baja",IF(AF22<=0.6,"Media",IF(AF22<=0.8,"Alta","Muy Alta"))))),"") | AH22: =+AF22 | AI22: =IFERROR(IF(AJ22="","",IF(AJ22<=0.2,"Leve",IF(AJ22<=0.4,"Menor",IF(AJ22<=0.6,"Moderado",IF(AJ22<=0.8,"Mayor","Catastrófico"))))),"") | AJ22: =IFERROR(IF(AND(Y21="Impacto",Y22="Impacto"),(AJ21-(+AJ21*AB22)),IF(AND(Y21="Probabilidad",Y22="Impacto"),(AJ20-(+AJ20*AB22)),IF(Y22="Probabilidad",AJ21,""))),"") | AK22: =IFERROR(IF(OR(AND(AG22="Muy Baja",AI22="Leve"),AND(AG22="Muy Baja",AI22="Menor"),AND(AG22="Baja",AI22="Leve")),"Bajo",IF(OR(AND(AG22="Muy baja",AI22="Moderado"),AND(AG22="Baja",AI22="Menor"),AND(AG22="Baja",AI22="Moderado"),AND(AG22="Media",AI22="Leve"),AND(AG22="Media",AI22="Menor"),AND(AG22="Media",AI22="Moderado"),AND(AG22="Alta",AI22="Leve"),AND(AG22="Alta",AI22="Menor")),"Moderado",IF(OR(AND(AG22="Muy Baja",AI22="Mayor"),AND(AG22="Baja",AI22="Mayor"),AND(AG22="Media",AI22="Mayor"),AND(AG22="Alta",AI22="Moderado"),AND(AG22="Alta",AI22="Mayor"),AND(AG22="Muy Alta",AI22="Leve"),AND(AG22="Muy Alta",AI22="Menor"),AND(AG22="Muy Alta",AI22="Moderado"),AND(AG22="Muy Alta",AI22="Mayor")),"Alto",IF(OR(AND(AG22="Muy Baja",AI22="Catastrófico"),AND(AG22="Baja",AI22="Catastrófico"),AND(AG22="Media",AI22="Catastrófico"),AND(AG22="Alta",AI22="Catastrófico"),AND(AG22="Muy Alta",AI22="Catastrófico")),"Extremo","")))),"")
S23: =IF(NOT(ISERROR(MATCH(R23,_xlfn.ANCHORARRAY(H34),0))),Q36&"Por favor no seleccionar los criterios de impacto",R23) -> 0 | W23: 5 | Y23: =IF(OR(Z23="Preventivo",Z23="Detectivo"),"Probabilidad",IF(Z23="Correctivo","Impacto","")) | AB23: =IF(AND(Z23="Preventivo",AA23="Automático"),"50%",IF(AND(Z23="Preventivo",AA23="Manual"),"40%",IF(AND(Z23="Detectivo",AA23="Automático"),"40%",IF(AND(Z23="Detectivo",AA23="Manual"),"30%",IF(AND(Z23="Correctivo",AA23="Automático"),"35%",IF(AND(Z23="Correctivo",AA23="Manual"),"25%","")))))) | AF23: =IFERROR(IF(AND(Y22="Probabilidad",Y23="Probabilidad"),(AH22-(+AH22*AB23)),IF(Y23="Probabilidad",(Q22-(+Q22*AB23)),IF(Y23="Impacto",AH22,""))),"") | AG23: =IFERROR(IF(AF23="","",IF(AF23<=0.2,"Muy Baja",IF(AF23<=0.4,"Baja",IF(AF23<=0.6,"Media",IF(AF23<=0.8,"Alta","Muy Alta"))))),"") | AH23: =+AF23 | AI23: =IFERROR(IF(AJ23="","",IF(AJ23<=0.2,"Leve",IF(AJ23<=0.4,"Menor",IF(AJ23<=0.6,"Moderado",IF(AJ23<=0.8,"Mayor","Catastrófico"))))),"") | AJ23: =IFERROR(IF(AND(Y22="Impacto",Y23="Impacto"),(AJ22-(+AJ22*AB23)),IF(AND(Y22="Probabilidad",Y23="Impacto"),(AJ21-(+AJ21*AB23)),IF(Y23="Probabilidad",AJ22,""))),"") | AK23: =IFERROR(IF(OR(AND(AG23="Muy Baja",AI23="Leve"),AND(AG23="Muy Baja",AI23="Menor"),AND(AG23="Baja",AI23="Leve")),"Bajo",IF(OR(AND(AG23="Muy baja",AI23="Moderado"),AND(AG23="Baja",AI23="Menor"),AND(AG23="Baja",AI23="Moderado"),AND(AG23="Media",AI23="Leve"),AND(AG23="Media",AI23="Menor"),AND(AG23="Media",AI23="Moderado"),AND(AG23="Alta",AI23="Leve"),AND(AG23="Alta",AI23="Menor")),"Moderado",IF(OR(AND(AG23="Muy Baja",AI23="Mayor"),AND(AG23="Baja",AI23="Mayor"),AND(AG23="Media",AI23="Mayor"),AND(AG23="Alta",AI23="Moderado"),AND(AG23="Alta",AI23="Mayor"),AND(AG23="Muy Alta",AI23="Leve"),AND(AG23="Muy Alta",AI23="Menor"),AND(AG23="Muy Alta",AI23="Moderado"),AND(AG23="Muy Alta",AI23="Mayor")),"Alto",IF(OR(AND(AG23="Muy Baja",AI23="Catastrófico"),AND(AG23="Baja",AI23="Catastrófico"),AND(AG23="Media",AI23="Catastrófico"),AND(AG23="Alta",AI23="Catastrófico"),AND(AG23="Muy Alta",AI23="Catastrófico")),"Extremo","")))),"")
S24: =IF(NOT(ISERROR(MATCH(R24,_xlfn.ANCHORARRAY(H35),0))),Q37&"Por favor no seleccionar los criterios de impacto",R24) -> 0 | W24: 6 | Y24: =IF(OR(Z24="Preventivo",Z24="Detectivo"),"Probabilidad",IF(Z24="Correctivo","Impacto","")) | AB24: =IF(AND(Z24="Preventivo",AA24="Automático"),"50%",IF(AND(Z24="Preventivo",AA24="Manual"),"40%",IF(AND(Z24="Detectivo",AA24="Automático"),"40%",IF(AND(Z24="Detectivo",AA24="Manual"),"30%",IF(AND(Z24="Correctivo",AA24="Automático"),"35%",IF(AND(Z24="Correctivo",AA24="Manual"),"25%","")))))) | AF24: =IFERROR(IF(AND(Y23="Probabilidad",Y24="Probabilidad"),(AH23-(+AH23*AB24)),IF(Y24="Probabilidad",(Q23-(+Q23*AB24)),IF(Y24="Impacto",AH23,""))),"") | AG24: =IFERROR(IF(AF24="","",IF(AF24<=0.2,"Muy Baja",IF(AF24<=0.4,"Baja",IF(AF24<=0.6,"Media",IF(AF24<=0.8,"Alta","Muy Alta"))))),"") | AH24: =+AF24 | AI24: =IFERROR(IF(AJ24="","",IF(AJ24<=0.2,"Leve",IF(AJ24<=0.4,"Menor",IF(AJ24<=0.6,"Moderado",IF(AJ24<=0.8,"Mayor","Catastrófico"))))),"") | AJ24: =IFERROR(IF(AND(Y23="Impacto",Y24="Impacto"),(AJ23-(+AJ23*AB24)),IF(AND(Y23="Probabilidad",Y24="Impacto"),(AJ22-(+AJ22*AB24)),IF(Y24="Probabilidad",AJ23,""))),"") | AK24: =IFERROR(IF(OR(AND(AG24="Muy Baja",AI24="Leve"),AND(AG24="Muy Baja",AI24="Menor"),AND(AG24="Baja",AI24="Leve")),"Bajo",IF(OR(AND(AG24="Muy baja",AI24="Moderado"),AND(AG24="Baja",AI24="Menor"),AND(AG24="Baja",AI24="Moderado"),AND(AG24="Media",AI24="Leve"),AND(AG24="Media",AI24="Menor"),AND(AG24="Media",AI24="Moderado"),AND(AG24="Alta",AI24="Leve"),AND(AG24="Alta",AI24="Menor")),"Moderado",IF(OR(AND(AG24="Muy Baja",AI24="Mayor"),AND(AG24="Baja",AI24="Mayor"),AND(AG24="Media",AI24="Mayor"),AND(AG24="Alta",AI24="Moderado"),AND(AG24="Alta",AI24="Mayor"),AND(AG24="Muy Alta",AI24="Leve"),AND(AG24="Muy Alta",AI24="Menor"),AND(AG24="Muy Alta",AI24="Moderado"),AND(AG24="Muy Alta",AI24="Mayor")),"Alto",IF(OR(AND(AG24="Muy Baja",AI24="Catastrófico"),AND(AG24="Baja",AI24="Catastrófico"),AND(AG24="Media",AI24="Catastrófico"),AND(AG24="Alta",AI24="Catastrófico"),AND(AG24="Muy Alta",AI24="Catastrófico")),"Extremo","")))),"")
A25: 3 | B25: OAP_01 | C25: Planeación | D25: Oficina Asesora de Planeación | E25: Económico y Reputacional | F25: No prestación en la atención integral de los servicios de salud a los usuarios del Subsistema de las Fuerzas Militares. | G25: Inadecuada identificación de necesidades para la adquisición de bienes y/o servicios. | H25: Posibilidad de afectación económica por la no prestación integral de los servicios de salud a los usuarios del HOMIL, debido a la inadecuada identificación de necesidades para la adquisición de bienes y/o servicios. | I25: N/A | J25: N/A | K25: N/A | L25: N/A | M25: Ejecución y Administración de procesos | O25: 1 | P25: =IF(O25<=0,"",IF(O25<=2,"Muy Baja",IF(O25<=24,"Baja",IF(O25<=500,"Media",IF(O25<=5000,"Alta","Muy Alta"))))) -> Muy Baja | Q25: =IF(P25="","",IF(P25="Muy Baja",0.2,IF(P25="Baja",0.4,IF(P25="Media",0.6,IF(P25="Alta",0.8,IF(P25="Muy Alta",1,)))))) -> 0.2 | R25: Entre 100 y 500 SMLMV | S25: =IF(NOT(ISERROR(MATCH(R25,'Tabla Impacto'!$B$221:$B$223,0))),'Tabla Impacto'!$F$223&"Por favor no seleccionar los criterios de impacto(Afectación Económica o presupuestal y Pérdida Reputacional)",R25) -> Entre 100 y 500 SMLMV | T25: =+IF(OR(S25='[1]Tabla Impacto'!$C$11,S25='[1]Tabla Impacto'!$D$11),"Leve",IF(OR(S25='[1]Tabla Impacto'!$C$12,S25='[1]Tabla Impacto'!$D$12),"Menor",IF(OR(S25='[1]Tabla Impacto'!$C$13,S25='[1]Tabla Impacto'!$D$13),"Moderado",IF(OR(S25='[1]Tabla Impacto'!$C$14,S25='[1]Tabla Impacto'!$D$14),"Mayor",IF(OR(S25='[1]Tabla Impacto'!$C$15,S25='[1]Tabla Impacto'!$D$15),"Catastrófico",""))))) -> Mayor | U25: =IF(T25="","",IF(T25="Leve",0.2,IF(T25="Menor",0.4,IF(T25="Moderado",0.6,IF(T25="Mayor",0.8,IF(T25="Catastrófico",1,)))))) -> 0.8 | V25: =IF(OR(AND(P25="Muy Baja",T25="Leve"),AND(P25="Muy Baja",T25="Menor"),AND(P25="Baja",T25="Leve")),"Bajo",IF(OR(AND(P25="Muy baja",T25="Moderado"),AND(P25="Baja",T25="Menor"),AND(P25="Baja",T25="Moderado"),AND(P25="Media",T25="Leve"),AND(P25="Media",T25="Menor"),AND(P25="Media",T25="Moderado"),AND(P25="Alta",T25="Leve"),AND(P25="Alta",T25="Menor")),"Moderado",IF(OR(AND(P25="Muy Baja",T25="Mayor"),AND(P25="Baja",T25="Mayor"),AND(P25="Media",T25="Mayor"),AND(P25="Alta",T25="Moderado"),AND(P25="Alta",T25="Mayor"),AND(P25="Muy Alta",T25="Leve"),AND(P25="Muy Alta",T25="Menor"),AND(P25="Muy Alta",T25="Moderado"),AND(P25="Muy Alta",T25="Mayor")),"Alto",IF(OR(AND(P25="Muy Baja",T25="Catastrófico"),AND(P25="Baja",T25="Catastrófico"),AND(P25="Media",T25="Catastrófico"),AND(P25="Alta",T25="Catastrófico"),AND(P25="Muy Alta",T25="Catastrófico")),"Extremo","")))) -> Alto | W25: 1 | X25: El profesional de la Oficina Asesora de Planeación elabora la directiva y envía formato del Plan de Adquisiciones de manera anual a los Subdirectores, jefes de unidad, jefes de Oficina y demás responsables de áreas o servicios, con el fin de emitir los lineamientos para identificación y consolidación de necesidades de bienes y/o servicios a contratar en la siguiente vigencia. | Y25: =IF(OR(Z25="Preventivo",Z25="Detectivo"),"Probabilidad",IF(Z25="Correctivo","Impacto","")) -> Probabilidad | Z25: Preventivo | AA25: Manual | AB25: 40% | AC25: Documentado | AD25: Continua | AE25: Con Registro | AF25: =IFERROR(IF(Y25="Probabilidad",(Q25-(+Q25*AB25)),IF(Y25="Impacto",Q25,"")),"") -> 0.12 | AG25: =IFERROR(IF(AF25="","",IF(AF25<=0.2,"Muy Baja",IF(AF25<=0.4,"Baja",IF(AF25<=0.6,"Media",IF(AF25<=0.8,"Alta","Muy Alta"))))),"") -> Muy Baja | AH25: =+AF25 -> 0.12 | AI25: =IFERROR(IF(AJ25="","",IF(AJ25<=0.2,"Leve",IF(AJ25<=0.4,"Menor",IF(AJ25<=0.6,"Moderado",IF(AJ25<=0.8,"Mayor","Catastrófico"))))),"") -> Mayor | AJ25: =IFERROR(IF(Y25="Impacto",(U25-(+U25*AB25)),IF(Y25="Probabilidad",U25,"")),"") -> 0.8 | AK25: =IFERROR(IF(OR(AND(AG25="Muy Baja",AI25="Leve"),AND(AG25="Muy Baja",AI25="Menor"),AND(AG25="Baja",AI25="Leve")),"Bajo",IF(OR(AND(AG25="Muy baja",AI25="Moderado"),AND(AG25="Baja",AI25="Menor"),AND(AG25="Baja",AI25="Moderado"),AND(AG25="Media",AI25="Leve"),AND(AG25="Media",AI25="Menor"),AND(AG25="Media",AI25="Moderado"),AND(AG25="Alta",AI25="Leve"),AND(AG25="Alta",AI25="Menor")),"Moderado",IF(OR(AND(AG25="Muy Baja",AI25="Mayor"),AND(AG25="Baja",AI25="Mayor"),AND(AG25="Media",AI25="Mayor"),AND(AG25="Alta",AI25="Moderado"),AND(AG25="Alta",AI25="Mayor"),AND(AG25="Muy Alta",AI25="Leve"),AND(AG25="Muy Alta",AI25="Menor"),AND(AG25="Muy Alta",AI25="Moderado"),AND(AG25="Muy Alta",AI25="Mayor")),"Alto",IF(OR(AND(AG25="Muy Baja",AI25="Catastrófico"),AND(AG25="Baja",AI25="Catastrófico"),AND(AG25="Media",AI25="Catastrófico"),AND(AG25="Alta",AI25="Catastrófico"),AND(AG25="Muy Alta",AI25="Catastrófico")),"Extremo","")))),"") -> Alto | AL25: Reducir (mitigar) | AM25: Realización de mesa de trabajo para la Socialización de la Directiva y diligenciamiento del formato de requerimientos del Plan Anual de Adquisiciones | AN25: Andrea Polanía González | AO25: 04 de Octubre | AP25: 04 de Octubre | AQ25: Acta de reunión, listado de asistencia, envío de correo electrónico con documentos presentados en la socialización | AR25: En curso
S26: =IF(NOT(ISERROR(MATCH(R26,_xlfn.ANCHORARRAY(H37),0))),Q39&"Por favor no seleccionar los criterios de impacto",R26) -> 0 | W26: 2 | X26: El profesional de la Oficina Asesora de Planeación desarrolla de manera anual mesas de trabajo con jefes de unidad, jefes de oficina y demás responsables de áreas y servicios, según cronograma establecido en la directiva del Plan anual de Adquisiciones, para realizar divulgación de los lineamientos definidos y brindar acompañamiento en la identificación y diligenciamiento de los formatos solicitados, así como para la validación y aprobación de las necesidades proyectadas por cada una de las unidades por parte de los Subdirectores. | Y26: =IF(OR(Z26="Preventivo",Z26="Detectivo"),"Probabilidad",IF(Z26="Correctivo","Impacto","")) -> Probabilidad | Z26: Preventivo | AA26: Manual | AB26: 40% | AC26: documentado | AD26: Continua | AE26: Con Registro | AF26: =IFERROR(IF(AND(Y25="Probabilidad",Y26="Probabilidad"),(AH25-(+AH25*AB26)),IF(Y26="Probabilidad",(Q25-(+Q25*AB26)),IF(Y26="Impacto",AH25,""))),"") -> 0.072 | AG26: =IFERROR(IF(AF26="","",IF(AF26<=0.2,"Muy Baja",IF(AF26<=0.4,"Baja",IF(AF26<=0.6,"Media",IF(AF26<=0.8,"Alta","Muy Alta"))))),"") -> Muy Baja | AH26: =+AF26 -> 0.072 | AI26: =IFERROR(IF(AJ26="","",IF(AJ26<=0.2,"Leve",IF(AJ26<=0.4,"Menor",IF(AJ26<=0.6,"Moderado",IF(AJ26<=0.8,"Mayor","Catastrófico"))))),"") -> Mayor | AJ26: =IFERROR(IF(AND(Y25="Impacto",Y26="Impacto"),(AJ25-(+AJ25*AB26)),IF(Y26="Impacto",(U25-(+U25*AB26)),IF(Y26="Probabilidad",AJ25,""))),"") -> 0.8 | AK26: =IFERROR(IF(OR(AND(AG26="Muy Baja",AI26="Leve"),AND(AG26="Muy Baja",AI26="Menor"),AND(AG26="Baja",AI26="Leve")),"Bajo",IF(OR(AND(AG26="Muy baja",AI26="Moderado"),AND(AG26="Baja",AI26="Menor"),AND(AG26="Baja",AI26="Moderado"),AND(AG26="Media",AI26="Leve"),AND(AG26="Media",AI26="Menor"),AND(AG26="Media",AI26="Moderado"),AND(AG26="Alta",AI26="Leve"),AND(AG26="Alta",AI26="Menor")),"Moderado",IF(OR(AND(AG26="Muy Baja",AI26="Mayor"),AND(AG26="Baja",AI26="Mayor"),AND(AG26="Media",AI26="Mayor"),AND(AG26="Alta",AI26="Moderado"),AND(AG26="Alta",AI26="Mayor"),AND(AG26="Muy Alta",AI26="Leve"),AND(AG26="Muy Alta",AI26="Menor"),AND(AG26="Muy Alta",AI26="Moderado"),AND(AG26="Muy Alta",AI26="Mayor")),"Alto",IF(OR(AND(AG26="Muy Baja",AI26="Catastrófico"),AND(AG26="Baja",AI26="Catastrófico"),AND(AG26="Media",AI26="Catastrófico"),AND(AG26="Alta",AI26="Catastrófico"),AND(AG26="Muy Alta",AI26="Catastrófico")),"Extremo","")))),"") -> Alto | AL26: Reducir (mitigar) | AM26: Realización de mesas de trabajo adicionales, para aquellas áreas y/o servicios en los que se hace necesario validar de manera detallada la información remitida o re-valiar requerimientos planteados | AN26: Andrea Polanía González | AO26: 30 de noviembre | AP26: 30 de noviembre | AQ26: Acta de reunión, listado de asistencia, envío de correo electrónico con solicitud de ajustes | AR26: En curso
S27: =IF(NOT(ISERROR(MATCH(R27,_xlfn.ANCHORARRAY(H38),0))),Q40&"Por favor no seleccionar los criterios de impacto",R27) -> 0 | W27: 3 | X27: El profesional de la Oficina Asesora de Planeación convoca al Comité Institucional de Gestión y Desempeño de manera anual, para la presentación de la desagregación presupuestal según Decreto de Liquidación de la vigencia y aprobación del Plan de Adquisiciones consolidado. | Y27: =IF(OR(Z27="Preventivo",Z27="Detectivo"),"Probabilidad",IF(Z27="Correctivo","Impacto","")) -> Probabilidad | Z27: Preventivo | AA27: Manual | AB27: 40% | AC27: Documentado | AD27: Continua | AE27: Con Registro | AF27: =IFERROR(IF(AND(Y26="Probabilidad",Y27="Probabilidad"),(AH26-(+AH26*AB27)),IF(Y27="Probabilidad",(Q26-(+Q26*AB27)),IF(Y27="Impacto",AH26,""))),"") -> 0.0432 | AG27: =IFERROR(IF(AF27="","",IF(AF27<=0.2,"Muy Baja",IF(AF27<=0.4,"Baja",IF(AF27<=0.6,"Media",IF(AF27<=0.8,"Alta","Muy Alta"))))),"") -> Muy Baja | AH27: =+AF27 -> 0.0432 | AI27: =IFERROR(IF(AJ27="","",IF(AJ27<=0.2,"Leve",IF(AJ27<=0.4,"Menor",IF(AJ27<=0.6,"Moderado",IF(AJ27<=0.8,"Mayor","Catastrófico"))))),"") -> Mayor | AJ27: =IFERROR(IF(AND(Y26="Impacto",Y27="Impacto"),(AJ26-(+AJ26*AB27)),IF(AND(Y26="Probabilidad",Y27="Impacto"),(AJ25-(+AJ25*AB27)),IF(Y27="Probabilidad",AJ26,""))),"") -> 0.8 | AK27: =IFERROR(IF(OR(AND(AG27="Muy Baja",AI27="Leve"),AND(AG27="Muy Baja",AI27="Menor"),AND(AG27="Baja",AI27="Leve")),"Bajo",IF(OR(AND(AG27="Muy baja",AI27="Moderado"),AND(AG27="Baja",AI27="Menor"),AND(AG27="Baja",AI27="Moderado"),AND(AG27="Media",AI27="Leve"),AND(AG27="Media",AI27="Menor"),AND(AG27="Media",AI27="Moderado"),AND(AG27="Alta",AI27="Leve"),AND(AG27="Alta",AI27="Menor")),"Moderado",IF(OR(AND(AG27="Muy Baja",AI27="Mayor"),AND(AG27="Baja",AI27="Mayor"),AND(AG27="Media",AI27="Mayor"),AND(AG27="Alta",AI27="Moderado"),AND(AG27="Alta",AI27="Mayor"),AND(AG27="Muy Alta",AI27="Leve"),AND(AG27="Muy Alta",AI27="Menor"),AND(AG27="Muy Alta",AI27="Moderado"),AND(AG27="Muy Alta",AI27="Mayor")),"Alto",IF(OR(AND(AG27="Muy Baja",AI27="Catastrófico"),AND(AG27="Baja",AI27="Catastrófico"),AND(AG27="Media",AI27="Catastrófico"),AND(AG27="Alta",AI27="Catastrófico"),AND(AG27="Muy Alta",AI27="Catastrófico")),"Extremo","")))),"") -> Alto | AL27: Reducir (mitigar)
S28: =IF(NOT(ISERROR(MATCH(R28,_xlfn.ANCHORARRAY(H39),0))),Q41&"Por favor no seleccionar los criterios de impacto",R28) -> 0 | W28: 4 | Y28: =IF(OR(Z28="Preventivo",Z28="Detectivo"),"Probabilidad",IF(Z28="Correctivo","Impacto","")) | AB28: =IF(AND(Z28="Preventivo",AA28="Automático"),"50%",IF(AND(Z28="Preventivo",AA28="Manual"),"40%",IF(AND(Z28="Detectivo",AA28="Automático"),"40%",IF(AND(Z28="Detectivo",AA28="Manual"),"30%",IF(AND(Z28="Correctivo",AA28="Automático"),"35%",IF(AND(Z28="Correctivo",AA28="Manual"),"25%","")))))) | AF28: =IFERROR(IF(AND(Y27="Probabilidad",Y28="Probabilidad"),(AH27-(+AH27*AB28)),IF(Y28="Probabilidad",(Q27-(+Q27*AB28)),IF(Y28="Impacto",AH27,""))),"") | AG28: =IFERROR(IF(AF28="","",IF(AF28<=0.2,"Muy Baja",IF(AF28<=0.4,"Baja",IF(AF28<=0.6,"Media",IF(AF28<=0.8,"Alta","Muy Alta"))))),"") | AH28: =+AF28 | AI28: =IFERROR(IF(AJ28="","",IF(AJ28<=0.2,"Leve",IF(AJ28<=0.4,"Menor",IF(AJ28<=0.6,"Moderado",IF(AJ28<=0.8,"Mayor","Catastrófico"))))),"") | AJ28: =IFERROR(IF(AND(Y27="Impacto",Y28="Impacto"),(AJ27-(+AJ27*AB28)),IF(AND(Y27="Probabilidad",Y28="Impacto"),(AJ26-(+AJ26*AB28)),IF(Y28="Probabilidad",AJ27,""))),"") | AK28: =IFERROR(IF(OR(AND(AG28="Muy Baja",AI28="Leve"),AND(AG28="Muy Baja",AI28="Menor"),AND(AG28="Baja",AI28="Leve")),"Bajo",IF(OR(AND(AG28="Muy baja",AI28="Moderado"),AND(AG28="Baja",AI28="Menor"),AND(AG28="Baja",AI28="Moderado"),AND(AG28="Media",AI28="Leve"),AND(AG28="Media",AI28="Menor"),AND(AG28="Media",AI28="Moderado"),AND(AG28="Alta",AI28="Leve"),AND(AG28="Alta",AI28="Menor")),"Moderado",IF(OR(AND(AG28="Muy Baja",AI28="Mayor"),AND(AG28="Baja",AI28="Mayor"),AND(AG28="Media",AI28="Mayor"),AND(AG28="Alta",AI28="Moderado"),AND(AG28="Alta",AI28="Mayor"),AND(AG28="Muy Alta",AI28="Leve"),AND(AG28="Muy Alta",AI28="Menor"),AND(AG28="Muy Alta",AI28="Moderado"),AND(AG28="Muy Alta",AI28="Mayor")),"Alto",IF(OR(AND(AG28="Muy Baja",AI28="Catastrófico"),AND(AG28="Baja",AI28="Catastrófico"),AND(AG28="Media",AI28="Catastrófico"),AND(AG28="Alta",AI28="Catastrófico"),AND(AG28="Muy Alta",AI28="Catastrófico")),"Extremo","")))),"")
S29: =IF(NOT(ISERROR(MATCH(R29,_xlfn.ANCHORARRAY(H40),0))),Q42&"Por favor no seleccionar los criterios de impacto",R29) -> 0 | W29: 5 | Y29: =IF(OR(Z29="Preventivo",Z29="Detectivo"),"Probabilidad",IF(Z29="Correctivo","Impacto","")) | AB29: =IF(AND(Z29="Preventivo",AA29="Automático"),"50%",IF(AND(Z29="Preventivo",AA29="Manual"),"40%",IF(AND(Z29="Detectivo",AA29="Automático"),"40%",IF(AND(Z29="Detectivo",AA29="Manual"),"30%",IF(AND(Z29="Correctivo",AA29="Automático"),"35%",IF(AND(Z29="Correctivo",AA29="Manual"),"25%","")))))) | AF29: =IFERROR(IF(AND(Y28="Probabilidad",Y29="Probabilidad"),(AH28-(+AH28*AB29)),IF(Y29="Probabilidad",(Q28-(+Q28*AB29)),IF(Y29="Impacto",AH28,""))),"") | AG29: =IFERROR(IF(AF29="","",IF(AF29<=0.2,"Muy Baja",IF(AF29<=0.4,"Baja",IF(AF29<=0.6,"Media",IF(AF29<=0.8,"Alta","Muy Alta"))))),"") | AH29: =+AF29 | AI29: =IFERROR(IF(AJ29="","",IF(AJ29<=0.2,"Leve",IF(AJ29<=0.4,"Menor",IF(AJ29<=0.6,"Moderado",IF(AJ29<=0.8,"Mayor","Catastrófico"))))),"") | AJ29: =IFERROR(IF(AND(Y28="Impacto",Y29="Impacto"),(AJ28-(+AJ28*AB29)),IF(AND(Y28="Probabilidad",Y29="Impacto"),(AJ27-(+AJ27*AB29)),IF(Y29="Probabilidad",AJ28,""))),"") | AK29: =IFERROR(IF(OR(AND(AG29="Muy Baja",AI29="Leve"),AND(AG29="Muy Baja",AI29="Menor"),AND(AG29="Baja",AI29="Leve")),"Bajo",IF(OR(AND(AG29="Muy baja",AI29="Moderado"),AND(AG29="Baja",AI29="Menor"),AND(AG29="Baja",AI29="Moderado"),AND(AG29="Media",AI29="Leve"),AND(AG29="Media",AI29="Menor"),AND(AG29="Media",AI29="Moderado"),AND(AG29="Alta",AI29="Leve"),AND(AG29="Alta",AI29="Menor")),"Moderado",IF(OR(AND(AG29="Muy Baja",AI29="Mayor"),AND(AG29="Baja",AI29="Mayor"),AND(AG29="Media",AI29="Mayor"),AND(AG29="Alta",AI29="Moderado"),AND(AG29="Alta",AI29="Mayor"),AND(AG29="Muy Alta",AI29="Leve"),AND(AG29="Muy Alta",AI29="Menor"),AND(AG29="Muy Alta",AI29="Moderado"),AND(AG29="Muy Alta",AI29="Mayor")),"Alto",IF(OR(AND(AG29="Muy Baja",AI29="Catastrófico"),AND(AG29="Baja",AI29="Catastrófico"),AND(AG29="Media",AI29="Catastrófico"),AND(AG29="Alta",AI29="Catastrófico"),AND(AG29="Muy Alta",AI29="Catastrófico")),"Extremo","")))),"")
S30: =IF(NOT(ISERROR(MATCH(R30,_xlfn.ANCHORARRAY(H41),0))),Q43&"Por favor no seleccionar los criterios de impacto",R30) -> 0 | W30: 6 | Y30: =IF(OR(Z30="Preventivo",Z30="Detectivo"),"Probabilidad",IF(Z30="Correctivo","Impacto","")) | AB30: =IF(AND(Z30="Preventivo",AA30="Automático"),"50%",IF(AND(Z30="Preventivo",AA30="Manual"),"40%",IF(AND(Z30="Detectivo",AA30="Automático"),"40%",IF(AND(Z30="Detectivo",AA30="Manual"),"30%",IF(AND(Z30="Correctivo",AA30="Automático"),"35%",IF(AND(Z30="Correctivo",AA30="Manual"),"25%","")))))) | AF30: =IFERROR(IF(AND(Y29="Probabilidad",Y30="Probabilidad"),(AH29-(+AH29*AB30)),IF(Y30="Probabilidad",(Q29-(+Q29*AB30)),IF(Y30="Impacto",AH29,""))),"") | AG30: =IFERROR(IF(AF30="","",IF(AF30<=0.2,"Muy Baja",IF(AF30<=0.4,"Baja",IF(AF30<=0.6,"Media",IF(AF30<=0.8,"Alta","Muy Alta"))))),"") | AH30: =+AF30 | AI30: =IFERROR(IF(AJ30="","",IF(AJ30<=0.2,"Leve",IF(AJ30<=0.4,"Menor",IF(AJ30<=0.6,"Moderado",IF(AJ30<=0.8,"Mayor","Catastrófico"))))),"") | AJ30: =IFERROR(IF(AND(Y29="Impacto",Y30="Impacto"),(AJ29-(+AJ29*AB30)),IF(AND(Y29="Probabilidad",Y30="Impacto"),(AJ28-(+AJ28*AB30)),IF(Y30="Probabilidad",AJ29,""))),"") | AK30: =IFERROR(IF(OR(AND(AG30="Muy Baja",AI30="Leve"),AND(AG30="Muy Baja",AI30="Menor"),AND(AG30="Baja",AI30="Leve")),"Bajo",IF(OR(AND(AG30="Muy baja",AI30="Moderado"),AND(AG30="Baja",AI30="Menor"),AND(AG30="Baja",AI30="Moderado"),AND(AG30="Media",AI30="Leve"),AND(AG30="Media",AI30="Menor"),AND(AG30="Media",AI30="Moderado"),AND(AG30="Alta",AI30="Leve"),AND(AG30="Alta",AI30="Menor")),"Moderado",IF(OR(AND(AG30="Muy Baja",AI30="Mayor"),AND(AG30="Baja",AI30="Mayor"),AND(AG30="Media",AI30="Mayor"),AND(AG30="Alta",AI30="Moderado"),AND(AG30="Alta",AI30="Mayor"),AND(AG30="Muy Alta",AI30="Leve"),AND(AG30="Muy Alta",AI30="Menor"),AND(AG30="Muy Alta",AI30="Moderado"),AND(AG30="Muy Alta",AI30="Mayor")),"Alto",IF(OR(AND(AG30="Muy Baja",AI30="Catastrófico"),AND(AG30="Baja",AI30="Catastrófico"),AND(AG30="Media",AI30="Catastrófico"),AND(AG30="Alta",AI30="Catastrófico"),AND(AG30="Muy Alta",AI30="Catastrófico")),"Extremo","")))),"")
