Workbook

Sheet FT-Mapa de riesgos
B8: HOSPITAL MILITAR CENTRAL | H8: FORMATO: MAPA DE RIESGOS POR PROCESO | AM8: CÓDIGO: PL-OAPL-PR-05-FT-02
H9: OFICINA: ASESORA DE PLANEACION | AM9: FECHA DE EMISIÓN: 13-02-2019
AM10: VERSIÓN: 04
H11: PROCESO: PLANEACION | AM11: Página 1 de 1
H12: SISTEMA DE GESTION INTEGRADO SGI | AN12: =+Q19:R19+'[1]FT-Mapa de riesgos'!$C$53 -> #VALUE!
Q15: 32 | S15: 25 | U15: 25 | Z15: 18 | AD15: 25 | AE15: 50 | AF15: 75 | AG15: 100
B16: MAPA DE RIESGOS DE CORRUPCIÓN INSTITUCIONAL 2019 -2020
B17: IDENTIFICACIÓN DEL RIESGO | H17: VALORACION Y MITIGACIÓN DEL RIESGO
B18: No | C18: RIESGO | D18: DESCRIPCIÓN | E18: TIPO | F18: CAUSAS | G18: CONSECUENCIAS | H18: RIESGO INHERENTE | M18: CONTROLES | AJ18: RIESGO RESIDUAL | AM18: INDICADOR
H19: PROBABILIDAD | I19: IMPACTO | J19: NIVEL DEL RIESGO | K19: OPCIÓN DE MANEJO | L19: N° DE CONTROLES A REALIZAR | M19: Nombre del Control | N19: ACTIVIDAD DE CONTROL (Especifique el proposito y la forma como se realiza) | O19: En caso de encontrar información faltante para la aplicación del control, ¿Qué acción debe de realizarse? | P19: ¿El control contribuye a disminuir la Probabilidad, el Impacto? | Q19: ¿El control es automático? | R19: ¿Cuál es el control automático? | S19: ¿Esta definido el responsable? | T19: ¿Quién es el responsable? | U19: ¿Cuenta con una periodicidad definida? | V19: ¿Cuál es la periodicidad? | W19: Fecha de aplicación del control de acuerdo a los periodos de reporte y monitoreo de riesgos | Z19: ¿Cuenta con evidencias de la aplicación del control? | AA19: ¿Cuál o cuales son las evidencias? | AB19: PUNTAJE DEL CONTROL | AC19: Solo Aplica a Probabilidad | AD19: Solo Aplica a Impacto | AE19: Probalidad | AF19: Impacto | AG19: CUADRANTES A DISMINUIR Probabilidad | AH19: CUADRANTES A DISMINUIR Impacto | AJ19: PROBABILIDAD | AK19: IMPACTO | AL19: NIVEL DEL RIESGO
B20: 1 | C20: Manejo de influencias en la asignación de citas médicas. | D20: Otorgar citas y procedimientos ambulatorios que no cumplan con los requisitos establecidos en los procedimientos de asignación de citas | E20: Corrupción | F20: Falla en adherencia a los protocolos institucionales por parte de los funcionarios de asignación de citas | G20: 1.Sanciones 2.Perdida de la imagen institucional | H20: Posible | I20: Menor | J20: =IF(ISERROR(VLOOKUP(H20&I20,Hoja1!$C$1:$F$25,4,0)),"",(VLOOKUP(H20&I20,Hoja1!$C$1:$F$25,4,0))) -> Moderado | K20: Reducir | L20: 1 | M20: Monitoreo de asignación de citas | N20: Verificar el cumplimiento de los procedimientos y estándares definidos para la asignación de citas | O20: Retroalimentación sobre casos presentados | P20: Probabilidad | Q20: Si | R20: N/A | S20: Si | T20: Responsable del servicio de consulta externa | U20: Si | V20: Permanente | W20: Enero-Abril | X20: Mayo-Agosto | Y20: Septiembre-Diciembre | Z20: Si | AA20: Registro de casos con falencias | AB20: =SUM(IF(Q20="Si",Q$15,0)+(IF(S20="Si",S$15,0))+IF(U20="Si",U$15,0)+IF(Z20="Si",Z$15,0)) -> 100 | AC20: =IF(AND(L20=2,P20="Probabilidad",AB20>=75),50,IF(AND(P20="Probabilidad",L20=2,AB20>=50),37,IF(AND(P20="Probabilidad",L20=2,AB20>=25),25,IF(AND(P20="Probabilidad",L20=2,AB20>10),12,IF(AND(L20=1,P20="Probabilidad",AB20>=75),100,IF(AND(P20="Probabilidad",L20=1,AB20>=50),75,IF(AND(P20="Probabilidad",L20=1,AB20>=25),50,IF(AND(P20="Probabilidad",L20=1,AB20>10),25,IF(AND(P20="Probabilidad",L20=3,AB20>=75),33.3,IF(AND(P20="Probabilidad",L20=3,AB20,AB20>=50),25,IF(AND(P20="Probabilidad",L20=3,AB20>=25),17,IF(AND(P20="Probabilidad",L20=3,AB20>10),8,0)))))))))))) -> 100 | AD20: =IF(AND(L20=2,P20="Impacto",AB20>=75),50,IF(AND(P20="Impacto",L20=2,AB20>=50),37,IF(AND(P20="Impacto",L20=2,AB20>=25),25,IF(AND(P20="Impacto",L20=2,AB20>10),12,IF(AND(L20=1,P20="Impacto",AB20>=75),100,IF(AND(P20="Impacto",L20=1,AB20>=50),75,IF(AND(P20="Impacto",L20=1,AB20>=25),50,IF(AND(P20="Impacto",L20=1,AB20>10),25,IF(AND(P20="Impacto",L20=3,AB20>=75),33.3,IF(AND(P20="Impacto",L20=3,AB20,AB20>=50),25,IF(AND(P20="Impacto",L20=3,AB20>=25),17,IF(AND(P20="Impacto",L20=3,AB20>10),8,0)))))))))))) -> 0 | AE20: =SUM(AC20:AC22) -> 100 | AF20: =SUM(AD20:AD22) -> 0 | AG20: =IF(AE20>75,2,IF(AE20>=30,1,"-")) -> 2 | AH20: =IF(AF20>75,2,IF(AF20>=30,1,"-")) -> - | AJ20: =IF(AND(AG20=2,H20="Casi seguro"),Hoja1!$J$5,IF(AND(AG20=2,H20="Posible"),Hoja1!$J$6,IF(AND(H20="Improbable",AG20=2),Hoja1!J24,IF(AND(AG20=1,H20="Casi seguro"),Hoja1!$J$4,IF(AND(AG20=1,H20="Posible"),Hoja1!$J$5,IF(AND(AG20=1,H20="Improbable"),Hoja1!$J$6,'FT-Mapa de riesgos'!H20)))))) -> Rara Vez | AK20: =IF(AND(AH20=2,I20="Catastrofico"),Hoja1!$K$5,IF(AND(AH20=2,I20="Mayor"),Hoja1!$K$6,IF(AND(AH20=2,I20="Moderado"),Hoja1!$K$7,IF(AND(AH20=1,I20="Catastrofico"),Hoja1!$K$4,IF(AND(AH20=1,I20="Mayor "),Hoja1!$K$5,IF(AND(AH20=1,I20="Moderado"),Hoja1!$K$6,IF(AND(AH20=2,I20="Menor"),Hoja1!$K$7,'FT-Mapa de riesgos'!I20))))))) -> Menor | AL20: =IF(ISERROR(VLOOKUP(AJ20&AK20,Hoja1!$C$1:$F$25,4,0)),"",(VLOOKUP(AJ20&AK20,Hoja1!$C$1:$F$25,4,0))) -> Bajo | AM20: EFICACIA: Índice de cumplimiento actividades= (# de actividades cumplidas / # de actividades programadas) x 100
R21: =+IF(Q21="No","N/A","") | T21: =+IF(S21="No","N/A","") | AA21: =+IF(Z21="No","N/A","") | AB21: =SUM(IF(Q21="Si",Q$15,0)+(IF(S21="Si",S$15,0))+IF(U21="Si",U$15,0)+IF(Z21="Si",Z$15,0)) -> 0 | AC21: =IF(AND(L20=2,P21="Probabilidad",AB21>=75),50,IF(AND(P21="Probabilidad",L20=2,AB21>=50),37,IF(AND(P21="Probabilidad",L20=2,AB21>=25),25,IF(AND(P21="Probabilidad",L20=2,AB21>10),12,IF(AND(L20=1,P21="Probabilidad",AB21>=75),100,IF(AND(P21="Probabilidad",L20=1,AB21>=50),75,IF(AND(P21="Probabilidad",L20=1,AB21>=25),50,IF(AND(P21="Probabilidad",L20=1,AB21>10),25,IF(AND(P21="Probabilidad",L20=3,AB21>=75),33.3,IF(AND(P21="Probabilidad",L20=3,AB21,AB21>=50),25,IF(AND(P21="Probabilidad",L20=3,AB21>=25),17,IF(AND(P21="Probabilidad",L20=3,AB21>10),8,0)))))))))))) -> 0 | AD21: =IF(AND(L20=2,P21="Impacto",AB21>=75),50,IF(AND(P21="Impacto",L20=2,AB21>=50),37,IF(AND(P21="Impacto",L20=2,AB21>=25),25,IF(AND(P21="Impacto",L20=2,AB21>10),12,IF(AND(L20=1,P21="Impacto",AB21>=75),100,IF(AND(P21="Impacto",L20=1,AB21>=50),75,IF(AND(P21="Impacto",L20=1,AB21>=25),50,IF(AND(P21="Impacto",L20=1,AB21>10),25,IF(AND(P21="Impacto",L20=3,AB21>=75),33.3,IF(AND(P21="Impacto",L20=3,AB21,AB21>=50),25,IF(AND(P21="Impacto",L20=3,AB21>=25),17,IF(AND(P21="Impacto",L20=3,AB21>10),8,0)))))))))))) -> 0
R22: =+IF(Q22="No","N/A","") | T22: =+IF(S22="No","N/A","") | AA22: =+IF(Z22="No","N/A","") | AB22: =SUM(IF(Q22="Si",Q$15,0)+(IF(S22="Si",S$15,0))+IF(U22="Si",U$15,0)+IF(Z22="Si",Z$15,0)) -> 0 | AC22: =IF(AND(L20=2,P22="Probabilidad",AB22>=75),50,IF(AND(P22="Probabilidad",L20=2,AB22>=50),37,IF(AND(P22="Probabilidad",L20=2,AB22>=25),25,IF(AND(P22="Probabilidad",L20=2,AB22>10),12,IF(AND(L20=1,P22="Probabilidad",AB22>=75),100,IF(AND(P22="Probabilidad",L20=1,AB22>=50),75,IF(AND(P22="Probabilidad",L20=1,AB22>=25),50,IF(AND(P22="Probabilidad",L20=1,AB22>10),25,IF(AND(P22="Probabilidad",L20=3,AB22>=75),33.3,IF(AND(P22="Probabilidad",L20=3,AB22,AB22>=50),25,IF(AND(P22="Probabilidad",L20=3,AB22>=25),17,IF(AND(P22="Probabilidad",L20=3,AB22>10),8,0)))))))))))) -> 0 | AD22: =IF(AND(L20=2,P22="Impacto",AB22>=75),50,IF(AND(P22="Impacto",L20=2,AB22>=50),37,IF(AND(P22="Impacto",L20=2,AB22>=25),25,IF(AND(P22="Impacto",L20=2,AB22>10),12,IF(AND(L20=1,P22="Impacto",AB22>=75),100,IF(AND(P22="Impacto",L20=1,AB22>=50),75,IF(AND(P22="Impacto",L20=1,AB22>=25),50,IF(AND(P22="Impacto",L20=1,AB22>10),25,IF(AND(P22="Impacto",L20=3,AB22>=75),33.3,IF(AND(P22="Impacto",L20=3,AB22,AB22>=50),25,IF(AND(P22="Impacto",L20=3,AB22>=25),17,IF(AND(P22="Impacto",L20=3,AB22>10),8,0)))))))))))) -> 0
B23: 2 | C23: Perdida de medicamentos, reactivos y/o insumos | D23: Inadecuado manejo de inventarios de los medicamentos, reactivos e insumos | E23: Corrupción | F23: Inventarios desactualizados | G23: 1. Detrimiento patrimonial 2. Investigaciones administrativas | H23: Posible | I23: Moderado | J23: =IF(ISERROR(VLOOKUP(H23&I23,Hoja1!$C$1:$F$25,4,0)),"",(VLOOKUP(H23&I23,Hoja1!$C$1:$F$25,4,0))) -> Alto | K23: Reducir | L23: 3 | M23: Mantener actualizada la información de movimiento de inventarios | N23: Descargue de inventarios en tiempo real respecto de la dispensación de los medicamentos | O23: Informar al jefe de la bodega y/o almacen | P23: Probabilidad | Q23: No | R23: =+IF(Q23="No","N/A","") -> N/A | S23: Si | T23: Jefe del servicio y Encargado del almacen | U23: Si | V23: Trimestral | W23: Enero-Abril | X23: Mayo-Agosto | Y23: Septiembre-Diciembre | Z23: Si | AA23: Informe de revista de almacen | AB23: =SUM(IF(Q23="Si",Q$15,0)+(IF(S23="Si",S$15,0))+IF(U23="Si",U$15,0)+IF(Z23="Si",Z$15,0)) -> 68 | AC23: =IF(AND(L23=2,P23="Probabilidad",AB23>=75),50,IF(AND(P23="Probabilidad",L23=2,AB23>=50),37,IF(AND(P23="Probabilidad",L23=2,AB23>=25),25,IF(AND(P23="Probabilidad",L23=2,AB23>10),12,IF(AND(L23=1,P23="Probabilidad",AB23>=75),100,IF(AND(P23="Probabilidad",L23=1,AB23>=50),75,IF(AND(P23="Probabilidad",L23=1,AB23>=25),50,IF(AND(P23="Probabilidad",L23=1,AB23>10),25,IF(AND(P23="Probabilidad",L23=3,AB23>=75),33.3,IF(AND(P23="Probabilidad",L23=3,AB23,AB23>=50),25,IF(AND(P23="Probabilidad",L23=3,AB23>=25),17,IF(AND(P23="Probabilidad",L23=3,AB23>10),8,0)))))))))))) -> 25 | AD23: =IF(AND(L23=2,P23="Impacto",AB23>=75),50,IF(AND(P23="Impacto",L23=2,AB23>=50),37,IF(AND(P23="Impacto",L23=2,AB23>=25),25,IF(AND(P23="Impacto",L23=2,AB23>10),12,IF(AND(L23=1,P23="Impacto",AB23>=75),100,IF(AND(P23="Impacto",L23=1,AB23>=50),75,IF(AND(P23="Impacto",L23=1,AB23>=25),50,IF(AND(P23="Impacto",L23=1,AB23>10),25,IF(AND(P23="Impacto",L23=3,AB23>=75),33.3,IF(AND(P23="Impacto",L23=3,AB23,AB23>=50),25,IF(AND(P23="Impacto",L23=3,AB23>=25),17,IF(AND(P23="Impacto",L23=3,AB23>10),8,0)))))))))))) -> 0 | AE23: =SUM(AC23:AC25) -> 75 | AF23: =SUM(AD23:AD25) -> 0 | AG23: =IF(AE23>75,2,IF(AE23>=30,1,"-")) -> 1 | AH23: =IF(AF23>75,2,IF(AF23>=30,1,"-")) -> - | AJ23: =IF(AND(AG23=2,H23="Casi seguro"),Hoja1!$J$5,IF(AND(AG23=2,H23="Posible"),Hoja1!$J$6,IF(AND(H23="Improbable",AG23=2),Hoja1!#REF!,IF(AND(AG23=1,H23="Casi seguro"),Hoja1!$J$4,IF(AND(AG23=1,H23="Posible"),Hoja1!$J$5,IF(AND(AG23=1,H23="Improbable"),Hoja1!$J$6,'FT-Mapa de riesgos'!H23)))))) -> Improbable | AK23: =IF(AND(AH23=2,I23="Catastrofico"),Hoja1!$K$5,IF(AND(AH23=2,I23="Mayor"),Hoja1!$K$6,IF(AND(AH23=2,I23="Moderado"),Hoja1!$K$7,IF(AND(AH23=1,I23="Catastrofico"),Hoja1!$K$4,IF(AND(AH23=1,I23="Mayor "),Hoja1!$K$5,IF(AND(AH23=1,I23="Moderado"),Hoja1!$K$6,IF(AND(AH23=2,I23="Menor"),Hoja1!$K$7,'FT-Mapa de riesgos'!I23))))))) -> Moderado | AL23: =IF(ISERROR(VLOOKUP(AJ23&AK23,Hoja1!$C$1:$F$25,4,0)),"",(VLOOKUP(AJ23&AK23,Hoja1!$C$1:$F$25,4,0))) -> Moderado
F24: Inadecauda recepción de los medicamentos, reactivos e insumos | K24: Reducir | M24: Recepción de los medicamentos, reactivos e insumos y control del diligenciamiento total de la información del formato | N24: Verificar los insumos solicitados vs la factura y el contrato | O24: No acepta la entrega del insumo con novedades y generar informe | P24: Probabilidad | Q24: No | R24: =+IF(Q24="No","N/A","") -> N/A | S24: Si | T24: Encargado del almacen y supervisor del contrato | U24: Si | V24: Mensual | W24: Enero-Abril | X24: Mayo-Agosto | Y24: Septiembre-Diciembre | Z24: Si | AA24: Formato de recepción técnica | AB24: =SUM(IF(Q24="Si",Q$15,0)+(IF(S24="Si",S$15,0))+IF(U24="Si",U$15,0)+IF(Z24="Si",Z$15,0)) -> 68 | AC24: =IF(AND(L23=2,P24="Probabilidad",AB24>=75),50,IF(AND(P24="Probabilidad",L23=2,AB24>=50),37,IF(AND(P24="Probabilidad",L23=2,AB24>=25),25,IF(AND(P24="Probabilidad",L23=2,AB24>10),12,IF(AND(L23=1,P24="Probabilidad",AB24>=75),100,IF(AND(P24="Probabilidad",L23=1,AB24>=50),75,IF(AND(P24="Probabilidad",L23=1,AB24>=25),50,IF(AND(P24="Probabilidad",L23=1,AB24>10),25,IF(AND(P24="Probabilidad",L23=3,AB24>=75),33.3,IF(AND(P24="Probabilidad",L23=3,AB24,AB24>=50),25,IF(AND(P24="Probabilidad",L23=3,AB24>=25),17,IF(AND(P24="Probabilidad",L23=3,AB24>10),8,0)))))))))))) -> 25 | AD24: =IF(AND(L23=2,P24="Impacto",AB24>=75),50,IF(AND(P24="Impacto",L23=2,AB24>=50),37,IF(AND(P24="Impacto",L23=2,AB24>=25),25,IF(AND(P24="Impacto",L23=2,AB24>10),12,IF(AND(L23=1,P24="Impacto",AB24>=75),100,IF(AND(P24="Impacto",L23=1,AB24>=50),75,IF(AND(P24="Impacto",L23=1,AB24>=25),50,IF(AND(P24="Impacto",L23=1,AB24>10),25,IF(AND(P24="Impacto",L23=3,AB24>=75),33.3,IF(AND(P24="Impacto",L23=3,AB24,AB24>=50),25,IF(AND(P24="Impacto",L23=3,AB24>=25),17,IF(AND(P24="Impacto",L23=3,AB24>10),8,0)))))))))))) -> 0
F25: Controles inefectivos o insuficientes | K25: Reducir | M25: Selectivas control de existencias | N25: Verificar los inventarios en Dinamica contra las existencias fisicas | O25: Analizar información por digitar y registros realizados | P25: Probabilidad | Q25: No | R25: =+IF(Q25="No","N/A","") -> N/A | S25: Si | T25: Coordinador de Farmacia | U25: Si | V25: Semanal | W25: Enero-Abril | X25: Mayo-Agosto | Y25: Septiembre-Diciembre | Z25: Si | AA25: Formato selectivas | AB25: =SUM(IF(Q25="Si",Q$15,0)+(IF(S25="Si",S$15,0))+IF(U25="Si",U$15,0)+IF(Z25="Si",Z$15,0)) -> 68 | AC25: =IF(AND(L23=2,P25="Probabilidad",AB25>=75),50,IF(AND(P25="Probabilidad",L23=2,AB25>=50),37,IF(AND(P25="Probabilidad",L23=2,AB25>=25),25,IF(AND(P25="Probabilidad",L23=2,AB25>10),12,IF(AND(L23=1,P25="Probabilidad",AB25>=75),100,IF(AND(P25="Probabilidad",L23=1,AB25>=50),75,IF(AND(P25="Probabilidad",L23=1,AB25>=25),50,IF(AND(P25="Probabilidad",L23=1,AB25>10),25,IF(AND(P25="Probabilidad",L23=3,AB25>=75),33.3,IF(AND(P25="Probabilidad",L23=3,AB25,AB25>=50),25,IF(AND(P25="Probabilidad",L23=3,AB25>=25),17,IF(AND(P25="Probabilidad",L23=3,AB25>10),8,0)))))))))))) -> 25 | AD25: =IF(AND(L23=2,P25="Impacto",AB25>=75),50,IF(AND(P25="Impacto",L23=2,AB25>=50),37,IF(AND(P25="Impacto",L23=2,AB25>=25),25,IF(AND(P25="Impacto",L23=2,AB25>10),12,IF(AND(L23=1,P25="Impacto",AB25>=75),100,IF(AND(P25="Impacto",L23=1,AB25>=50),75,IF(AND(P25="Impacto",L23=1,AB25>=25),50,IF(AND(P25="Impacto",L23=1,AB25>10),25,IF(AND(P25="Impacto",L23=3,AB25>=75),33.3,IF(AND(P25="Impacto",L23=3,AB25,AB25>=50),25,IF(AND(P25="Impacto",L23=3,AB25>=25),17,IF(AND(P25="Impacto",L23=3,AB25>10),8,0)))))))))))) -> 0
B26: 3 | C26: Falsificación y adulteración de fórmulas medicas | D26: Reclamación de medicamentos e insumos con documentos adulterados o fraudulentos | E26: Corrupción | F26: Hurto de talonarios de formulas medicas. | G26: 1.Reclamacion de medicamentos e insumos de salud. 2.Detrimento patrimonial del SSFM. | H26: Posible | I26: Mayor | J26: =IF(ISERROR(VLOOKUP(H26&I26,Hoja1!$C$1:$F$25,4,0)),"",(VLOOKUP(H26&I26,Hoja1!$C$1:$F$25,4,0))) -> Extremo | K26: Reducir | L26: 2 | M26: Entrega controlada de talonarios al área asistencial y del uso de los mismos | N26: Imprenta hace entrega de los talonarios al almacen, este hace entrega a las secretarias de los servicios y al interior de cada servicio se hace entrega de talonarios según demanda de los medicos asistenciales. No hay una trazabilidad de los talonarios especialmente al momento de la prescripción | O26: Requerir la acalración e investigación pertinente | P26: Probabilidad | Q26: No | R26: =+IF(Q26="No","N/A","") -> N/A | S26: Si | T26: Jefe de Servicio Asistencial respectivo | U26: Si | V26: Permanente | W26: Enero-Abril | X26: Mayo-Agosto | Y26: Septiembre-Diciembre | Z26: Si | AA26: Formula medica | AB26: =SUM(IF(Q26="Si",Q$15,0)+(IF(S26="Si",S$15,0))+IF(U26="Si",U$15,0)+IF(Z26="Si",Z$15,0)) -> 68 | AC26: =IF(AND(L26=2,P26="Probabilidad",AB26>=75),50,IF(AND(P26="Probabilidad",L26=2,AB26>=50),37,IF(AND(P26="Probabilidad",L26=2,AB26>=25),25,IF(AND(P26="Probabilidad",L26=2,AB26>10),12,IF(AND(L26=1,P26="Probabilidad",AB26>=75),100,IF(AND(P26="Probabilidad",L26=1,AB26>=50),75,IF(AND(P26="Probabilidad",L26=1,AB26>=25),50,IF(AND(P26="Probabilidad",L26=1,AB26>10),25,IF(AND(P26="Probabilidad",L26=3,AB26>=75),33.3,IF(AND(P26="Probabilidad",L26=3,AB26,AB26>=50),25,IF(AND(P26="Probabilidad",L26=3,AB26>=25),17,IF(AND(P26="Probabilidad",L26=3,AB26>10),8,0)))))))))))) -> 37 | AD26: =IF(AND(L26=2,P26="Impacto",AB26>=75),50,IF(AND(P26="Impacto",L26=2,AB26>=50),37,IF(AND(P26="Impacto",L26=2,AB26>=25),25,IF(AND(P26="Impacto",L26=2,AB26>10),12,IF(AND(L26=1,P26="Impacto",AB26>=75),100,IF(AND(P26="Impacto",L26=1,AB26>=50),75,IF(AND(P26="Impacto",L26=1,AB26>=25),50,IF(AND(P26="Impacto",L26=1,AB26>10),25,IF(AND(P26="Impacto",L26=3,AB26>=75),33.3,IF(AND(P26="Impacto",L26=3,AB26,AB26>=50),25,IF(AND(P26="Impacto",L26=3,AB26>=25),17,IF(AND(P26="Impacto",L26=3,AB26>10),8,0)))))))))))) -> 0 | AE26: =SUM(AC26:AC28) -> 87 | AF26: =SUM(AD26:AD28) -> 0 | AG26: =IF(AE26>75,2,IF(AE26>=30,1,"-")) -> 2 | AH26: =IF(AF26>75,2,IF(AF26>=30,1,"-")) -> - | AJ26: =IF(AND(AG26=2,H26="Casi seguro"),Hoja1!$J$5,IF(AND(AG26=2,H26="Posible"),Hoja1!$J$6,IF(AND(H26="Improbable",AG26=2),Hoja1!J9,IF(AND(AG26=1,H26="Casi seguro"),Hoja1!$J$4,IF(AND(AG26=1,H26="Posible"),Hoja1!$J$5,IF(AND(AG26=1,H26="Improbable"),Hoja1!$J$6,'FT-Mapa de riesgos'!H26)))))) -> Rara Vez | AK26: =IF(AND(AH26=2,I26="Catastrofico"),Hoja1!$K$5,IF(AND(AH26=2,I26="Mayor"),Hoja1!$K$6,IF(AND(AH26=2,I26="Moderado"),Hoja1!$K$7,IF(AND(AH26=1,I26="Catastrofico"),Hoja1!$K$4,IF(AND(AH26=1,I26="Mayor "),Hoja1!$K$5,IF(AND(AH26=1,I26="Moderado"),Hoja1!$K$6,IF(AND(AH26=2,I26="Menor"),Hoja1!$K$7,'FT-Mapa de riesgos'!I26))))))) -> Mayor | AL26: =IF(ISERROR(VLOOKUP(AJ26&AK26,Hoja1!$C$1:$F$25,4,0)),"",(VLOOKUP(AJ26&AK26,Hoja1!$C$1:$F$25,4,0))) -> Alto
F27: Adulteracion externa de formulas medicas. | K27: Reducir | M27: Validación de formulas medicas con DGH.Net. | N27: Dinamica gerencial genera la prescripción conforme a las claves de acceso de cada uno de los medicos tratantes | O27: Requerir la acalración e investigación pertinente | P27: Probabilidad | Q27: Si | R27: Dinamica Gerencial - Historias Clinicas | S27: Si | T27: Tecnico de Farmacia | U27: Si | V27: Permanente | W27: Enero-Abril | X27: Mayo-Agosto | Y27: Septiembre-Diciembre | Z27: Si | AA27: Formula medica | AB27: =SUM(IF(Q27="Si",Q$15,0)+(IF(S27="Si",S$15,0))+IF(U27="Si",U$15,0)+IF(Z27="Si",Z$15,0)) -> 100 | AC27: =IF(AND(L26=2,P27="Probabilidad",AB27>=75),50,IF(AND(P27="Probabilidad",L26=2,AB27>=50),37,IF(AND(P27="Probabilidad",L26=2,AB27>=25),25,IF(AND(P27="Probabilidad",L26=2,AB27>10),12,IF(AND(L26=1,P27="Probabilidad",AB27>=75),100,IF(AND(P27="Probabilidad",L26=1,AB27>=50),75,IF(AND(P27="Probabilidad",L26=1,AB27>=25),50,IF(AND(P27="Probabilidad",L26=1,AB27>10),25,IF(AND(P27="Probabilidad",L26=3,AB27>=75),33.3,IF(AND(P27="Probabilidad",L26=3,AB27,AB27>=50),25,IF(AND(P27="Probabilidad",L26=3,AB27>=25),17,IF(AND(P27="Probabilidad",L26=3,AB27>10),8,0)))))))))))) -> 50 | AD27: =IF(AND(L26=2,P27="Impacto",AB27>=75),50,IF(AND(P27="Impacto",L26=2,AB27>=50),37,IF(AND(P27="Impacto",L26=2,AB27>=25),25,IF(AND(P27="Impacto",L26=2,AB27>10),12,IF(AND(L26=1,P27="Impacto",AB27>=75),100,IF(AND(P27="Impacto",L26=1,AB27>=50),75,IF(AND(P27="Impacto",L26=1,AB27>=25),50,IF(AND(P27="Impacto",L26=1,AB27>10),25,IF(AND(P27="Impacto",L26=3,AB27>=75),33.3,IF(AND(P27="Impacto",L26=3,AB27,AB27>=50),25,IF(AND(P27="Impacto",L26=3,AB27>=25),17,IF(AND(P27="Impacto",L26=3,AB27>10),8,0)))))))))))) -> 0
R28: =+IF(Q28="No","N/A","") | T28: =+IF(S28="No","N/A","") | AA28: =+IF(Z28="No","N/A","") | AB28: =SUM(IF(Q28="Si",Q$15,0)+(IF(S28="Si",S$15,0))+IF(U28="Si",U$15,0)+IF(Z28="Si",Z$15,0)) -> 0 | AC28: =IF(AND(L26=2,P28="Probabilidad",AB28>=75),50,IF(AND(P28="Probabilidad",L26=2,AB28>=50),37,IF(AND(P28="Probabilidad",L26=2,AB28>=25),25,IF(AND(P28="Probabilidad",L26=2,AB28>10),12,IF(AND(L26=1,P28="Probabilidad",AB28>=75),100,IF(AND(P28="Probabilidad",L26=1,AB28>=50),75,IF(AND(P28="Probabilidad",L26=1,AB28>=25),50,IF(AND(P28="Probabilidad",L26=1,AB28>10),25,IF(AND(P28="Probabilidad",L26=3,AB28>=75),33.3,IF(AND(P28="Probabilidad",L26=3,AB28,AB28>=50),25,IF(AND(P28="Probabilidad",L26=3,AB28>=25),17,IF(AND(P28="Probabilidad",L26=3,AB28>10),8,0)))))))))))) -> 0 | AD28: =IF(AND(L26=2,P28="Impacto",AB28>=75),50,IF(AND(P28="Impacto",L26=2,AB28>=50),37,IF(AND(P28="Impacto",L26=2,AB28>=25),25,IF(AND(P28="Impacto",L26=2,AB28>10),12,IF(AND(L26=1,P28="Impacto",AB28>=75),100,IF(AND(P28="Impacto",L26=1,AB28>=50),75,IF(AND(P28="Impacto",L26=1,AB28>=25),50,IF(AND(P28="Impacto",L26=1,AB28>10),25,IF(AND(P28="Impacto",L26=3,AB28>=75),33.3,IF(AND(P28="Impacto",L26=3,AB28,AB28>=50),25,IF(AND(P28="Impacto",L26=3,AB28>=25),17,IF(AND(P28="Impacto",L26=3,AB28>10),8,0)))))))))))) -> 0
B29: 4 | C29: Ingreso de aspirantes sin el cumplimiento de requisitos por influencia de terceros (ESAE) | D29: Cumplimiento del perfil de ingreso establecido según la Norma y el PEI institucional | E29: Corrupción | F29: Falta de cumplimiento de los procedimientos admisión | G29: 1. Falta de credibilidad de la Escuela de Enfermería | H29: Rara vez | I29: Moderado | J29: =IF(ISERROR(VLOOKUP(H29&I29,Hoja1!$C$1:$F$25,4,0)),"",(VLOOKUP(H29&I29,Hoja1!$C$1:$F$25,4,0))) -> Moderado | K29: Reducir | L29: 1 | M29: Lista de chequeo de requisitos de admisión | N29: Verificar la aprobación de pruebas de conocimiento y entrevista. | O29: suspensión de proceso de matricula | P29: Probabilidad | Q29: No | R29: =+IF(Q29="No","N/A","") -> N/A | S29: Si | T29: Directora de la ESAE. Líder de procedimiento de Admisiones | U29: Si | V29: Semestral | W29: N/A | X29: Mayo-Agosto | Y29: Septiembre-Diciembre | Z29: Si | AA29: Folios de vida | AB29: =SUM(IF(Q29="Si",Q$15,0)+(IF(S29="Si",S$15,0))+IF(U29="Si",U$15,0)+IF(Z29="Si",Z$15,0)) -> 68 | AC29: =IF(AND(L29=2,P29="Probabilidad",AB29>=75),50,IF(AND(P29="Probabilidad",L29=2,AB29>=50),37,IF(AND(P29="Probabilidad",L29=2,AB29>=25),25,IF(AND(P29="Probabilidad",L29=2,AB29>10),12,IF(AND(L29=1,P29="Probabilidad",AB29>=75),100,IF(AND(P29="Probabilidad",L29=1,AB29>=50),75,IF(AND(P29="Probabilidad",L29=1,AB29>=25),50,IF(AND(P29="Probabilidad",L29=1,AB29>10),25,IF(AND(P29="Probabilidad",L29=3,AB29>=75),33.3,IF(AND(P29="Probabilidad",L29=3,AB29,AB29>=50),25,IF(AND(P29="Probabilidad",L29=3,AB29>=25),17,IF(AND(P29="Probabilidad",L29=3,AB29>10),8,0)))))))))))) -> 75 | AD29: =IF(AND(L29=2,P29="Impacto",AB29>=75),50,IF(AND(P29="Impacto",L29=2,AB29>=50),37,IF(AND(P29="Impacto",L29=2,AB29>=25),25,IF(AND(P29="Impacto",L29=2,AB29>10),12,IF(AND(L29=1,P29="Impacto",AB29>=75),100,IF(AND(P29="Impacto",L29=1,AB29>=50),75,IF(AND(P29="Impacto",L29=1,AB29>=25),50,IF(AND(P29="Impacto",L29=1,AB29>10),25,IF(AND(P29="Impacto",L29=3,AB29>=75),33.3,IF(AND(P29="Impacto",L29=3,AB29,AB29>=50),25,IF(AND(P29="Impacto",L29=3,AB29>=25),17,IF(AND(P29="Impacto",L29=3,AB29>10),8,0)))))))))))) -> 0 | AE29: =SUM(AC29:AC31) -> 75 | AF29: =SUM(AD29:AD31) -> 0 | AG29: =IF(AE29>75,2,IF(AE29>=30,1,"-")) -> 1 | AH29: =IF(AF29>75,2,IF(AF29>=30,1,"-")) -> - | AJ29: =IF(AND(AG29=2,H29="Casi seguro"),Hoja1!$J$5,IF(AND(AG29=2,H29="Posible"),Hoja1!$J$6,IF(AND(H29="Improbable",AG29=2),Hoja1!J30,IF(AND(AG29=1,H29="Casi seguro"),Hoja1!$J$4,IF(AND(AG29=1,H29="Posible"),Hoja1!$J$5,IF(AND(AG29=1,H29="Improbable"),Hoja1!$J$6,'FT-Mapa de riesgos'!H29)))))) -> Rara vez | AK29: =IF(AND(AH29=2,I29="Catastrofico"),Hoja1!$K$5,IF(AND(AH29=2,I29="Mayor"),Hoja1!$K$6,IF(AND(AH29=2,I29="Moderado"),Hoja1!$K$7,IF(AND(AH29=1,I29="Catastrofico"),Hoja1!$K$4,IF(AND(AH29=1,I29="Mayor "),Hoja1!$K$5,IF(AND(AH29=1,I29="Moderado"),Hoja1!$K$6,IF(AND(AH29=2,I29="Menor"),Hoja1!$K$7,'FT-Mapa de riesgos'!I29))))))) -> Moderado | AL29: =IF(ISERROR(VLOOKUP(AJ29&AK29,Hoja1!$C$1:$F$25,4,0)),"",(VLOOKUP(AJ29&AK29,Hoja1!$C$1:$F$25,4,0))) -> Moderado
R30: =+IF(Q30="No","N/A","") | T30: =+IF(S30="No","N/A","") | AA30: =+IF(Z30="No","N/A","") | AB30: =SUM(IF(Q30="Si",Q$15,0)+(IF(S30="Si",S$15,0))+IF(U30="Si",U$15,0)+IF(Z30="Si",Z$15,0)) -> 0 | AC30: =IF(AND(L29=2,P30="Probabilidad",AB30>=75),50,IF(AND(P30="Probabilidad",L29=2,AB30>=50),37,IF(AND(P30="Probabilidad",L29=2,AB30>=25),25,IF(AND(P30="Probabilidad",L29=2,AB30>10),12,IF(AND(L29=1,P30="Probabilidad",AB30>=75),100,IF(AND(P30="Probabilidad",L29=1,AB30>=50),75,IF(AND(P30="Probabilidad",L29=1,AB30>=25),50,IF(AND(P30="Probabilidad",L29=1,AB30>10),25,IF(AND(P30="Probabilidad",L29=3,AB30>=75),33.3,IF(AND(P30="Probabilidad",L29=3,AB30,AB30>=50),25,IF(AND(P30="Probabilidad",L29=3,AB30>=25),17,IF(AND(P30="Probabilidad",L29=3,AB30>10),8,0)))))))))))) -> 0 | AD30: =IF(AND(L29=2,P30="Impacto",AB30>=75),50,IF(AND(P30="Impacto",L29=2,AB30>=50),37,IF(AND(P30="Impacto",L29=2,AB30>=25),25,IF(AND(P30="Impacto",L29=2,AB30>10),12,IF(AND(L29=1,P30="Impacto",AB30>=75),100,IF(AND(P30="Impacto",L29=1,AB30>=50),75,IF(AND(P30="Impacto",L29=1,AB30>=25),50,IF(AND(P30="Impacto",L29=1,AB30>10),25,IF(AND(P30="Impacto",L29=3,AB30>=75),33.3,IF(AND(P30="Impacto",L29=3,AB30,AB30>=50),25,IF(AND(P30="Impacto",L29=3,AB30>=25),17,IF(AND(P30="Impacto",L29=3,AB30>10),8,0)))))))))))) -> 0
R31: =+IF(Q31="No","N/A","") | T31: =+IF(S31="No","N/A","") | AA31: =+IF(Z31="No","N/A","") | AB31: =SUM(IF(Q31="Si",Q$15,0)+(IF(S31="Si",S$15,0))+IF(U31="Si",U$15,0)+IF(Z31="Si",Z$15,0)) -> 0 | AC31: =IF(AND(L29=2,P31="Probabilidad",AB31>=75),50,IF(AND(P31="Probabilidad",L29=2,AB31>=50),37,IF(AND(P31="Probabilidad",L29=2,AB31>=25),25,IF(AND(P31="Probabilidad",L29=2,AB31>10),12,IF(AND(L29=1,P31="Probabilidad",AB31>=75),100,IF(AND(P31="Probabilidad",L29=1,AB31>=50),75,IF(AND(P31="Probabilidad",L29=1,AB31>=25),50,IF(AND(P31="Probabilidad",L29=1,AB31>10),25,IF(AND(P31="Probabilidad",L29=3,AB31>=75),33.3,IF(AND(P31="Probabilidad",L29=3,AB31,AB31>=50),25,IF(AND(P31="Probabilidad",L29=3,AB31>=25),17,IF(AND(P31="Probabilidad",L29=3,AB31>10),8,0)))))))))))) -> 0 | AD31: =IF(AND(L29=2,P31="Impacto",AB31>=75),50,IF(AND(P31="Impacto",L29=2,AB31>=50),37,IF(AND(P31="Impacto",L29=2,AB31>=25),25,IF(AND(P31="Impacto",L29=2,AB31>10),12,IF(AND(L29=1,P31="Impacto",AB31>=75),100,IF(AND(P31="Impacto",L29=1,AB31>=50),75,IF(AND(P31="Impacto",L29=1,AB31>=25),50,IF(AND(P31="Impacto",L29=1,AB31>10),25,IF(AND(P31="Impacto",L29=3,AB31>=75),33.3,IF(AND(P31="Impacto",L29=3,AB31,AB31>=50),25,IF(AND(P31="Impacto",L29=3,AB31>=25),17,IF(AND(P31="Impacto",L29=3,AB31>10),8,0)))))))))))) -> 0
B32: 5 | C32: Perdida de materiales y/o herramientas para el mantenimiento de las instalaciones | D32: Extravio de los materiales y herramients utilizadas para los mantenimientos de la entidad | E32: Corrupción | F32: Sobreestimación de los materiales para la ejecución de los mantenimientos | G32: 1. Sanciones disciplinarias, fiscales y penales | H32: Posible | I32: Moderado | J32: =IF(ISERROR(VLOOKUP(H32&I32,Hoja1!$C$1:$F$25,4,0)),"",(VLOOKUP(H32&I32,Hoja1!$C$1:$F$25,4,0))) -> Alto | K32: Reducir | L32: 3 | M32: Orden de servicios y solicitud al almacén con las cantidades determinadas | N32: Solicitar al almacén los insumos de materiales de mantenimiento de acuerdo a los valoraciones de las obras a realizar | O32: Se suspende el mantenimiento se prioriza para adquirir materiales por caja menor | P32: Probabilidad | Q32: No | R32: =+IF(Q32="No","N/A","") -> N/A | S32: Si | T32: Jefe del área de mantenimiento | U32: Si | V32: Permanente | W32: Enero-Abril | X32: Mayo-Agosto | Y32: Septiembre-Diciembre | Z32: Si | AA32: Archivo con ordenes de servicio del almacén | AB32: =SUM(IF(Q32="Si",Q$15,0)+(IF(S32="Si",S$15,0))+IF(U32="Si",U$15,0)+IF(Z32="Si",Z$15,0)) -> 68 | AC32: =IF(AND(L32=2,P32="Probabilidad",AB32>=75),50,IF(AND(P32="Probabilidad",L32=2,AB32>=50),37,IF(AND(P32="Probabilidad",L32=2,AB32>=25),25,IF(AND(P32="Probabilidad",L32=2,AB32>10),12,IF(AND(L32=1,P32="Probabilidad",AB32>=75),100,IF(AND(P32="Probabilidad",L32=1,AB32>=50),75,IF(AND(P32="Probabilidad",L32=1,AB32>=25),50,IF(AND(P32="Probabilidad",L32=1,AB32>10),25,IF(AND(P32="Probabilidad",L32=3,AB32>=75),33.3,IF(AND(P32="Probabilidad",L32=3,AB32,AB32>=50),25,IF(AND(P32="Probabilidad",L32=3,AB32>=25),17,IF(AND(P32="Probabilidad",L32=3,AB32>10),8,0)))))))))))) -> 25 | AD32: =IF(AND(L32=2,P32="Impacto",AB32>=75),50,IF(AND(P32="Impacto",L32=2,AB32>=50),37,IF(AND(P32="Impacto",L32=2,AB32>=25),25,IF(AND(P32="Impacto",L32=2,AB32>10),12,IF(AND(L32=1,P32="Impacto",AB32>=75),100,IF(AND(P32="Impacto",L32=1,AB32>=50),75,IF(AND(P32="Impacto",L32=1,AB32>=25),50,IF(AND(P32="Impacto",L32=1,AB32>10),25,IF(AND(P32="Impacto",L32=3,AB32>=75),33.3,IF(AND(P32="Impacto",L32=3,AB32,AB32>=50),25,IF(AND(P32="Impacto",L32=3,AB32>=25),17,IF(AND(P32="Impacto",L32=3,AB32>10),8,0)))))))))))) -> 0 | AE32: =SUM(AC32:AC34) -> 75 | AF32: =SUM(AD32:AD34) -> 0 | AG32: =IF(AE32>75,2,IF(AE32>=30,1,"-")) -> 1 | AH32: =IF(AF32>75,2,IF(AF32>=30,1,"-")) -> - | AJ32: =IF(AND(AG32=2,H32="Casi seguro"),Hoja1!$J$5,IF(AND(AG32=2,H32="Posible"),Hoja1!$J$6,IF(AND(H32="Improbable",AG32=2),Hoja1!J45,IF(AND(AG32=1,H32="Casi seguro"),Hoja1!$J$4,IF(AND(AG32=1,H32="Posible"),Hoja1!$J$5,IF(AND(AG32=1,H32="Improbable"),Hoja1!$J$6,'FT-Mapa de riesgos'!H32)))))) -> Improbable | AK32: =IF(AND(AH32=2,I32="Catastrofico"),Hoja1!$K$5,IF(AND(AH32=2,I32="Mayor"),Hoja1!$K$6,IF(AND(AH32=2,I32="Moderado"),Hoja1!$K$7,IF(AND(AH32=1,I32="Catastrofico"),Hoja1!$K$4,IF(AND(AH32=1,I32="Mayor "),Hoja1!$K$5,IF(AND(AH32=1,I32="Moderado"),Hoja1!$K$6,IF(AND(AH32=2,I32="Menor"),Hoja1!$K$7,'FT-Mapa de riesgos'!I32))))))) -> Moderado | AL32: =IF(ISERROR(VLOOKUP(AJ32&AK32,Hoja1!$C$1:$F$25,4,0)),"",(VLOOKUP(AJ32&AK32,Hoja1!$C$1:$F$25,4,0))) -> Moderado | AM32: EFICACIA: Índice de cumplimiento actividades= (# de actividades cumplidas / # de actividades programadas) x 100
F33: Falencias en el control de la terminación de las obras | K33: Reducir | M33: Constancia de entrega de los mantenimiento realizados | N33: Se conserva la constancia de los materiales solicitados y aplicados en la obras de mantenimiento | O33: Anexar soportes de los mantenimientos | P33: Probabilidad | Q33: No | R33: =+IF(Q33="No","N/A","") -> N/A | S33: Si | T33: Jefe de talleres | U33: Si | V33: Permanente | W33: Enero-Abril | X33: Mayo-Agosto | Y33: Septiembre-Diciembre | Z33: Si | AA33: Actas de entrega de mantenimiento | AB33: =SUM(IF(Q33="Si",Q$15,0)+(IF(S33="Si",S$15,0))+IF(U33="Si",U$15,0)+IF(Z33="Si",Z$15,0)) -> 68 | AC33: =IF(AND(L32=2,P33="Probabilidad",AB33>=75),50,IF(AND(P33="Probabilidad",L32=2,AB33>=50),37,IF(AND(P33="Probabilidad",L32=2,AB33>=25),25,IF(AND(P33="Probabilidad",L32=2,AB33>10),12,IF(AND(L32=1,P33="Probabilidad",AB33>=75),100,IF(AND(P33="Probabilidad",L32=1,AB33>=50),75,IF(AND(P33="Probabilidad",L32=1,AB33>=25),50,IF(AND(P33="Probabilidad",L32=1,AB33>10),25,IF(AND(P33="Probabilidad",L32=3,AB33>=75),33.3,IF(AND(P33="Probabilidad",L32=3,AB33,AB33>=50),25,IF(AND(P33="Probabilidad",L32=3,AB33>=25),17,IF(AND(P33="Probabilidad",L32=3,AB33>10),8,0)))))))))))) -> 25 | AD33: =IF(AND(L32=2,P33="Impacto",AB33>=75),50,IF(AND(P33="Impacto",L32=2,AB33>=50),37,IF(AND(P33="Impacto",L32=2,AB33>=25),25,IF(AND(P33="Impacto",L32=2,AB33>10),12,IF(AND(L32=1,P33="Impacto",AB33>=75),100,IF(AND(P33="Impacto",L32=1,AB33>=50),75,IF(AND(P33="Impacto",L32=1,AB33>=25),50,IF(AND(P33="Impacto",L32=1,AB33>10),25,IF(AND(P33="Impacto",L32=3,AB33>=75),33.3,IF(AND(P33="Impacto",L32=3,AB33,AB33>=50),25,IF(AND(P33="Impacto",L32=3,AB33>=25),17,IF(AND(P33="Impacto",L32=3,AB33>10),8,0)))))))))))) -> 0
F34: Abuso de confianza de los colaboradores | K34: Reducir | M34: Revista de control de talleres | N34: Verificar que no queden materiales y herramientas almacenados y que los existentes estén asignados a mantenimientos autorizados | O34: Se realiza revisión periódica y/o acumulada para verificar las existencias | P34: Probabilidad | Q34: No | R34: =+IF(Q34="No","N/A","") -> N/A | S34: Si | T34: Jefe del área de mantenimiento Jefe de talleres | U34: Si | V34: Semanal | W34: Enero-Abril | X34: Mayo-Agosto | Y34: Septiembre-Diciembre | Z34: Si | AA34: Actas de revista a los talleres | AB34: =SUM(IF(Q34="Si",Q$15,0)+(IF(S34="Si",S$15,0))+IF(U34="Si",U$15,0)+IF(Z34="Si",Z$15,0)) -> 68 | AC34: =IF(AND(L32=2,P34="Probabilidad",AB34>=75),50,IF(AND(P34="Probabilidad",L32=2,AB34>=50),37,IF(AND(P34="Probabilidad",L32=2,AB34>=25),25,IF(AND(P34="Probabilidad",L32=2,AB34>10),12,IF(AND(L32=1,P34="Probabilidad",AB34>=75),100,IF(AND(P34="Probabilidad",L32=1,AB34>=50),75,IF(AND(P34="Probabilidad",L32=1,AB34>=25),50,IF(AND(P34="Probabilidad",L32=1,AB34>10),25,IF(AND(P34="Probabilidad",L32=3,AB34>=75),33.3,IF(AND(P34="Probabilidad",L32=3,AB34,AB34>=50),25,IF(AND(P34="Probabilidad",L32=3,AB34>=25),17,IF(AND(P34="Probabilidad",L32=3,AB34>10),8,0)))))))))))) -> 25 | AD34: =IF(AND(L32=2,P34="Impacto",AB34>=75),50,IF(AND(P34="Impacto",L32=2,AB34>=50),37,IF(AND(P34="Impacto",L32=2,AB34>=25),25,IF(AND(P34="Impacto",L32=2,AB34>10),12,IF(AND(L32=1,P34="Impacto",AB34>=75),100,IF(AND(P34="Impacto",L32=1,AB34>=50),75,IF(AND(P34="Impacto",L32=1,AB34>=25),50,IF(AND(P34="Impacto",L32=1,AB34>10),25,IF(AND(P34="Impacto",L32=3,AB34>=75),33.3,IF(AND(P34="Impacto",L32=3,AB34,AB34>=50),25,IF(AND(P34="Impacto",L32=3,AB34>=25),17,IF(AND(P34="Impacto",L32=3,AB34>10),8,0)))))))))))) -> 0
B35: 6 | C35: Alterar la información financiera | D35: Alteraciones de la información financiera para generar información errada | E35: Corrupción | F35: Intereses de ocultar la realidad financiera de la entidad | G35: 1. Sanciones Institucionales | H35: Rara vez | I35: Catastrofico | J35: =IF(ISERROR(VLOOKUP(H35&I35,Hoja1!$C$1:$F$25,4,0)),"",(VLOOKUP(H35&I35,Hoja1!$C$1:$F$25,4,0))) -> Alto | K35: Reducir | L35: 2 | M35: Cruces de información financiera con las fuentes y comparaciones historicas | N35: Garantizar la fiabilidad y precisión de la inforación | O35: Validación con datos historicos y comportamientos ciclicos | P35: Probabilidad | Q35: No | R35: =+IF(Q35="No","N/A","") -> N/A | S35: Si | T35: Jefe de la Unidad Financiera | U35: Si | V35: Trimestral | W35: Enero-Abril | X35: Mayo-Agosto | Y35: Septiembre-Diciembre | Z35: Si | AA35: Actas de cruce de información | AB35: =SUM(IF(Q35="Si",Q$15,0)+(IF(S35="Si",S$15,0))+IF(U35="Si",U$15,0)+IF(Z35="Si",Z$15,0)) -> 68 | AC35: =IF(AND(L35=2,P35="Probabilidad",AB35>=75),50,IF(AND(P35="Probabilidad",L35=2,AB35>=50),37,IF(AND(P35="Probabilidad",L35=2,AB35>=25),25,IF(AND(P35="Probabilidad",L35=2,AB35>10),12,IF(AND(L35=1,P35="Probabilidad",AB35>=75),100,IF(AND(P35="Probabilidad",L35=1,AB35>=50),75,IF(AND(P35="Probabilidad",L35=1,AB35>=25),50,IF(AND(P35="Probabilidad",L35=1,AB35>10),25,IF(AND(P35="Probabilidad",L35=3,AB35>=75),33.3,IF(AND(P35="Probabilidad",L35=3,AB35,AB35>=50),25,IF(AND(P35="Probabilidad",L35=3,AB35>=25),17,IF(AND(P35="Probabilidad",L35=3,AB35>10),8,0)))))))))))) -> 37 | AD35: =IF(AND(L35=2,P35="Impacto",AB35>=75),50,IF(AND(P35="Impacto",L35=2,AB35>=50),37,IF(AND(P35="Impacto",L35=2,AB35>=25),25,IF(AND(P35="Impacto",L35=2,AB35>10),12,IF(AND(L35=1,P35="Impacto",AB35>=75),100,IF(AND(P35="Impacto",L35=1,AB35>=50),75,IF(AND(P35="Impacto",L35=1,AB35>=25),50,IF(AND(P35="Impacto",L35=1,AB35>10),25,IF(AND(P35="Impacto",L35=3,AB35>=75),33.3,IF(AND(P35="Impacto",L35=3,AB35,AB35>=50),25,IF(AND(P35="Impacto",L35=3,AB35>=25),17,IF(AND(P35="Impacto",L35=3,AB35>10),8,0)))))))))))) -> 0 | AE35: =SUM(AC35:AC37) -> 74 | AF35: =SUM(AD35:AD37) -> 0 | AG35: =IF(AE35>75,2,IF(AE35>=30,1,"-")) -> 1 | AH35: =IF(AF35>75,2,IF(AF35>=30,1,"-")) -> - | AJ35: =IF(AND(AG35=2,H35="Casi seguro"),Hoja1!$J$5,IF(AND(AG35=2,H35="Posible"),Hoja1!$J$6,IF(AND(H35="Improbable",AG35=2),Hoja1!J63,IF(AND(AG35=1,H35="Casi seguro"),Hoja1!$J$4,IF(AND(AG35=1,H35="Posible"),Hoja1!$J$5,IF(AND(AG35=1,H35="Improbable"),Hoja1!$J$6,'FT-Mapa de riesgos'!H35)))))) -> Rara vez | AK35: =IF(AND(AH35=2,I35="Catastrofico"),Hoja1!$K$5,IF(AND(AH35=2,I35="Mayor"),Hoja1!$K$6,IF(AND(AH35=2,I35="Moderado"),Hoja1!$K$7,IF(AND(AH35=1,I35="Catastrofico"),Hoja1!$K$4,IF(AND(AH35=1,I35="Mayor "),Hoja1!$K$5,IF(AND(AH35=1,I35="Moderado"),Hoja1!$K$6,IF(AND(AH35=2,I35="Menor"),Hoja1!$K$7,'FT-Mapa de riesgos'!I35))))))) -> Catastrofico | AL35: =IF(ISERROR(VLOOKUP(AJ35&AK35,Hoja1!$C$1:$F$25,4,0)),"",(VLOOKUP(AJ35&AK35,Hoja1!$C$1:$F$25,4,0))) -> Alto
F36: Cifras de estados financieros no acorde al marco normativo | K36: Reducir | M36: Validación de los informes contables de acuerdo a las normas vigentes | N36: Verificar el cumplimiento de las normatividad | O36: Asesoria con el ente regulador | P36: Probabilidad | Q36: No | R36: =+IF(Q36="No","N/A","") -> N/A | S36: Si | T36: Auxiliar de apoyo | U36: Si | V36: Trimestral | W36: Enero-Abril | X36: Mayo-Agosto | Y36: Septiembre-Diciembre | Z36: Si | AA36: Actas de revisión de normatividad | AB36: =SUM(IF(Q36="Si",Q$15,0)+(IF(S36="Si",S$15,0))+IF(U36="Si",U$15,0)+IF(Z36="Si",Z$15,0)) -> 68 | AC36: =IF(AND(L35=2,P36="Probabilidad",AB36>=75),50,IF(AND(P36="Probabilidad",L35=2,AB36>=50),37,IF(AND(P36="Probabilidad",L35=2,AB36>=25),25,IF(AND(P36="Probabilidad",L35=2,AB36>10),12,IF(AND(L35=1,P36="Probabilidad",AB36>=75),100,IF(AND(P36="Probabilidad",L35=1,AB36>=50),75,IF(AND(P36="Probabilidad",L35=1,AB36>=25),50,IF(AND(P36="Probabilidad",L35=1,AB36>10),25,IF(AND(P36="Probabilidad",L35=3,AB36>=75),33.3,IF(AND(P36="Probabilidad",L35=3,AB36,AB36>=50),25,IF(AND(P36="Probabilidad",L35=3,AB36>=25),17,IF(AND(P36="Probabilidad",L35=3,AB36>10),8,0)))))))))))) -> 37 | AD36: =IF(AND(L35=2,P36="Impacto",AB36>=75),50,IF(AND(P36="Impacto",L35=2,AB36>=50),37,IF(AND(P36="Impacto",L35=2,AB36>=25),25,IF(AND(P36="Impacto",L35=2,AB36>10),12,IF(AND(L35=1,P36="Impacto",AB36>=75),100,IF(AND(P36="Impacto",L35=1,AB36>=50),75,IF(AND(P36="Impacto",L35=1,AB36>=25),50,IF(AND(P36="Impacto",L35=1,AB36>10),25,IF(AND(P36="Impacto",L35=3,AB36>=75),33.3,IF(AND(P36="Impacto",L35=3,AB36,AB36>=50),25,IF(AND(P36="Impacto",L35=3,AB36>=25),17,IF(AND(P36="Impacto",L35=3,AB36>10),8,0)))))))))))) -> 0
R37: =+IF(Q37="No","N/A","") | AB37: =SUM(IF(Q37="Si",Q$15,0)+(IF(S37="Si",S$15,0))+IF(U37="Si",U$15,0)+IF(Z37="Si",Z$15,0)) -> 0 | AC37: =IF(AND(L35=2,P37="Probabilidad",AB37>=75),50,IF(AND(P37="Probabilidad",L35=2,AB37>=50),37,IF(AND(P37="Probabilidad",L35=2,AB37>=25),25,IF(AND(P37="Probabilidad",L35=2,AB37>10),12,IF(AND(L35=1,P37="Probabilidad",AB37>=75),100,IF(AND(P37="Probabilidad",L35=1,AB37>=50),75,IF(AND(P37="Probabilidad",L35=1,AB37>=25),50,IF(AND(P37="Probabilidad",L35=1,AB37>10),25,IF(AND(P37="Probabilidad",L35=3,AB37>=75),33.3,IF(AND(P37="Probabilidad",L35=3,AB37,AB37>=50),25,IF(AND(P37="Probabilidad",L35=3,AB37>=25),17,IF(AND(P37="Probabilidad",L35=3,AB37>10),8,0)))))))))))) -> 0 | AD37: =IF(AND(L35=2,P37="Impacto",AB37>=75),50,IF(AND(P37="Impacto",L35=2,AB37>=50),37,IF(AND(P37="Impacto",L35=2,AB37>=25),25,IF(AND(P37="Impacto",L35=2,AB37>10),12,IF(AND(L35=1,P37="Impacto",AB37>=75),100,IF(AND(P37="Impacto",L35=1,AB37>=50),75,IF(AND(P37="Impacto",L35=1,AB37>=25),50,IF(AND(P37="Impacto",L35=1,AB37>10),25,IF(AND(P37="Impacto",L35=3,AB37>=75),33.3,IF(AND(P37="Impacto",L35=3,AB37,AB37>=50),25,IF(AND(P37="Impacto",L35=3,AB37>=25),17,IF(AND(P37="Impacto",L35=3,AB37>10),8,0)))))))))))) -> 0
B38: 7 | C38: Direccionamiento y/o Favorecimiento de contratación en favor de un tercero | D38: Favorecer a un oferente para contratación de bien y/o servicio | E38: Corrupción | F38: Establecer especificaciones tecnicas propias de un proveedor en los estudios de necesidad, excepto en contratacion directa | G38: 1. Prestación de servicios sin cumplir requisitos realmente requeridos por la Entidad 2. Entrega de bienes sin cumplir requisitos realmente requeridos por la Entidad 3.Sanciones económicas y penales. 4.Deterioro de la imagen institucional - desconfianza en el sistema de contratación. 5.Generar intervención de los órganos de control, de la Fiscalía, u otro ente. 6. Demandas a la entidad | H38: Posible | I38: Mayor | J38: =IF(ISERROR(VLOOKUP(H38&I38,Hoja1!$C$1:$F$25,4,0)),"",(VLOOKUP(H38&I38,Hoja1!$C$1:$F$25,4,0))) -> Extremo | K38: Reducir | L38: 2 | M38: Comité Adquisiciones | N38: Revisar y recomendar los estudios y documentos previos de los procesos bajo las modalidades de contrataciòn | O38: Informar al área solicitante de la necesidad | P38: Probabilidad | Q38: No | R38: =+IF(Q38="No","N/A","") -> N/A | S38: Si | T38: Jefe de área de compras | U38: Si | V38: Permanente | W38: Enero-Abril | X38: Mayo-Agosto | Y38: Septiembre-Diciembre | Z38: Si | AA38: Actas de comité, Planilla de asistencia | AB38: =SUM(IF(Q38="Si",Q$15,0)+(IF(S38="Si",S$15,0))+IF(U38="Si",U$15,0)+IF(Z38="Si",Z$15,0)) -> 68 | AC38: =IF(AND(L38=2,P38="Probabilidad",AB38>=75),50,IF(AND(P38="Probabilidad",L38=2,AB38>=50),37,IF(AND(P38="Probabilidad",L38=2,AB38>=25),25,IF(AND(P38="Probabilidad",L38=2,AB38>10),12,IF(AND(L38=1,P38="Probabilidad",AB38>=75),100,IF(AND(P38="Probabilidad",L38=1,AB38>=50),75,IF(AND(P38="Probabilidad",L38=1,AB38>=25),50,IF(AND(P38="Probabilidad",L38=1,AB38>10),25,IF(AND(P38="Probabilidad",L38=3,AB38>=75),33.3,IF(AND(P38="Probabilidad",L38=3,AB38,AB38>=50),25,IF(AND(P38="Probabilidad",L38=3,AB38>=25),17,IF(AND(P38="Probabilidad",L38=3,AB38>10),8,0)))))))))))) -> 37 | AD38: =IF(AND(L38=2,P38="Impacto",AB38>=75),50,IF(AND(P38="Impacto",L38=2,AB38>=50),37,IF(AND(P38="Impacto",L38=2,AB38>=25),25,IF(AND(P38="Impacto",L38=2,AB38>10),12,IF(AND(L38=1,P38="Impacto",AB38>=75),100,IF(AND(P38="Impacto",L38=1,AB38>=50),75,IF(AND(P38="Impacto",L38=1,AB38>=25),50,IF(AND(P38="Impacto",L38=1,AB38>10),25,IF(AND(P38="Impacto",L38=3,AB38>=75),33.3,IF(AND(P38="Impacto",L38=3,AB38,AB38>=50),25,IF(AND(P38="Impacto",L38=3,AB38>=25),17,IF(AND(P38="Impacto",L38=3,AB38>10),8,0)))))))))))) -> 0 | AE38: =SUM(AC38:AC40) -> 74 | AF38: =SUM(AD38:AD40) -> 0 | AG38: =IF(AE38>75,2,IF(AE38>=30,1,"-")) -> 1 | AH38: =IF(AF38>75,2,IF(AF38>=30,1,"-")) -> - | AJ38: =IF(AND(AG38=2,H38="Casi seguro"),Hoja1!$J$5,IF(AND(AG38=2,H38="Posible"),Hoja1!$J$6,IF(AND(H38="Improbable",AG38=2),Hoja1!J84,IF(AND(AG38=1,H38="Casi seguro"),Hoja1!$J$4,IF(AND(AG38=1,H38="Posible"),Hoja1!$J$5,IF(AND(AG38=1,H38="Improbable"),Hoja1!$J$6,'FT-Mapa de riesgos'!H38)))))) -> Improbable | AK38: =IF(AND(AH38=2,I38="Catastrofico"),Hoja1!$K$5,IF(AND(AH38=2,I38="Mayor"),Hoja1!$K$6,IF(AND(AH38=2,I38="Moderado"),Hoja1!$K$7,IF(AND(AH38=1,I38="Catastrofico"),Hoja1!$K$4,IF(AND(AH38=1,I38="Mayor "),Hoja1!$K$5,IF(AND(AH38=1,I38="Moderado"),Hoja1!$K$6,IF(AND(AH38=2,I38="Menor"),Hoja1!$K$7,'FT-Mapa de riesgos'!I38))))))) -> Mayor | AL38: =IF(ISERROR(VLOOKUP(AJ38&AK38,Hoja1!$C$1:$F$25,4,0)),"",(VLOOKUP(AJ38&AK38,Hoja1!$C$1:$F$25,4,0))) -> Alto
F39: Establecer indicadores financieros que afecten la ejecuciòn del contrato | K39: Reducir | M39: Estudio económico-sector | N39: Revisar los indicadores financieros de las empresas que se dedican a esa actividad | O39: Informar al comité economico | P39: Probabilidad | Q39: No | R39: =+IF(Q39="No","N/A","") -> N/A | S39: Si | T39: Jefe de área de compras | U39: Si | V39: Permanente | W39: Enero-Abril | X39: Mayo-Agosto | Y39: Septiembre-Diciembre | Z39: Si | AA39: Correo electronico y SECOP II | AB39: =SUM(IF(Q39="Si",Q$15,0)+(IF(S39="Si",S$15,0))+IF(U39="Si",U$15,0)+IF(Z39="Si",Z$15,0)) -> 68 | AC39: =IF(AND(L38=2,P39="Probabilidad",AB39>=75),50,IF(AND(P39="Probabilidad",L38=2,AB39>=50),37,IF(AND(P39="Probabilidad",L38=2,AB39>=25),25,IF(AND(P39="Probabilidad",L38=2,AB39>10),12,IF(AND(L38=1,P39="Probabilidad",AB39>=75),100,IF(AND(P39="Probabilidad",L38=1,AB39>=50),75,IF(AND(P39="Probabilidad",L38=1,AB39>=25),50,IF(AND(P39="Probabilidad",L38=1,AB39>10),25,IF(AND(P39="Probabilidad",L38=3,AB39>=75),33.3,IF(AND(P39="Probabilidad",L38=3,AB39,AB39>=50),25,IF(AND(P39="Probabilidad",L38=3,AB39>=25),17,IF(AND(P39="Probabilidad",L38=3,AB39>10),8,0)))))))))))) -> 37 | AD39: =IF(AND(L38=2,P39="Impacto",AB39>=75),50,IF(AND(P39="Impacto",L38=2,AB39>=50),37,IF(AND(P39="Impacto",L38=2,AB39>=25),25,IF(AND(P39="Impacto",L38=2,AB39>10),12,IF(AND(L38=1,P39="Impacto",AB39>=75),100,IF(AND(P39="Impacto",L38=1,AB39>=50),75,IF(AND(P39="Impacto",L38=1,AB39>=25),50,IF(AND(P39="Impacto",L38=1,AB39>10),25,IF(AND(P39="Impacto",L38=3,AB39>=75),33.3,IF(AND(P39="Impacto",L38=3,AB39,AB39>=50),25,IF(AND(P39="Impacto",L38=3,AB39>=25),17,IF(AND(P39="Impacto",L38=3,AB39>10),8,0)))))))))))) -> 0
R40: =+IF(Q40="No","N/A","") | AB40: =SUM(IF(Q40="Si",Q$15,0)+(IF(S40="Si",S$15,0))+IF(U40="Si",U$15,0)+IF(Z40="Si",Z$15,0)) -> 0 | AC40: =IF(AND(L38=2,P40="Probabilidad",AB40>=75),50,IF(AND(P40="Probabilidad",L38=2,AB40>=50),37,IF(AND(P40="Probabilidad",L38=2,AB40>=25),25,IF(AND(P40="Probabilidad",L38=2,AB40>10),12,IF(AND(L38=1,P40="Probabilidad",AB40>=75),100,IF(AND(P40="Probabilidad",L38=1,AB40>=50),75,IF(AND(P40="Probabilidad",L38=1,AB40>=25),50,IF(AND(P40="Probabilidad",L38=1,AB40>10),25,IF(AND(P40="Probabilidad",L38=3,AB40>=75),33.3,IF(AND(P40="Probabilidad",L38=3,AB40,AB40>=50),25,IF(AND(P40="Probabilidad",L38=3,AB40>=25),17,IF(AND(P40="Probabilidad",L38=3,AB40>10),8,0)))))))))))) -> 0 | AD40: =IF(AND(L38=2,P40="Impacto",AB40>=75),50,IF(AND(P40="Impacto",L38=2,AB40>=50),37,IF(AND(P40="Impacto",L38=2,AB40>=25),25,IF(AND(P40="Impacto",L38=2,AB40>10),12,IF(AND(L38=1,P40="Impacto",AB40>=75),100,IF(AND(P40="Impacto",L38=1,AB40>=50),75,IF(AND(P40="Impacto",L38=1,AB40>=25),50,IF(AND(P40="Impacto",L38=1,AB40>10),25,IF(AND(P40="Impacto",L38=3,AB40>=75),33.3,IF(AND(P40="Impacto",L38=3,AB40,AB40>=50),25,IF(AND(P40="Impacto",L38=3,AB40>=25),17,IF(AND(P40="Impacto",L38=3,AB40>10),8,0)))))))))))) -> 0
B41: 8 | C41: Desaparición y/o daño intencional de bienes activos (muebles, equipos) y bienes de consumo e insumos hospitalarios | D41: Perdida o afectaciòn de los bienes activos, consumo e insumos hospitaralarios de la entidad | E41: Corrupción | F41: Registro erróneo de bienes activos por menores o mayores características en el sistema DINAMICA | G41: 1. Investigaciones disciplinarias penales, y administrativas 2. Detrimento patrimonial. 3. Traumatismo en la prestación del servicio | H41: Posible | I41: Mayor | J41: =IF(ISERROR(VLOOKUP(H41&I41,Hoja1!$C$1:$F$25,4,0)),"",(VLOOKUP(H41&I41,Hoja1!$C$1:$F$25,4,0))) -> Extremo | K41: Reducir | L41: 3 | M41: Registro de ingreso de bienes activos | N41: : Verificar que la documentación tenga la información base necesaria | O41: Informar al supervisor del contrato para subsanar la informaciòn faltante | P41: Probabilidad | Q41: Si | R41: Inventarios y Activos fijos - DINAMICA | S41: Si | T41: Auxiliar Administrativo | U41: Si | V41: Permanente | W41: Enero-Abril | X41: Mayo-Agosto | Y41: Septiembre-Diciembre | Z41: Si | AA41: Formato de Ingreso de bienes activos, Documentación fisica soporte | AB41: =SUM(IF(Q41="Si",Q$15,0)+(IF(S41="Si",S$15,0))+IF(U41="Si",U$15,0)+IF(Z41="Si",Z$15,0)) -> 100 | AC41: =IF(AND(L41=2,P41="Probabilidad",AB41>=75),50,IF(AND(P41="Probabilidad",L41=2,AB41>=50),37,IF(AND(P41="Probabilidad",L41=2,AB41>=25),25,IF(AND(P41="Probabilidad",L41=2,AB41>10),12,IF(AND(L41=1,P41="Probabilidad",AB41>=75),100,IF(AND(P41="Probabilidad",L41=1,AB41>=50),75,IF(AND(P41="Probabilidad",L41=1,AB41>=25),50,IF(AND(P41="Probabilidad",L41=1,AB41>10),25,IF(AND(P41="Probabilidad",L41=3,AB41>=75),33.3,IF(AND(P41="Probabilidad",L41=3,AB41,AB41>=50),25,IF(AND(P41="Probabilidad",L41=3,AB41>=25),17,IF(AND(P41="Probabilidad",L41=3,AB41>10),8,0)))))))))))) -> 33.3 | AD41: =IF(AND(L41=2,P41="Impacto",AB41>=75),50,IF(AND(P41="Impacto",L41=2,AB41>=50),37,IF(AND(P41="Impacto",L41=2,AB41>=25),25,IF(AND(P41="Impacto",L41=2,AB41>10),12,IF(AND(L41=1,P41="Impacto",AB41>=75),100,IF(AND(P41="Impacto",L41=1,AB41>=50),75,IF(AND(P41="Impacto",L41=1,AB41>=25),50,IF(AND(P41="Impacto",L41=1,AB41>10),25,IF(AND(P41="Impacto",L41=3,AB41>=75),33.3,IF(AND(P41="Impacto",L41=3,AB41,AB41>=50),25,IF(AND(P41="Impacto",L41=3,AB41>=25),17,IF(AND(P41="Impacto",L41=3,AB41>10),8,0)))))))))))) -> 0 | AE41: =SUM(AC41:AC43) -> 91.6 | AF41: =SUM(AD41:AD43) -> 0 | AG41: =IF(AE41>75,2,IF(AE41>=30,1,"-")) -> 2 | AH41: =IF(AF41>75,2,IF(AF41>=30,1,"-")) -> - | AJ41: =IF(AND(AG41=2,H41="Casi seguro"),Hoja1!$J$5,IF(AND(AG41=2,H41="Posible"),Hoja1!$J$6,IF(AND(H41="Improbable",AG41=2),Hoja1!J90,IF(AND(AG41=1,H41="Casi seguro"),Hoja1!$J$4,IF(AND(AG41=1,H41="Posible"),Hoja1!$J$5,IF(AND(AG41=1,H41="Improbable"),Hoja1!$J$6,'FT-Mapa de riesgos'!H41)))))) -> Rara Vez | AK41: =IF(AND(AH41=2,I41="Catastrofico"),Hoja1!$K$5,IF(AND(AH41=2,I41="Mayor"),Hoja1!$K$6,IF(AND(AH41=2,I41="Moderado"),Hoja1!$K$7,IF(AND(AH41=1,I41="Catastrofico"),Hoja1!$K$4,IF(AND(AH41=1,I41="Mayor "),Hoja1!$K$5,IF(AND(AH41=1,I41="Moderado"),Hoja1!$K$6,IF(AND(AH41=2,I41="Menor"),Hoja1!$K$7,'FT-Mapa de riesgos'!I41))))))) -> Mayor | AL41: =IF(ISERROR(VLOOKUP(AJ41&AK41,Hoja1!$C$1:$F$25,4,0)),"",(VLOOKUP(AJ41&AK41,Hoja1!$C$1:$F$25,4,0))) -> Alto | AM41: EFICACIA: Índice de cumplimiento actividades= (# de actividades cumplidas / # de actividades programadas) x 100
F42: Equipos sin registro en el sistema de informacion | K42: Reducir | M42: Inventarios periódicos | N42: Verificar físicamente con respecto a la información en Dinamica para validar el registro de los bienes | O42: 1. Verificar los documentos en la carpeta fisica de ingreso del bien 2. Informar al jefe de servicio o unidad | P42: Probabilidad | Q42: No | R42: =+IF(Q42="No","N/A","") -> N/A | S42: Si | T42: Auxiliar Administrativo | U42: Si | V42: Permanente | W42: Enero-Abril | X42: Mayo-Agosto | Y42: Septiembre-Diciembre | Z42: Si | AA42: Actualización y depuración de inventarios, Informes de inventarios | AB42: =SUM(IF(Q42="Si",Q$15,0)+(IF(S42="Si",S$15,0))+IF(U42="Si",U$15,0)+IF(Z42="Si",Z$15,0)) -> 68 | AC42: =IF(AND(L41=2,P42="Probabilidad",AB42>=75),50,IF(AND(P42="Probabilidad",L41=2,AB42>=50),37,IF(AND(P42="Probabilidad",L41=2,AB42>=25),25,IF(AND(P42="Probabilidad",L41=2,AB42>10),12,IF(AND(L41=1,P42="Probabilidad",AB42>=75),100,IF(AND(P42="Probabilidad",L41=1,AB42>=50),75,IF(AND(P42="Probabilidad",L41=1,AB42>=25),50,IF(AND(P42="Probabilidad",L41=1,AB42>10),25,IF(AND(P42="Probabilidad",L41=3,AB42>=75),33.3,IF(AND(P42="Probabilidad",L41=3,AB42,AB42>=50),25,IF(AND(P42="Probabilidad",L41=3,AB42>=25),17,IF(AND(P42="Probabilidad",L41=3,AB42>10),8,0)))))))))))) -> 25 | AD42: =IF(AND(L41=2,P42="Impacto",AB42>=75),50,IF(AND(P42="Impacto",L41=2,AB42>=50),37,IF(AND(P42="Impacto",L41=2,AB42>=25),25,IF(AND(P42="Impacto",L41=2,AB42>10),12,IF(AND(L41=1,P42="Impacto",AB42>=75),100,IF(AND(P42="Impacto",L41=1,AB42>=50),75,IF(AND(P42="Impacto",L41=1,AB42>=25),50,IF(AND(P42="Impacto",L41=1,AB42>10),25,IF(AND(P42="Impacto",L41=3,AB42>=75),33.3,IF(AND(P42="Impacto",L41=3,AB42,AB42>=50),25,IF(AND(P42="Impacto",L41=3,AB42>=25),17,IF(AND(P42="Impacto",L41=3,AB42>10),8,0)))))))))))) -> 0
F43: Registro erroneo de bienes de consumo e insumos hospitalarios en el sistema DINAMICA | K43: Reducir | M43: Registro de ingreso y salida de bienes de consumo e insumos hospitalarios | N43: Verificar que la documentación tenga la información base necesaria | O43: 1. Informar al supervisor del contrato para subsanar la informaciòn faltante 2. Informar a los servicios/unidades/àreas | P43: Probabilidad | Q43: Si | R43: Inventarios y Activos fijos - DINAMICA | S43: Si | T43: Auxiliar Administrativo | U43: Si | V43: Permanente | W43: Enero-Abril | X43: Mayo-Agosto | Y43: Septiembre-Diciembre | Z43: Si | AA43: Comprobante de entrada, Orden despacho, Solicitud de elementos | AB43: =SUM(IF(Q43="Si",Q$15,0)+(IF(S43="Si",S$15,0))+IF(U43="Si",U$15,0)+IF(Z43="Si",Z$15,0)) -> 100 | AC43: =IF(AND(L41=2,P43="Probabilidad",AB43>=75),50,IF(AND(P43="Probabilidad",L41=2,AB43>=50),37,IF(AND(P43="Probabilidad",L41=2,AB43>=25),25,IF(AND(P43="Probabilidad",L41=2,AB43>10),12,IF(AND(L41=1,P43="Probabilidad",AB43>=75),100,IF(AND(P43="Probabilidad",L41=1,AB43>=50),75,IF(AND(P43="Probabilidad",L41=1,AB43>=25),50,IF(AND(P43="Probabilidad",L41=1,AB43>10),25,IF(AND(P43="Probabilidad",L41=3,AB43>=75),33.3,IF(AND(P43="Probabilidad",L41=3,AB43,AB43>=50),25,IF(AND(P43="Probabilidad",L41=3,AB43>=25),17,IF(AND(P43="Probabilidad",L41=3,AB43>10),8,0)))))))))))) -> 33.3 | AD43: =IF(AND(L41=2,P43="Impacto",AB43>=75),50,IF(AND(P43="Impacto",L41=2,AB43>=50),37,IF(AND(P43="Impacto",L41=2,AB43>=25),25,IF(AND(P43="Impacto",L41=2,AB43>10),12,IF(AND(L41=1,P43="Impacto",AB43>=75),100,IF(AND(P43="Impacto",L41=1,AB43>=50),75,IF(AND(P43="Impacto",L41=1,AB43>=25),50,IF(AND(P43="Impacto",L41=1,AB43>10),25,IF(AND(P43="Impacto",L41=3,AB43>=75),33.3,IF(AND(P43="Impacto",L41=3,AB43,AB43>=50),25,IF(AND(P43="Impacto",L41=3,AB43>=25),17,IF(AND(P43="Impacto",L41=3,AB43>10),8,0)))))))))))) -> 0
B44: 9 | C44: Uso indebido de la información confidencial | D44: Uso, manipulación, adulteración y divulgación de la información y su medio de soporte | E44: Corrupción | F44: Fallas en el compromiso de confidencialidad y reserva de la información por parte del personal | G44: 1. Incumplimiento normativo 2. Sanciones disciplinarias, administrativas y pnales 3. Perdida del patrimonio documental 4. Reprocesos | H44: Posible | I44: Mayor | J44: =IF(ISERROR(VLOOKUP(H44&I44,Hoja1!$C$1:$F$25,4,0)),"",(VLOOKUP(H44&I44,Hoja1!$C$1:$F$25,4,0))) -> Extremo | K44: Reducir | L44: 1 | M44: Verificar los requisitos para la consulta de la documentación | N44: Verificar la información base (Fecha, Nombre del solicitante, Nombre del documento) para el prestamo de documentos | O44: Verificar los vales de prestamo y Solicitar autorización | P44: Probabilidad | Q44: No | R44: =+IF(Q44="No","N/A","") -> N/A | S44: Si | T44: Auxiliares de Apoyo | U44: Si | V44: Permanente | W44: Enero-Abril | X44: Mayo-Agosto | Y44: Septiembre-Diciembre | Z44: Si | AA44: Formato Solicitud de copias de historia clinica Libro fisico de consulta y prestamos de documentos | AB44: =SUM(IF(Q44="Si",Q$15,0)+(IF(S44="Si",S$15,0))+IF(U44="Si",U$15,0)+IF(Z44="Si",Z$15,0)) -> 68 | AC44: =IF(AND(L44=2,P44="Probabilidad",AB44>=75),50,IF(AND(P44="Probabilidad",L44=2,AB44>=50),37,IF(AND(P44="Probabilidad",L44=2,AB44>=25),25,IF(AND(P44="Probabilidad",L44=2,AB44>10),12,IF(AND(L44=1,P44="Probabilidad",AB44>=75),100,IF(AND(P44="Probabilidad",L44=1,AB44>=50),75,IF(AND(P44="Probabilidad",L44=1,AB44>=25),50,IF(AND(P44="Probabilidad",L44=1,AB44>10),25,IF(AND(P44="Probabilidad",L44=3,AB44>=75),33.3,IF(AND(P44="Probabilidad",L44=3,AB44,AB44>=50),25,IF(AND(P44="Probabilidad",L44=3,AB44>=25),17,IF(AND(P44="Probabilidad",L44=3,AB44>10),8,0)))))))))))) -> 75 | AD44: =IF(AND(L44=2,P44="Impacto",AB44>=75),50,IF(AND(P44="Impacto",L44=2,AB44>=50),37,IF(AND(P44="Impacto",L44=2,AB44>=25),25,IF(AND(P44="Impacto",L44=2,AB44>10),12,IF(AND(L44=1,P44="Impacto",AB44>=75),100,IF(AND(P44="Impacto",L44=1,AB44>=50),75,IF(AND(P44="Impacto",L44=1,AB44>=25),50,IF(AND(P44="Impacto",L44=1,AB44>10),25,IF(AND(P44="Impacto",L44=3,AB44>=75),33.3,IF(AND(P44="Impacto",L44=3,AB44,AB44>=50),25,IF(AND(P44="Impacto",L44=3,AB44>=25),17,IF(AND(P44="Impacto",L44=3,AB44>10),8,0)))))))))))) -> 0 | AE44: =SUM(AC44:AC46) -> 75 | AF44: =SUM(AD44:AD46) -> 0 | AG44: =IF(AE44>75,2,IF(AE44>=30,1,"-")) -> 1 | AH44: =IF(AF44>75,2,IF(AF44>=30,1,"-")) -> - | AJ44: =IF(AND(AG44=2,H44="Casi seguro"),Hoja1!$J$5,IF(AND(AG44=2,H44="Posible"),Hoja1!$J$6,IF(AND(H44="Improbable",AG44=2),Hoja1!J99,IF(AND(AG44=1,H44="Casi seguro"),Hoja1!$J$4,IF(AND(AG44=1,H44="Posible"),Hoja1!$J$5,IF(AND(AG44=1,H44="Improbable"),Hoja1!$J$6,'FT-Mapa de riesgos'!H44)))))) -> Improbable | AK44: =IF(AND(AH44=2,I44="Catastrofico"),Hoja1!$K$5,IF(AND(AH44=2,I44="Mayor"),Hoja1!$K$6,IF(AND(AH44=2,I44="Moderado"),Hoja1!$K$7,IF(AND(AH44=1,I44="Catastrofico"),Hoja1!$K$4,IF(AND(AH44=1,I44="Mayor "),Hoja1!$K$5,IF(AND(AH44=1,I44="Moderado"),Hoja1!$K$6,IF(AND(AH44=2,I44="Menor"),Hoja1!$K$7,'FT-Mapa de riesgos'!I44))))))) -> Mayor | AL44: =IF(ISERROR(VLOOKUP(AJ44&AK44,Hoja1!$C$1:$F$25,4,0)),"",(VLOOKUP(AJ44&AK44,Hoja1!$C$1:$F$25,4,0))) -> Alto
R45: =+IF(Q45="No","N/A","") | AB45: =SUM(IF(Q45="Si",Q$15,0)+(IF(S45="Si",S$15,0))+IF(U45="Si",U$15,0)+IF(Z45="Si",Z$15,0)) -> 0 | AC45: =IF(AND(L44=2,P45="Probabilidad",AB45>=75),50,IF(AND(P45="Probabilidad",L44=2,AB45>=50),37,IF(AND(P45="Probabilidad",L44=2,AB45>=25),25,IF(AND(P45="Probabilidad",L44=2,AB45>10),12,IF(AND(L44=1,P45="Probabilidad",AB45>=75),100,IF(AND(P45="Probabilidad",L44=1,AB45>=50),75,IF(AND(P45="Probabilidad",L44=1,AB45>=25),50,IF(AND(P45="Probabilidad",L44=1,AB45>10),25,IF(AND(P45="Probabilidad",L44=3,AB45>=75),33.3,IF(AND(P45="Probabilidad",L44=3,AB45,AB45>=50),25,IF(AND(P45="Probabilidad",L44=3,AB45>=25),17,IF(AND(P45="Probabilidad",L44=3,AB45>10),8,0)))))))))))) -> 0 | AD45: =IF(AND(L44=2,P45="Impacto",AB45>=75),50,IF(AND(P45="Impacto",L44=2,AB45>=50),37,IF(AND(P45="Impacto",L44=2,AB45>=25),25,IF(AND(P45="Impacto",L44=2,AB45>10),12,IF(AND(L44=1,P45="Impacto",AB45>=75),100,IF(AND(P45="Impacto",L44=1,AB45>=50),75,IF(AND(P45="Impacto",L44=1,AB45>=25),50,IF(AND(P45="Impacto",L44=1,AB45>10),25,IF(AND(P45="Impacto",L44=3,AB45>=75),33.3,IF(AND(P45="Impacto",L44=3,AB45,AB45>=50),25,IF(AND(P45="Impacto",L44=3,AB45>=25),17,IF(AND(P45="Impacto",L44=3,AB45>10),8,0)))))))))))) -> 0
AB46: =SUM(IF(Q46="Si",Q$15,0)+(IF(S46="Si",S$15,0))+IF(U46="Si",U$15,0)+IF(Z46="Si",Z$15,0)) -> 0 | AC46: =IF(AND(L44=2,P46="Probabilidad",AB46>=75),50,IF(AND(P46="Probabilidad",L44=2,AB46>=50),37,IF(AND(P46="Probabilidad",L44=2,AB46>=25),25,IF(AND(P46="Probabilidad",L44=2,AB46>10),12,IF(AND(L44=1,P46="Probabilidad",AB46>=75),100,IF(AND(P46="Probabilidad",L44=1,AB46>=50),75,IF(AND(P46="Probabilidad",L44=1,AB46>=25),50,IF(AND(P46="Probabilidad",L44=1,AB46>10),25,IF(AND(P46="Probabilidad",L44=3,AB46>=75),33.3,IF(AND(P46="Probabilidad",L44=3,AB46,AB46>=50),25,IF(AND(P46="Probabilidad",L44=3,AB46>=25),17,IF(AND(P46="Probabilidad",L44=3,AB46>10),8,0)))))))))))) -> 0 | AD46: =IF(AND(L44=2,P46="Impacto",AB46>=75),50,IF(AND(P46="Impacto",L44=2,AB46>=50),37,IF(AND(P46="Impacto",L44=2,AB46>=25),25,IF(AND(P46="Impacto",L44=2,AB46>10),12,IF(AND(L44=1,P46="Impacto",AB46>=75),100,IF(AND(P46="Impacto",L44=1,AB46>=50),75,IF(AND(P46="Impacto",L44=1,AB46>=25),50,IF(AND(P46="Impacto",L44=1,AB46>10),25,IF(AND(P46="Impacto",L44=3,AB46>=75),33.3,IF(AND(P46="Impacto",L44=3,AB46,AB46>=50),25,IF(AND(P46="Impacto",L44=3,AB46>=25),17,IF(AND(P46="Impacto",L44=3,AB46>10),8,0)))))))))))) -> 0
