Workbook

Sheet Intructivo
B2: Matriz Mapa de Riesgos
B4: Teniendo en cuenta que con la expedición del Decreto 1499 de 2017 “Por medio del cual se modifica el Decreto 1083 de 2015, Decreto Único Reglamentario del Sector Función Pública, en lo relacionado con el Sistema de Gestión establecido en el artículo 133 de la Ley 1753 de 2015”, se crea un solo Sistema de Gestión y se alinea con el Sistema de Control Interno, hoy todas las entidades públicas requieren actualizar y/o implementar el Modelo Integrado de Planeación y Gestión MIPG, modelo que incorpora el Modelo Estándar de Control Interno MECI a través de la 7a dimensión del mismo. En este marco general, el proceso de administración del riesgo es un esfuerzo conjunto entre la Alta Dirección y los servidores en todos sus niveles, ejercicio que inicia con la formulación de la política de Administración del Riesgo, la cual incluye los niveles de responsabilidad frente al seguimiento y evaluación, aspectos que deberán definirse acorde con el Esquema de Líneas de Defensa vinculado a la Dimensión 7. Teniendo en cuenta lo anterior y dada la necesidad de las entidades frente a la estructuración de los mapas de riesgos, como herramienta fundamental frente a la gestión del riesgo, el presente formato desarrolla un esquema completo acorde con los contenidos metodológicos de la Guía para la Administración del Riesgo y el diseño de controles V5. El formato cuenta con celdas parametrizadas y permite contar con los respectivos mapas de calor para riesgo inherente y riesgo residual.
B6: Orientaciones Generales
B7: Antes de iniciar con el diligenciamiento de la información en la matriz, se requiere haber avanzado en el análisis del proceso, su objetivo, alcance, actividades clave, considere los lineamientos establecidos en el Paso 2: identificación del riesgo, donde se explica ampliamente las bases para adelanter este análisis. Así mismo, considere en el Paso 3: valoración del riesgo los lineamientos para definir el No. de veces que se hace la actividad con la cual se relaciona el riesgo y su impacto en términos económicos o reputacionales. En este mismo paso se analizan los controles que deben responder a los atributos de eficiencia e informativos. NOTA: Si lo considera pertinente, es posible agregar hojas de trabajo adicionales al presente formato que permitan incluir la traza de estos análisis.
B9: El archivo contiene las siguientes hojas: - Hoja 1 Instructivo - Hoja 2 Mapa Final: Encontrará la totalidad de la estructura para la identificación y valoración de los riesgos por proceso, programa o proyecto, acorde con el nivel de desagregación que la entidad considere necesaria.
C12: Columna | E12: Descripción - Lineamientos para el diligenciamiento
C13: Proceso | E13: Diligencie el nombre del proceso al cual se le identificarán y valorarán los riesgos.
C14: Objetivo | E14: Diligencie el objetivo del proceso.
C15: Alcance | E15: Diligencie el alcance del proceso.
C16: Referencia | E16: Permite definir unl consecutivo de riesgos. Una entidad puede ir en el riesgo 150, pero tener 70 riesgos, lo que permite llevar una traza de los riesgos. Esta información la debe administrar la oficina asesora de planeación o gerencia de riesgos. Cuando un el riesgo salga del mapa no existirá otro riesgo con el mismo número.
C17: Impacto | E17: Analice las consecuencias que puede ocasionar a la organización la materialización del riesgo, redacte de la forma más concreta posible.
C18: Causa Inmediata | E18: Circunstancias bajo las cuales se presenta el riesgo, es la situación más evidente frente al riesgo, redacte de la forma más concreta posible.
C19: Causa Raíz | E19: Causa principal o básica, corresponde a las razones por la cuales se puede presentar el riesgo, redacte de la forma más concreta posible.
C20: Descripción del Riesgo | E20: Consolida o resume los análisis sobre impacto + causa inmediata + causa raíz, permitiendo contar con una redacción clara y concreta del riesgo indentificado. Tenga en cuenta la estructura de alto nivel establecida en al guía, inicia con POSIBILIDAD DE + Impacto para la entidad (Qué) + Causa Inmediata (Cómo) + Causa Raíz (Por qué)
C21: Clasificación del Riesgo | E21: Utilice la lista de despligue que se encuentra parametrizada, le aparecerán las opciones: i)Daños Activos Fisicos, ii)Ejecucion y Administracion de procesos, iii)Fallas Tecnologicas, iv)Fraude Externo, v)Fraude Interno, vi)Relaciones Laborales, vii)Usuarios, productos y practicas organizacionales.
C22: Frecuencia con la cual se lleva a cabo la actividad | E22: Defina el # de veces que se ejecuta la actividad durante el año, (Recuerde la probabilidad e ocurrencia del riesgo se defien como el No. de veces que se pasa por el punto de riesgo en el periodo de 1 año). La matriz automáticamente hará el cálculo para el nivel de probabilidad inherente (Columnas H-I)
C23: Criterios de Impacto | E23: Utilice la lista de despligue que se encuentra parametrizada, le aparecerán las opciones de la tabla de Impacto en la Hoja 6 del presente documento. La matriz automáticamente hará el cálculo para el nivel de impacto inherente (Columnas L-M)
... C37: Estado | E37: Utilice la lista de despligue que se encuentra parametrizada, le aparecerán las opciones: i)Finalizado, ii)En curso, la selección en este caso dependerá de las acciones del plan que se hayan establecido en cada caso.
B40: - Hoja 3 Matriz de Calor Inherente: En esta hoja, en la medida en que ese diligencia el Mapa Final, se verán reflejados los riesgos en su zona correspondiente. Esta hoja no se diligencia se genera de manera automática.
B41: - Hoja 4 Matriz de Calor Residual: En esta hoja, en la medida en que ese diligencia el Mapa Final, se verán reflejados los riesgos en su zona correspondiente. Esta hoja no se diligencia se genera de manera automática.
B42: - Hoja 5 Tabla de probabilidad: Tabla referente para todos los cálculos (no se diligencia)
B43: - Hoja 6 Tabla de Impacto: Tabla referente para todos los cálculos (no se diligencia)
B44: - Hoja 7 Tabla de Valoración de Controles: Tabla referente para todos los cálculos (no se diligencia)

Sheet Mapa final
A1: HOSPITAL MILITAR CENTRAL | G1: FORMATO: MAPA DE RIESGOS POR PROCESO | AJ1: CÓDIGO: PL-OAPL-PO-FT-02
G2: OFICINA: ASESORA DE PLANEACION
AJ3: FECHA DE EMISIÓN: 07-09-2021
G4: PROCESO: PLANEACION | AJ4: VERSIÓN: 05
G5: SISTEMA DE GESTION INTEGRADO SGI | AJ5: Página 1 de 1
A6: APROBADO MEDIANTE ACTA No. 7 DE COMITÉ INSTITUCIONAL DE GESTIÓN Y DESEMPEÑO DEL 29 DE DICIEMBRE DE 2021
A7: Proceso: | E7: MAPA DE RIEGOS INSTITUCIONAL V.1 - CONSOLIDADO.
A8: Objetivo: | E8: Establecer un marco de referencia general que involucre a todos los servidores públicos y contratistas del HOSPITAL MILITAR CENTRAL para la adecuada gestión del riesgo, por medio de la identificación de acciones de control, respuestas oportunas y estrategias institucionales frente a las diferentes situaciones que puedan afectar el cumplimiento de la misionalidad y el logro de los objetivos institucionales.
A9: Alcance: | E9: La administración del riesgo es aplicable a todas las dependencias, procesos, proyectos y planes institucionales, con el fin de identificar, analizar, valorar, monitorear y dar tratamiento a los riesgos identificados durante el desarrollo de la gestión planificada y a todos los servidores públicos y contratistas en el ejercicio de sus funciones y obligaciones.
A10: Identificación del riesgo | J10: Análisis del riesgo inherente | Q10: Evaluación del riesgo - Valoración de los controles | Z10: Evaluación del riesgo - Nivel del riesgo residual | AG10: Plan de Acción
A11: Referencia | B11: Proceso | C11: Área responsable | D11: Impacto | E11: Causa Inmediata | F11: Causa Raíz | G11: Descripción del Riesgo | H11: Clasificación del Riesgo | I11: Frecuencia con la cual se realiza la actividad | J11: Probabilidad Inherente | K11: % | L11: Criterios de impacto | M11: Observación de criterio | N11: Impacto Inherente | O11: % | P11: Zona de Riesgo Inherente | Q11: No. Control | R11: Descripción del Control (Propósito, forma como se realiza, responsable, periodicidad, | S11: Afectación | T11: Atributos | Z11: Probabilidad Residual | AA11: Probabilidad Residual Final | AB11: % | AC11: Impacto Residual Final | AD11: % | AE11: Zona de Riesgo Final | AF11: Tratamiento | AG11: Plan de Acción | AH11: Responsable | AI11: Fecha Implementación | AJ11: Fecha Seguimiento | AK11: Seguimiento | AL11: Estado
T12: Tipo | U12: Implementación | V12: Calificación | W12: Documentación | X12: Frecuencia | Y12: Evidencia
A13: 1 | B13: Gerencia y Buen Gobierno | C13: Gestión Ética y Buen Gobierno | D13: Reputacional | E13: Por pérdida de confianza y credibilidad por parte de la comunidad | F13: Incumplimiento de lineamientos de integridad, ética, bioética, humanización y buen gobierno. | G13: Posibilidad de afectación reputacional por pérdida de confianza y credibilidad por parte de la comunidad, debido a Incumplimiento de lineamientos de integridad, ética, bioética, humanización y buen gobierno. | H13: Talento Humano (Posibles comportamientos no éticos de los funcionarios) | I13: 2500 | J13: =IF(I13<=0,"",IF(I13<=2,"Muy Baja",IF(I13<=24,"Baja",IF(I13<=500,"Media",IF(I13<=5000,"Alta","Muy Alta"))))) -> Alta | K13: =IF(J13="","",IF(J13="Muy Baja",0.2,IF(J13="Baja",0.4,IF(J13="Media",0.6,IF(J13="Alta",0.8,IF(J13="Muy Alta",1,)))))) -> 0.8 | L13: El riesgo afecta la imagen de alguna área de la organización | M13: =IF(NOT(ISERROR(MATCH(L13,'[1]Tabla Impacto'!$B$221:$B$223,0))),'[1]Tabla Impacto'!$F$223&"Por favor no seleccionar los criterios de impacto(Afectación Económica o presupuestal y Pérdida Reputacional)",L13) -> El riesgo afecta la imagen de alguna área de la organización | N13: =+IF(OR(M13='[1]Tabla Impacto'!$C$11,M13='[1]Tabla Impacto'!$D$11),"Leve",IF(OR(M13='[1]Tabla Impacto'!$C$12,M13='[1]Tabla Impacto'!$D$12),"Menor",IF(OR(M13='[1]Tabla Impacto'!$C$13,M13='[1]Tabla Impacto'!$D$13),"Moderado",IF(OR(M13='[1]Tabla Impacto'!$C$14,M13='[1]Tabla Impacto'!$D$14),"Mayor",IF(OR(M13='[1]Tabla Impacto'!$C$15,M13='[1]Tabla Impacto'!$D$15),"Catastrófico",""))))) -> Leve | O13: =IF(N13="","",IF(N13="Leve",0.2,IF(N13="Menor",0.4,IF(N13="Moderado",0.6,IF(N13="Mayor",0.8,IF(N13="Catastrófico",1,)))))) -> 0.2 | P13: =IF(OR(AND(J13="Muy Baja",N13="Leve"),AND(J13="Muy Baja",N13="Menor"),AND(J13="Baja",N13="Leve")),"Bajo",IF(OR(AND(J13="Muy baja",N13="Moderado"),AND(J13="Baja",N13="Menor"),AND(J13="Baja",N13="Moderado"),AND(J13="Media",N13="Leve"),AND(J13="Media",N13="Menor"),AND(J13="Media",N13="Moderado"),AND(J13="Alta",N13="Leve"),AND(J13="Alta",N13="Menor")),"Moderado",IF(OR(AND(J13="Muy Baja",N13="Mayor"),AND(J13="Baja",N13="Mayor"),AND(J13="Media",N13="Mayor"),AND(J13="Alta",N13="Moderado"),AND(J13="Alta",N13="Mayor"),AND(J13="Muy Alta",N13="Leve"),AND(J13="Muy Alta",N13="Menor"),AND(J13="Muy Alta",N13="Moderado"),AND(J13="Muy Alta",N13="Mayor")),"Alto",IF(OR(AND(J13="Muy Baja",N13="Catastrófico"),AND(J13="Baja",N13="Catastrófico"),AND(J13="Media",N13="Catastrófico"),AND(J13="Alta",N13="Catastrófico"),AND(J13="Muy Alta",N13="Catastrófico")),"Extremo","")))) -> Moderado | Q13: 1 | R13: El responsable del área de gestión ética y buen gobierno gestiona de manera mensual actividades de incorporación y apropiación de los Códigos de Ética, Integridad, buen gobierno, deontológicos, por medio de presentaciones y difusión de correos electrónicos. | S13: =IF(OR(T13="Preventivo",T13="Detectivo"),"Probabilidad",IF(T13="Correctivo","Impacto","")) -> Probabilidad | T13: Preventivo | U13: Manual | V13: =IF(AND(T13="Preventivo",U13="Automático"),"50%",IF(AND(T13="Preventivo",U13="Manual"),"40%",IF(AND(T13="Detectivo",U13="Automático"),"40%",IF(AND(T13="Detectivo",U13="Manual"),"30%",IF(AND(T13="Correctivo",U13="Automático"),"35%",IF(AND(T13="Correctivo",U13="Manual"),"25%","")))))) -> 40% | W13: Documentado | X13: Continua | Y13: Con Registro | Z13: =IFERROR(IF(S13="Probabilidad",(K13-(+K13*V13)),IF(S13="Impacto",K13,"")),"") -> 0.48 | AA13: =IFERROR(IF(Z13="","",IF(Z13<=0.2,"Muy Baja",IF(Z13<=0.4,"Baja",IF(Z13<=0.6,"Media",IF(Z13<=0.8,"Alta","Muy Alta"))))),"") -> Media | AB13: =+Z13 -> 0.48 | AC13: =IFERROR(IF(AD13="","",IF(AD13<=0.2,"Leve",IF(AD13<=0.4,"Menor",IF(AD13<=0.6,"Moderado",IF(AD13<=0.8,"Mayor","Catastrófico"))))),"") -> Leve | AD13: =IFERROR(IF(S13="Impacto",(O13-(+O13*V13)),IF(S13="Probabilidad",O13,"")),"") -> 0.2 | AE13: =IFERROR(IF(OR(AND(AA13="Muy Baja",AC13="Leve"),AND(AA13="Muy Baja",AC13="Menor"),AND(AA13="Baja",AC13="Leve")),"Bajo",IF(OR(AND(AA13="Muy baja",AC13="Moderado"),AND(AA13="Baja",AC13="Menor"),AND(AA13="Baja",AC13="Moderado"),AND(AA13="Media",AC13="Leve"),AND(AA13="Media",AC13="Menor"),AND(AA13="Media",AC13="Moderado"),AND(AA13="Alta",AC13="Leve"),AND(AA13="Alta",AC13="Menor")),"Moderado",IF(OR(AND(AA13="Muy Baja",AC13="Mayor"),AND(AA13="Baja",AC13="Mayor"),AND(AA13="Media",AC13="Mayor"),AND(AA13="Alta",AC13="Moderado"),AND(AA13="Alta",AC13="Mayor"),AND(AA13="Muy Alta",AC13="Leve"),AND(AA13="Muy Alta",AC13="Menor"),AND(AA13="Muy Alta",AC13="Moderado"),AND(AA13="Muy Alta",AC13="Mayor")),"Alto",IF(OR(AND(AA13="Muy Baja",AC13="Catastrófico"),AND(AA13="Baja",AC13="Catastrófico"),AND(AA13="Media",AC13="Catastrófico"),AND(AA13="Alta",AC13="Catastrófico"),AND(AA13="Muy Alta",AC13="Catastrófico")),"Extremo","")))),"") -> Moderado | AF13: Aceptar
M14: =IF(NOT(ISERROR(MATCH(L14,_xlfn.ANCHORARRAY(G25),0))),K27&"Por favor no seleccionar los criterios de impacto",L14) -> 0 | Q14: 2 | R14: El responsable del área de gestión ética y buen gobierno coordina de manera mensual los grupos gestores para el desarrollo y seguimiento de las políticas de integridad y humanización. | S14: =IF(OR(T14="Preventivo",T14="Detectivo"),"Probabilidad",IF(T14="Correctivo","Impacto","")) -> Probabilidad | T14: Preventivo | U14: Manual | V14: =IF(AND(T14="Preventivo",U14="Automático"),"50%",IF(AND(T14="Preventivo",U14="Manual"),"40%",IF(AND(T14="Detectivo",U14="Automático"),"40%",IF(AND(T14="Detectivo",U14="Manual"),"30%",IF(AND(T14="Correctivo",U14="Automático"),"35%",IF(AND(T14="Correctivo",U14="Manual"),"25%","")))))) -> 40% | W14: Documentado | X14: Continua | Y14: Con Registro | Z14: =IFERROR(IF(S14="Probabilidad",(K13-(+K13*V14)),IF(S14="Impacto",K13,"")),"") -> 0.48 | AA14: =IFERROR(IF(Z14="","",IF(Z14<=0.2,"Muy Baja",IF(Z14<=0.4,"Baja",IF(Z14<=0.6,"Media",IF(Z14<=0.8,"Alta","Muy Alta"))))),"") -> Media | AB14: =+Z14 -> 0.48 | AC14: =IFERROR(IF(AD14="","",IF(AD14<=0.2,"Leve",IF(AD14<=0.4,"Menor",IF(AD14<=0.6,"Moderado",IF(AD14<=0.8,"Mayor","Catastrófico"))))),"") -> Leve | AD14: =IFERROR(IF(S14="Impacto",(O13-(+O13*V14)),IF(S14="Probabilidad",O13,"")),"") -> 0.2 | AE14: =IFERROR(IF(OR(AND(AA14="Muy Baja",AC14="Leve"),AND(AA14="Muy Baja",AC14="Menor"),AND(AA14="Baja",AC14="Leve")),"Bajo",IF(OR(AND(AA14="Muy baja",AC14="Moderado"),AND(AA14="Baja",AC14="Menor"),AND(AA14="Baja",AC14="Moderado"),AND(AA14="Media",AC14="Leve"),AND(AA14="Media",AC14="Menor"),AND(AA14="Media",AC14="Moderado"),AND(AA14="Alta",AC14="Leve"),AND(AA14="Alta",AC14="Menor")),"Moderado",IF(OR(AND(AA14="Muy Baja",AC14="Mayor"),AND(AA14="Baja",AC14="Mayor"),AND(AA14="Media",AC14="Mayor"),AND(AA14="Alta",AC14="Moderado"),AND(AA14="Alta",AC14="Mayor"),AND(AA14="Muy Alta",AC14="Leve"),AND(AA14="Muy Alta",AC14="Menor"),AND(AA14="Muy Alta",AC14="Moderado"),AND(AA14="Muy Alta",AC14="Mayor")),"Alto",IF(OR(AND(AA14="Muy Baja",AC14="Catastrófico"),AND(AA14="Baja",AC14="Catastrófico"),AND(AA14="Media",AC14="Catastrófico"),AND(AA14="Alta",AC14="Catastrófico"),AND(AA14="Muy Alta",AC14="Catastrófico")),"Extremo","")))),"") -> Moderado | AF14: Aceptar
M15: =IF(NOT(ISERROR(MATCH(L15,_xlfn.ANCHORARRAY(G26),0))),K28&"Por favor no seleccionar los criterios de impacto",L15) -> 0 | Q15: 3
M16: =IF(NOT(ISERROR(MATCH(L16,_xlfn.ANCHORARRAY(G27),0))),K29&"Por favor no seleccionar los criterios de impacto",L16) -> 0 | Q16: 4
M17: =IF(NOT(ISERROR(MATCH(L17,_xlfn.ANCHORARRAY(G28),0))),K30&"Por favor no seleccionar los criterios de impacto",L17) -> 0 | Q17: 5
M18: =IF(NOT(ISERROR(MATCH(L18,_xlfn.ANCHORARRAY(G29),0))),K31&"Por favor no seleccionar los criterios de impacto",L18) -> 0 | Q18: 6
A19: 2 | B19: Gerencia y Buen Gobierno | C19: Gestión Ética y Buen Gobierno Administración de Personal Selección y Contratación Gestión Contratos | D19: Económico y Reputacional | E19: Multas y sanciones. | F19: Vinculación de personas naturales y/o jurídicas, sin considerar los lineamientos contemplados relacionado con conflictos de interés. (Política de Integridad) | G19: Posibilidad de afectación económica y reputacional por multas y sanciones, debido a la vinculación de personas naturales y/o jurídicas, sin considerar los lineamientos contemplados relacionado con conflictos de interés. (Política de Integridad). | H19: Ejecución y Administración de procesos | I19: 5000 | J19: =IF(I19<=0,"",IF(I19<=2,"Muy Baja",IF(I19<=24,"Baja",IF(I19<=500,"Media",IF(I19<=5000,"Alta","Muy Alta"))))) -> Alta | K19: =IF(J19="","",IF(J19="Muy Baja",0.2,IF(J19="Baja",0.4,IF(J19="Media",0.6,IF(J19="Alta",0.8,IF(J19="Muy Alta",1,)))))) -> 0.8 | L19: El riesgo afecta la imagen de la entidad internamente, de conocimiento general, nivel interno, de junta dircetiva y accionistas y/o de provedores | M19: =IF(NOT(ISERROR(MATCH(L19,'[1]Tabla Impacto'!$B$221:$B$223,0))),'[1]Tabla Impacto'!$F$223&"Por favor no seleccionar los criterios de impacto(Afectación Económica o presupuestal y Pérdida Reputacional)",L19) -> El riesgo afecta la imagen de la entidad internamente, de conocimiento general, nivel interno, de junta dircetiva y accionistas y/o de provedores | N19: =+IF(OR(M19='[1]Tabla Impacto'!$C$11,M19='[1]Tabla Impacto'!$D$11),"Leve",IF(OR(M19='[1]Tabla Impacto'!$C$12,M19='[1]Tabla Impacto'!$D$12),"Menor",IF(OR(M19='[1]Tabla Impacto'!$C$13,M19='[1]Tabla Impacto'!$D$13),"Moderado",IF(OR(M19='[1]Tabla Impacto'!$C$14,M19='[1]Tabla Impacto'!$D$14),"Mayor",IF(OR(M19='[1]Tabla Impacto'!$C$15,M19='[1]Tabla Impacto'!$D$15),"Catastrófico",""))))) -> Menor | O19: =IF(N19="","",IF(N19="Leve",0.2,IF(N19="Menor",0.4,IF(N19="Moderado",0.6,IF(N19="Mayor",0.8,IF(N19="Catastrófico",1,)))))) -> 0.4 | P19: =IF(OR(AND(J19="Muy Baja",N19="Leve"),AND(J19="Muy Baja",N19="Menor"),AND(J19="Baja",N19="Leve")),"Bajo",IF(OR(AND(J19="Muy baja",N19="Moderado"),AND(J19="Baja",N19="Menor"),AND(J19="Baja",N19="Moderado"),AND(J19="Media",N19="Leve"),AND(J19="Media",N19="Menor"),AND(J19="Media",N19="Moderado"),AND(J19="Alta",N19="Leve"),AND(J19="Alta",N19="Menor")),"Moderado",IF(OR(AND(J19="Muy Baja",N19="Mayor"),AND(J19="Baja",N19="Mayor"),AND(J19="Media",N19="Mayor"),AND(J19="Alta",N19="Moderado"),AND(J19="Alta",N19="Mayor"),AND(J19="Muy Alta",N19="Leve"),AND(J19="Muy Alta",N19="Menor"),AND(J19="Muy Alta",N19="Moderado"),AND(J19="Muy Alta",N19="Mayor")),"Alto",IF(OR(AND(J19="Muy Baja",N19="Catastrófico"),AND(J19="Baja",N19="Catastrófico"),AND(J19="Media",N19="Catastrófico"),AND(J19="Alta",N19="Catastrófico"),AND(J19="Muy Alta",N19="Catastrófico")),"Extremo","")))) -> Moderado | Q19: 1 | R19: El profesional del área de Administración de personal, junto con el responsable de Selección y contratación de personal y el profesional del área de Gestión contratos, garantizan cada vez que se requiere, el cumplimiento de la ley que exige el diligenciamiento del formato declaración de bienes y rentas y declaración de conflicto de interés y/o aplicativos de Ley 2013 de 2019, con el fin de acatar las disposiciones normativas vigentes. | S19: =IF(OR(T19="Preventivo",T19="Detectivo"),"Probabilidad",IF(T19="Correctivo","Impacto","")) -> Probabilidad | T19: Preventivo | U19: Manual | V19: =IF(AND(T19="Preventivo",U19="Automático"),"50%",IF(AND(T19="Preventivo",U19="Manual"),"40%",IF(AND(T19="Detectivo",U19="Automático"),"40%",IF(AND(T19="Detectivo",U19="Manual"),"30%",IF(AND(T19="Correctivo",U19="Automático"),"35%",IF(AND(T19="Correctivo",U19="Manual"),"25%","")))))) -> 40% | W19: Documentado | X19: Continua | Y19: Con Registro | Z19: =IFERROR(IF(S19="Probabilidad",(K19-(+K19*V19)),IF(S19="Impacto",K19,"")),"") -> 0.48 | AA19: =IFERROR(IF(Z19="","",IF(Z19<=0.2,"Muy Baja",IF(Z19<=0.4,"Baja",IF(Z19<=0.6,"Media",IF(Z19<=0.8,"Alta","Muy Alta"))))),"") -> Media | AB19: =+Z19 -> 0.48 | AC19: =IFERROR(IF(AD19="","",IF(AD19<=0.2,"Leve",IF(AD19<=0.4,"Menor",IF(AD19<=0.6,"Moderado",IF(AD19<=0.8,"Mayor","Catastrófico"))))),"") -> Menor | AD19: =IFERROR(IF(S19="Impacto",(O19-(+O19*V19)),IF(S19="Probabilidad",O19,"")),"") -> 0.4 | AE19: =IFERROR(IF(OR(AND(AA19="Muy Baja",AC19="Leve"),AND(AA19="Muy Baja",AC19="Menor"),AND(AA19="Baja",AC19="Leve")),"Bajo",IF(OR(AND(AA19="Muy baja",AC19="Moderado"),AND(AA19="Baja",AC19="Menor"),AND(AA19="Baja",AC19="Moderado"),AND(AA19="Media",AC19="Leve"),AND(AA19="Media",AC19="Menor"),AND(AA19="Media",AC19="Moderado"),AND(AA19="Alta",AC19="Leve"),AND(AA19="Alta",AC19="Menor")),"Moderado",IF(OR(AND(AA19="Muy Baja",AC19="Mayor"),AND(AA19="Baja",AC19="Mayor"),AND(AA19="Media",AC19="Mayor"),AND(AA19="Alta",AC19="Moderado"),AND(AA19="Alta",AC19="Mayor"),AND(AA19="Muy Alta",AC19="Leve"),AND(AA19="Muy Alta",AC19="Menor"),AND(AA19="Muy Alta",AC19="Moderado"),AND(AA19="Muy Alta",AC19="Mayor")),"Alto",IF(OR(AND(AA19="Muy Baja",AC19="Catastrófico"),AND(AA19="Baja",AC19="Catastrófico"),AND(AA19="Media",AC19="Catastrófico"),AND(AA19="Alta",AC19="Catastrófico"),AND(AA19="Muy Alta",AC19="Catastrófico")),"Extremo","")))),"") -> Moderado | AF19: Aceptar
M20: =IF(NOT(ISERROR(MATCH(L20,_xlfn.ANCHORARRAY(G31),0))),K33&"Por favor no seleccionar los criterios de impacto",L20) -> 0 | Q20: 2 | R20: El profesional del área de Administración de personal, junto con el responsable de Selección y contratación de personal y el profesional del área de Gestión contratos, verifican la información registrada en el formato declaración de bienes y rentas y declaración de conflicto de interés y/o aplicativos de Ley 2013 de 2019 y posteriormente es actualizada la información en el aplicativo SIGEP. | S20: =IF(OR(T20="Preventivo",T20="Detectivo"),"Probabilidad",IF(T20="Correctivo","Impacto","")) -> Probabilidad | T20: Preventivo | U20: Manual | V20: =IF(AND(T20="Preventivo",U20="Automático"),"50%",IF(AND(T20="Preventivo",U20="Manual"),"40%",IF(AND(T20="Detectivo",U20="Automático"),"40%",IF(AND(T20="Detectivo",U20="Manual"),"30%",IF(AND(T20="Correctivo",U20="Automático"),"35%",IF(AND(T20="Correctivo",U20="Manual"),"25%","")))))) -> 40% | W20: Documentado | X20: Continua | Y20: Con Registro | Z20: =IFERROR(IF(S20="Probabilidad",(K19-(+K19*V20)),IF(S20="Impacto",K19,"")),"") -> 0.48 | AA20: =IFERROR(IF(Z20="","",IF(Z20<=0.2,"Muy Baja",IF(Z20<=0.4,"Baja",IF(Z20<=0.6,"Media",IF(Z20<=0.8,"Alta","Muy Alta"))))),"") -> Media | AB20: =+Z20 -> 0.48 | AC20: =IFERROR(IF(AD20="","",IF(AD20<=0.2,"Leve",IF(AD20<=0.4,"Menor",IF(AD20<=0.6,"Moderado",IF(AD20<=0.8,"Mayor","Catastrófico"))))),"") -> Menor | AD20: =IFERROR(IF(S20="Impacto",(O19-(+O19*V20)),IF(S20="Probabilidad",O19,"")),"") -> 0.4 | AE20: =IFERROR(IF(OR(AND(AA20="Muy Baja",AC20="Leve"),AND(AA20="Muy Baja",AC20="Menor"),AND(AA20="Baja",AC20="Leve")),"Bajo",IF(OR(AND(AA20="Muy baja",AC20="Moderado"),AND(AA20="Baja",AC20="Menor"),AND(AA20="Baja",AC20="Moderado"),AND(AA20="Media",AC20="Leve"),AND(AA20="Media",AC20="Menor"),AND(AA20="Media",AC20="Moderado"),AND(AA20="Alta",AC20="Leve"),AND(AA20="Alta",AC20="Menor")),"Moderado",IF(OR(AND(AA20="Muy Baja",AC20="Mayor"),AND(AA20="Baja",AC20="Mayor"),AND(AA20="Media",AC20="Mayor"),AND(AA20="Alta",AC20="Moderado"),AND(AA20="Alta",AC20="Mayor"),AND(AA20="Muy Alta",AC20="Leve"),AND(AA20="Muy Alta",AC20="Menor"),AND(AA20="Muy Alta",AC20="Moderado"),AND(AA20="Muy Alta",AC20="Mayor")),"Alto",IF(OR(AND(AA20="Muy Baja",AC20="Catastrófico"),AND(AA20="Baja",AC20="Catastrófico"),AND(AA20="Media",AC20="Catastrófico"),AND(AA20="Alta",AC20="Catastrófico"),AND(AA20="Muy Alta",AC20="Catastrófico")),"Extremo","")))),"") -> Moderado | AF20: Aceptar
M21: =IF(NOT(ISERROR(MATCH(L21,_xlfn.ANCHORARRAY(G32),0))),K34&"Por favor no seleccionar los criterios de impacto",L21) -> 0 | Q21: 3
M22: =IF(NOT(ISERROR(MATCH(L22,_xlfn.ANCHORARRAY(G33),0))),K35&"Por favor no seleccionar los criterios de impacto",L22) -> 0 | Q22: 4
M23: =IF(NOT(ISERROR(MATCH(L23,_xlfn.ANCHORARRAY(G34),0))),K36&"Por favor no seleccionar los criterios de impacto",L23) -> 0 | Q23: 5
M24: =IF(NOT(ISERROR(MATCH(L24,_xlfn.ANCHORARRAY(G35),0))),K37&"Por favor no seleccionar los criterios de impacto",L24) -> 0 | Q24: 6
A25: 3 | B25: Gerencia y Buen Gobierno | C25: Gestión Ética y Buen Gobierno Responsables de los Grupos de trabajo Presidentes de los comités institucionales. | D25: Económico y Reputacional | E25: Demandas legales y sanciones. | F25: Omitir la declaración de impedimento o recusación ante la posibilidad real o aparente de un conflicto de interés. | G25: Posibilidad de afectación económica y reputacional por demandas legales y sanciones, debido a omitir la declaración de impedimento o recusación ante la posibilidad real o aparente de un conflicto de interés. | H25: Ejecución y Administración de procesos | I25: 500 | J25: =IF(I25<=0,"",IF(I25<=2,"Muy Baja",IF(I25<=24,"Baja",IF(I25<=500,"Media",IF(I25<=5000,"Alta","Muy Alta"))))) -> Media | K25: =IF(J25="","",IF(J25="Muy Baja",0.2,IF(J25="Baja",0.4,IF(J25="Media",0.6,IF(J25="Alta",0.8,IF(J25="Muy Alta",1,)))))) -> 0.6 | L25: El riesgo afecta la imagen de la entidad con algunos usuarios de relevancia frente al logro de los objetivos | M25: =IF(NOT(ISERROR(MATCH(L25,'[1]Tabla Impacto'!$B$221:$B$223,0))),'[1]Tabla Impacto'!$F$223&"Por favor no seleccionar los criterios de impacto(Afectación Económica o presupuestal y Pérdida Reputacional)",L25) -> El riesgo afecta la imagen de la entidad con algunos usuarios de relevancia frente al logro de los objetivos | N25: =+IF(OR(M25='[1]Tabla Impacto'!$C$11,M25='[1]Tabla Impacto'!$D$11),"Leve",IF(OR(M25='[1]Tabla Impacto'!$C$12,M25='[1]Tabla Impacto'!$D$12),"Menor",IF(OR(M25='[1]Tabla Impacto'!$C$13,M25='[1]Tabla Impacto'!$D$13),"Moderado",IF(OR(M25='[1]Tabla Impacto'!$C$14,M25='[1]Tabla Impacto'!$D$14),"Mayor",IF(OR(M25='[1]Tabla Impacto'!$C$15,M25='[1]Tabla Impacto'!$D$15),"Catastrófico",""))))) -> Moderado | O25: =IF(N25="","",IF(N25="Leve",0.2,IF(N25="Menor",0.4,IF(N25="Moderado",0.6,IF(N25="Mayor",0.8,IF(N25="Catastrófico",1,)))))) -> 0.6 | P25: =IF(OR(AND(J25="Muy Baja",N25="Leve"),AND(J25="Muy Baja",N25="Menor"),AND(J25="Baja",N25="Leve")),"Bajo",IF(OR(AND(J25="Muy baja",N25="Moderado"),AND(J25="Baja",N25="Menor"),AND(J25="Baja",N25="Moderado"),AND(J25="Media",N25="Leve"),AND(J25="Media",N25="Menor"),AND(J25="Media",N25="Moderado"),AND(J25="Alta",N25="Leve"),AND(J25="Alta",N25="Menor")),"Moderado",IF(OR(AND(J25="Muy Baja",N25="Mayor"),AND(J25="Baja",N25="Mayor"),AND(J25="Media",N25="Mayor"),AND(J25="Alta",N25="Moderado"),AND(J25="Alta",N25="Mayor"),AND(J25="Muy Alta",N25="Leve"),AND(J25="Muy Alta",N25="Menor"),AND(J25="Muy Alta",N25="Moderado"),AND(J25="Muy Alta",N25="Mayor")),"Alto",IF(OR(AND(J25="Muy Baja",N25="Catastrófico"),AND(J25="Baja",N25="Catastrófico"),AND(J25="Media",N25="Catastrófico"),AND(J25="Alta",N25="Catastrófico"),AND(J25="Muy Alta",N25="Catastrófico")),"Extremo","")))) -> Moderado | Q25: 1 | R25: Los responsables de los grupos de trabajo realizan cada vez que se requiera el seguimiento a la presentación de posibles situaciones de conflicto de interés o recusación, con el fin de mitigar el riesgo. Realizan reporte trimestral al Grupo de integridad. | S25: =IF(OR(T25="Preventivo",T25="Detectivo"),"Probabilidad",IF(T25="Correctivo","Impacto","")) -> Probabilidad | T25: Preventivo | U25: Manual | V25: =IF(AND(T25="Preventivo",U25="Automático"),"50%",IF(AND(T25="Preventivo",U25="Manual"),"40%",IF(AND(T25="Detectivo",U25="Automático"),"40%",IF(AND(T25="Detectivo",U25="Manual"),"30%",IF(AND(T25="Correctivo",U25="Automático"),"35%",IF(AND(T25="Correctivo",U25="Manual"),"25%","")))))) -> 40% | W25: Documentado | X25: Continua | Y25: Con Registro | Z25: =IFERROR(IF(S25="Probabilidad",(K25-(+K25*V25)),IF(S25="Impacto",K25,"")),"") -> 0.36 | AA25: =IFERROR(IF(Z25="","",IF(Z25<=0.2,"Muy Baja",IF(Z25<=0.4,"Baja",IF(Z25<=0.6,"Media",IF(Z25<=0.8,"Alta","Muy Alta"))))),"") -> Baja | AB25: =+Z25 -> 0.36 | AC25: =IFERROR(IF(AD25="","",IF(AD25<=0.2,"Leve",IF(AD25<=0.4,"Menor",IF(AD25<=0.6,"Moderado",IF(AD25<=0.8,"Mayor","Catastrófico"))))),"") -> Moderado | AD25: =IFERROR(IF(S25="Impacto",(O25-(+O25*V25)),IF(S25="Probabilidad",O25,"")),"") -> 0.6 | AE25: =IFERROR(IF(OR(AND(AA25="Muy Baja",AC25="Leve"),AND(AA25="Muy Baja",AC25="Menor"),AND(AA25="Baja",AC25="Leve")),"Bajo",IF(OR(AND(AA25="Muy baja",AC25="Moderado"),AND(AA25="Baja",AC25="Menor"),AND(AA25="Baja",AC25="Moderado"),AND(AA25="Media",AC25="Leve"),AND(AA25="Media",AC25="Menor"),AND(AA25="Media",AC25="Moderado"),AND(AA25="Alta",AC25="Leve"),AND(AA25="Alta",AC25="Menor")),"Moderado",IF(OR(AND(AA25="Muy Baja",AC25="Mayor"),AND(AA25="Baja",AC25="Mayor"),AND(AA25="Media",AC25="Mayor"),AND(AA25="Alta",AC25="Moderado"),AND(AA25="Alta",AC25="Mayor"),AND(AA25="Muy Alta",AC25="Leve"),AND(AA25="Muy Alta",AC25="Menor"),AND(AA25="Muy Alta",AC25="Moderado"),AND(AA25="Muy Alta",AC25="Mayor")),"Alto",IF(OR(AND(AA25="Muy Baja",AC25="Catastrófico"),AND(AA25="Baja",AC25="Catastrófico"),AND(AA25="Media",AC25="Catastrófico"),AND(AA25="Alta",AC25="Catastrófico"),AND(AA25="Muy Alta",AC25="Catastrófico")),"Extremo","")))),"") -> Moderado | AF25: Aceptar
M26: =IF(NOT(ISERROR(MATCH(L26,_xlfn.ANCHORARRAY(G37),0))),K39&"Por favor no seleccionar los criterios de impacto",L26) -> 0 | Q26: 2 | R26: Los presidentes o secretarios de los comités institucionales incluyen en el orden del día cada vez que se requiera, la pregunta sobre posible declaración de conflicto de interés o recusación a los miembros de cada comité, con el fin de mitigar el riesgo. Lo registran en actas y realizan reporte trimestral al Grupo Gestor de Integridad, | S26: =IF(OR(T26="Preventivo",T26="Detectivo"),"Probabilidad",IF(T26="Correctivo","Impacto","")) -> Probabilidad | T26: Preventivo | U26: Manual | V26: =IF(AND(T26="Preventivo",U26="Automático"),"50%",IF(AND(T26="Preventivo",U26="Manual"),"40%",IF(AND(T26="Detectivo",U26="Automático"),"40%",IF(AND(T26="Detectivo",U26="Manual"),"30%",IF(AND(T26="Correctivo",U26="Automático"),"35%",IF(AND(T26="Correctivo",U26="Manual"),"25%","")))))) -> 40% | W26: Documentado | X26: Continua | Y26: Con Registro | Z26: =IFERROR(IF(S26="Probabilidad",(K25-(+K25*V26)),IF(S26="Impacto",K25,"")),"") -> 0.36 | AA26: =IFERROR(IF(Z26="","",IF(Z26<=0.2,"Muy Baja",IF(Z26<=0.4,"Baja",IF(Z26<=0.6,"Media",IF(Z26<=0.8,"Alta","Muy Alta"))))),"") -> Baja | AB26: =+Z26 -> 0.36 | AC26: =IFERROR(IF(AD26="","",IF(AD26<=0.2,"Leve",IF(AD26<=0.4,"Menor",IF(AD26<=0.6,"Moderado",IF(AD26<=0.8,"Mayor","Catastrófico"))))),"") -> Moderado | AD26: =IFERROR(IF(S26="Impacto",(O25-(+O25*V26)),IF(S26="Probabilidad",O25,"")),"") -> 0.6 | AE26: =IFERROR(IF(OR(AND(AA26="Muy Baja",AC26="Leve"),AND(AA26="Muy Baja",AC26="Menor"),AND(AA26="Baja",AC26="Leve")),"Bajo",IF(OR(AND(AA26="Muy baja",AC26="Moderado"),AND(AA26="Baja",AC26="Menor"),AND(AA26="Baja",AC26="Moderado"),AND(AA26="Media",AC26="Leve"),AND(AA26="Media",AC26="Menor"),AND(AA26="Media",AC26="Moderado"),AND(AA26="Alta",AC26="Leve"),AND(AA26="Alta",AC26="Menor")),"Moderado",IF(OR(AND(AA26="Muy Baja",AC26="Mayor"),AND(AA26="Baja",AC26="Mayor"),AND(AA26="Media",AC26="Mayor"),AND(AA26="Alta",AC26="Moderado"),AND(AA26="Alta",AC26="Mayor"),AND(AA26="Muy Alta",AC26="Leve"),AND(AA26="Muy Alta",AC26="Menor"),AND(AA26="Muy Alta",AC26="Moderado"),AND(AA26="Muy Alta",AC26="Mayor")),"Alto",IF(OR(AND(AA26="Muy Baja",AC26="Catastrófico"),AND(AA26="Baja",AC26="Catastrófico"),AND(AA26="Media",AC26="Catastrófico"),AND(AA26="Alta",AC26="Catastrófico"),AND(AA26="Muy Alta",AC26="Catastrófico")),"Extremo","")))),"") -> Moderado | AF26: Aceptar
M27: =IF(NOT(ISERROR(MATCH(L27,_xlfn.ANCHORARRAY(G38),0))),K40&"Por favor no seleccionar los criterios de impacto",L27) -> 0 | Q27: 3
M28: =IF(NOT(ISERROR(MATCH(L28,_xlfn.ANCHORARRAY(G39),0))),K41&"Por favor no seleccionar los criterios de impacto",L28) -> 0 | Q28: 4
M29: =IF(NOT(ISERROR(MATCH(L29,_xlfn.ANCHORARRAY(G40),0))),K42&"Por favor no seleccionar los criterios de impacto",L29) -> 0 | Q29: 5
M30: =IF(NOT(ISERROR(MATCH(L30,_xlfn.ANCHORARRAY(G41),0))),K43&"Por favor no seleccionar los criterios de impacto",L30) -> 0 | Q30: 6
A31: 4 | B31: Planeación | C31: Oficina Asesora de Planeación | D31: Económico | E31: No prestación en la atención integral de los servicios de salud a los usuarios del subsistema de las fuerzas militares. | F31: Inedecuada identificación de necesidades para la adquisición de bienes y/o servicios. | G31: Posibilidad de afectación económica por la no prestación integral de los servicios de salud a los usuarios del subsistema de las fuerzas militares, debido a la inedecuada identificación de necesidades para la adquisición de bienes y/o servicios. | H31: Ejecución y Administración de procesos | I31: 1 | J31: =IF(I31<=0,"",IF(I31<=2,"Muy Baja",IF(I31<=24,"Baja",IF(I31<=500,"Media",IF(I31<=5000,"Alta","Muy Alta"))))) -> Muy Baja | K31: =IF(J31="","",IF(J31="Muy Baja",0.2,IF(J31="Baja",0.4,IF(J31="Media",0.6,IF(J31="Alta",0.8,IF(J31="Muy Alta",1,)))))) -> 0.2 | L31: Entre 100 y 500 SMLMV | M31: =IF(NOT(ISERROR(MATCH(L31,'[2]Tabla Impacto'!$B$221:$B$223,0))),'[2]Tabla Impacto'!$F$223&"Por favor no seleccionar los criterios de impacto(Afectación Económica o presupuestal y Pérdida Reputacional)",L31) -> Entre 100 y 500 SMLMV | N31: =+IF(OR(M31='[2]Tabla Impacto'!$C$11,M31='[2]Tabla Impacto'!$D$11),"Leve",IF(OR(M31='[2]Tabla Impacto'!$C$12,M31='[2]Tabla Impacto'!$D$12),"Menor",IF(OR(M31='[2]Tabla Impacto'!$C$13,M31='[2]Tabla Impacto'!$D$13),"Moderado",IF(OR(M31='[2]Tabla Impacto'!$C$14,M31='[2]Tabla Impacto'!$D$14),"Mayor",IF(OR(M31='[2]Tabla Impacto'!$C$15,M31='[2]Tabla Impacto'!$D$15),"Catastrófico",""))))) -> Mayor | O31: =IF(N31="","",IF(N31="Leve",0.2,IF(N31="Menor",0.4,IF(N31="Moderado",0.6,IF(N31="Mayor",0.8,IF(N31="Catastrófico",1,)))))) -> 0.8 | P31: =IF(OR(AND(J31="Muy Baja",N31="Leve"),AND(J31="Muy Baja",N31="Menor"),AND(J31="Baja",N31="Leve")),"Bajo",IF(OR(AND(J31="Muy baja",N31="Moderado"),AND(J31="Baja",N31="Menor"),AND(J31="Baja",N31="Moderado"),AND(J31="Media",N31="Leve"),AND(J31="Media",N31="Menor"),AND(J31="Media",N31="Moderado"),AND(J31="Alta",N31="Leve"),AND(J31="Alta",N31="Menor")),"Moderado",IF(OR(AND(J31="Muy Baja",N31="Mayor"),AND(J31="Baja",N31="Mayor"),AND(J31="Media",N31="Mayor"),AND(J31="Alta",N31="Moderado"),AND(J31="Alta",N31="Mayor"),AND(J31="Muy Alta",N31="Leve"),AND(J31="Muy Alta",N31="Menor"),AND(J31="Muy Alta",N31="Moderado"),AND(J31="Muy Alta",N31="Mayor")),"Alto",IF(OR(AND(J31="Muy Baja",N31="Catastrófico"),AND(J31="Baja",N31="Catastrófico"),AND(J31="Media",N31="Catastrófico"),AND(J31="Alta",N31="Catastrófico"),AND(J31="Muy Alta",N31="Catastrófico")),"Extremo","")))) -> Alto | Q31: 1 | R31: El profesional de la Oficina Asesora de Planeación elabora la directiva y envía formato del Plan de Adquisiciones de manera anual, con el fin de emitir los lineamientos para identificación y consolidación de necesidades de bienes y/o servicios a contratar en la siguiente vigencia. | S31: =IF(OR(T31="Preventivo",T31="Detectivo"),"Probabilidad",IF(T31="Correctivo","Impacto","")) -> Probabilidad | T31: Preventivo | U31: Manual | V31: =IF(AND(T31="Preventivo",U31="Automático"),"50%",IF(AND(T31="Preventivo",U31="Manual"),"40%",IF(AND(T31="Detectivo",U31="Automático"),"40%",IF(AND(T31="Detectivo",U31="Manual"),"30%",IF(AND(T31="Correctivo",U31="Automático"),"35%",IF(AND(T31="Correctivo",U31="Manual"),"25%","")))))) -> 40% | W31: Documentado | X31: Continua | Y31: Con Registro | Z31: =IFERROR(IF(S31="Probabilidad",(K31-(+K31*V31)),IF(S31="Impacto",K31,"")),"") -> 0.12 | AA31: =IFERROR(IF(Z31="","",IF(Z31<=0.2,"Muy Baja",IF(Z31<=0.4,"Baja",IF(Z31<=0.6,"Media",IF(Z31<=0.8,"Alta","Muy Alta"))))),"") -> Muy Baja | AB31: =+Z31 -> 0.12 | AC31: =IFERROR(IF(AD31="","",IF(AD31<=0.2,"Leve",IF(AD31<=0.4,"Menor",IF(AD31<=0.6,"Moderado",IF(AD31<=0.8,"Mayor","Catastrófico"))))),"") -> Mayor | AD31: =IFERROR(IF(S31="Impacto",(O31-(+O31*V31)),IF(S31="Probabilidad",O31,"")),"") -> 0.8 | AE31: =IFERROR(IF(OR(AND(AA31="Muy Baja",AC31="Leve"),AND(AA31="Muy Baja",AC31="Menor"),AND(AA31="Baja",AC31="Leve")),"Bajo",IF(OR(AND(AA31="Muy baja",AC31="Moderado"),AND(AA31="Baja",AC31="Menor"),AND(AA31="Baja",AC31="Moderado"),AND(AA31="Media",AC31="Leve"),AND(AA31="Media",AC31="Menor"),AND(AA31="Media",AC31="Moderado"),AND(AA31="Alta",AC31="Leve"),AND(AA31="Alta",AC31="Menor")),"Moderado",IF(OR(AND(AA31="Muy Baja",AC31="Mayor"),AND(AA31="Baja",AC31="Mayor"),AND(AA31="Media",AC31="Mayor"),AND(AA31="Alta",AC31="Moderado"),AND(AA31="Alta",AC31="Mayor"),AND(AA31="Muy Alta",AC31="Leve"),AND(AA31="Muy Alta",AC31="Menor"),AND(AA31="Muy Alta",AC31="Moderado"),AND(AA31="Muy Alta",AC31="Mayor")),"Alto",IF(OR(AND(AA31="Muy Baja",AC31="Catastrófico"),AND(AA31="Baja",AC31="Catastrófico"),AND(AA31="Media",AC31="Catastrófico"),AND(AA31="Alta",AC31="Catastrófico"),AND(AA31="Muy Alta",AC31="Catastrófico")),"Extremo","")))),"") -> Alto | AF31: Aceptar
M32: =IF(NOT(ISERROR(MATCH(L32,_xlfn.ANCHORARRAY(G43),0))),K45&"Por favor no seleccionar los criterios de impacto",L32) -> 0 | Q32: 2 | R32: El profesional de la Oficina Asesora de Planeación desarrolla de manera anual mesas de trabajo con subdirectores, jefes de unidad, jefes de oficina y demás responsables de áreas, según cronograma establecido en la directiva del Plan anual de Adquisiciones para realizar divulgación de los lineamientos definidos y brindar acompañamiento en la identificación y diligenciamiento de los formatos solicitados. | S32: =IF(OR(T32="Preventivo",T32="Detectivo"),"Probabilidad",IF(T32="Correctivo","Impacto","")) -> Probabilidad | T32: Preventivo | U32: Manual | V32: =IF(AND(T32="Preventivo",U32="Automático"),"50%",IF(AND(T32="Preventivo",U32="Manual"),"40%",IF(AND(T32="Detectivo",U32="Automático"),"40%",IF(AND(T32="Detectivo",U32="Manual"),"30%",IF(AND(T32="Correctivo",U32="Automático"),"35%",IF(AND(T32="Correctivo",U32="Manual"),"25%","")))))) -> 40% | W32: Documentado | X32: Continua | Y32: Con Registro | Z32: =IFERROR(IF(S32="Probabilidad",(K31-(+K31*V32)),IF(S32="Impacto",K31,"")),"") -> 0.12 | AA32: =IFERROR(IF(Z32="","",IF(Z32<=0.2,"Muy Baja",IF(Z32<=0.4,"Baja",IF(Z32<=0.6,"Media",IF(Z32<=0.8,"Alta","Muy Alta"))))),"") -> Muy Baja | AB32: =+Z32 -> 0.12 | AC32: =IFERROR(IF(AD32="","",IF(AD32<=0.2,"Leve",IF(AD32<=0.4,"Menor",IF(AD32<=0.6,"Moderado",IF(AD32<=0.8,"Mayor","Catastrófico"))))),"") -> Mayor | AD32: =IFERROR(IF(S32="Impacto",(O31-(+O31*V32)),IF(S32="Probabilidad",O31,"")),"") -> 0.8 | AE32: =IFERROR(IF(OR(AND(AA32="Muy Baja",AC32="Leve"),AND(AA32="Muy Baja",AC32="Menor"),AND(AA32="Baja",AC32="Leve")),"Bajo",IF(OR(AND(AA32="Muy baja",AC32="Moderado"),AND(AA32="Baja",AC32="Menor"),AND(AA32="Baja",AC32="Moderado"),AND(AA32="Media",AC32="Leve"),AND(AA32="Media",AC32="Menor"),AND(AA32="Media",AC32="Moderado"),AND(AA32="Alta",AC32="Leve"),AND(AA32="Alta",AC32="Menor")),"Moderado",IF(OR(AND(AA32="Muy Baja",AC32="Mayor"),AND(AA32="Baja",AC32="Mayor"),AND(AA32="Media",AC32="Mayor"),AND(AA32="Alta",AC32="Moderado"),AND(AA32="Alta",AC32="Mayor"),AND(AA32="Muy Alta",AC32="Leve"),AND(AA32="Muy Alta",AC32="Menor"),AND(AA32="Muy Alta",AC32="Moderado"),AND(AA32="Muy Alta",AC32="Mayor")),"Alto",IF(OR(AND(AA32="Muy Baja",AC32="Catastrófico"),AND(AA32="Baja",AC32="Catastrófico"),AND(AA32="Media",AC32="Catastrófico"),AND(AA32="Alta",AC32="Catastrófico"),AND(AA32="Muy Alta",AC32="Catastrófico")),"Extremo","")))),"") -> Alto | AF32: Aceptar
M33: =IF(NOT(ISERROR(MATCH(L33,_xlfn.ANCHORARRAY(G44),0))),K46&"Por favor no seleccionar los criterios de impacto",L33) -> 0 | Q33: 3 | R33: El profesional de la Oficina Asesora de Planeación realiza mesas de trabajo de manera anual con cada uno de los subdirectores para la validación y aprobación de las necesidades proyectadas por cada una de sus unidades. | S33: =IF(OR(T33="Preventivo",T33="Detectivo"),"Probabilidad",IF(T33="Correctivo","Impacto","")) -> Probabilidad | T33: Preventivo | U33: Manual | V33: =IF(AND(T33="Preventivo",U33="Automático"),"50%",IF(AND(T33="Preventivo",U33="Manual"),"40%",IF(AND(T33="Detectivo",U33="Automático"),"40%",IF(AND(T33="Detectivo",U33="Manual"),"30%",IF(AND(T33="Correctivo",U33="Automático"),"35%",IF(AND(T33="Correctivo",U33="Manual"),"25%","")))))) -> 40% | W33: Documentado | X33: Continua | Y33: Con Registro | Z33: =IFERROR(IF(S33="Probabilidad",(K31-(+K31*V33)),IF(S33="Impacto",K31,"")),"") -> 0.12 | AA33: =IFERROR(IF(Z33="","",IF(Z33<=0.2,"Muy Baja",IF(Z33<=0.4,"Baja",IF(Z33<=0.6,"Media",IF(Z33<=0.8,"Alta","Muy Alta"))))),"") -> Muy Baja | AB33: =+Z33 -> 0.12 | AC33: =IFERROR(IF(AD33="","",IF(AD33<=0.2,"Leve",IF(AD33<=0.4,"Menor",IF(AD33<=0.6,"Moderado",IF(AD33<=0.8,"Mayor","Catastrófico"))))),"") -> Mayor | AD33: =IFERROR(IF(S33="Impacto",(O31-(+O31*V33)),IF(S33="Probabilidad",O31,"")),"") -> 0.8 | AE33: =IFERROR(IF(OR(AND(AA33="Muy Baja",AC33="Leve"),AND(AA33="Muy Baja",AC33="Menor"),AND(AA33="Baja",AC33="Leve")),"Bajo",IF(OR(AND(AA33="Muy baja",AC33="Moderado"),AND(AA33="Baja",AC33="Menor"),AND(AA33="Baja",AC33="Moderado"),AND(AA33="Media",AC33="Leve"),AND(AA33="Media",AC33="Menor"),AND(AA33="Media",AC33="Moderado"),AND(AA33="Alta",AC33="Leve"),AND(AA33="Alta",AC33="Menor")),"Moderado",IF(OR(AND(AA33="Muy Baja",AC33="Mayor"),AND(AA33="Baja",AC33="Mayor"),AND(AA33="Media",AC33="Mayor"),AND(AA33="Alta",AC33="Moderado"),AND(AA33="Alta",AC33="Mayor"),AND(AA33="Muy Alta",AC33="Leve"),AND(AA33="Muy Alta",AC33="Menor"),AND(AA33="Muy Alta",AC33="Moderado"),AND(AA33="Muy Alta",AC33="Mayor")),"Alto",IF(OR(AND(AA33="Muy Baja",AC33="Catastrófico"),AND(AA33="Baja",AC33="Catastrófico"),AND(AA33="Media",AC33="Catastrófico"),AND(AA33="Alta",AC33="Catastrófico"),AND(AA33="Muy Alta",AC33="Catastrófico")),"Extremo","")))),"") -> Alto | AF33: Aceptar
M34: =IF(NOT(ISERROR(MATCH(L34,_xlfn.ANCHORARRAY(G45),0))),K47&"Por favor no seleccionar los criterios de impacto",L34) -> 0 | Q34: 4 | S34: =IF(OR(T34="Preventivo",T34="Detectivo"),"Probabilidad",IF(T34="Correctivo","Impacto","")) | V34: =IF(AND(T34="Preventivo",U34="Automático"),"50%",IF(AND(T34="Preventivo",U34="Manual"),"40%",IF(AND(T34="Detectivo",U34="Automático"),"40%",IF(AND(T34="Detectivo",U34="Manual"),"30%",IF(AND(T34="Correctivo",U34="Automático"),"35%",IF(AND(T34="Correctivo",U34="Manual"),"25%","")))))) | Z34: =IFERROR(IF(S34="Probabilidad",(K31-(+K31*V34)),IF(S34="Impacto",K31,"")),"") | AA34: =IFERROR(IF(Z34="","",IF(Z34<=0.2,"Muy Baja",IF(Z34<=0.4,"Baja",IF(Z34<=0.6,"Media",IF(Z34<=0.8,"Alta","Muy Alta"))))),"") | AB34: =+Z34 | AC34: =IFERROR(IF(AD34="","",IF(AD34<=0.2,"Leve",IF(AD34<=0.4,"Menor",IF(AD34<=0.6,"Moderado",IF(AD34<=0.8,"Mayor","Catastrófico"))))),"") | AD34: =IFERROR(IF(S34="Impacto",(O34-(+O34*V34)),IF(S34="Probabilidad",O34,"")),"") | AE34: =IFERROR(IF(OR(AND(AA34="Muy Baja",AC34="Leve"),AND(AA34="Muy Baja",AC34="Menor"),AND(AA34="Baja",AC34="Leve")),"Bajo",IF(OR(AND(AA34="Muy baja",AC34="Moderado"),AND(AA34="Baja",AC34="Menor"),AND(AA34="Baja",AC34="Moderado"),AND(AA34="Media",AC34="Leve"),AND(AA34="Media",AC34="Menor"),AND(AA34="Media",AC34="Moderado"),AND(AA34="Alta",AC34="Leve"),AND(AA34="Alta",AC34="Menor")),"Moderado",IF(OR(AND(AA34="Muy Baja",AC34="Mayor"),AND(AA34="Baja",AC34="Mayor"),AND(AA34="Media",AC34="Mayor"),AND(AA34="Alta",AC34="Moderado"),AND(AA34="Alta",AC34="Mayor"),AND(AA34="Muy Alta",AC34="Leve"),AND(AA34="Muy Alta",AC34="Menor"),AND(AA34="Muy Alta",AC34="Moderado"),AND(AA34="Muy Alta",AC34="Mayor")),"Alto",IF(OR(AND(AA34="Muy Baja",AC34="Catastrófico"),AND(AA34="Baja",AC34="Catastrófico"),AND(AA34="Media",AC34="Catastrófico"),AND(AA34="Alta",AC34="Catastrófico"),AND(AA34="Muy Alta",AC34="Catastrófico")),"Extremo","")))),"")
M35: =IF(NOT(ISERROR(MATCH(L35,_xlfn.ANCHORARRAY(G46),0))),K48&"Por favor no seleccionar los criterios de impacto",L35) -> 0 | Q35: 5 | S35: =IF(OR(T35="Preventivo",T35="Detectivo"),"Probabilidad",IF(T35="Correctivo","Impacto","")) | V35: =IF(AND(T35="Preventivo",U35="Automático"),"50%",IF(AND(T35="Preventivo",U35="Manual"),"40%",IF(AND(T35="Detectivo",U35="Automático"),"40%",IF(AND(T35="Detectivo",U35="Manual"),"30%",IF(AND(T35="Correctivo",U35="Automático"),"35%",IF(AND(T35="Correctivo",U35="Manual"),"25%","")))))) | Z35: =IFERROR(IF(S35="Probabilidad",(K31-(+K31*V35)),IF(S35="Impacto",K31,"")),"") | AA35: =IFERROR(IF(Z35="","",IF(Z35<=0.2,"Muy Baja",IF(Z35<=0.4,"Baja",IF(Z35<=0.6,"Media",IF(Z35<=0.8,"Alta","Muy Alta"))))),"") | AB35: =+Z35 | AC35: =IFERROR(IF(AD35="","",IF(AD35<=0.2,"Leve",IF(AD35<=0.4,"Menor",IF(AD35<=0.6,"Moderado",IF(AD35<=0.8,"Mayor","Catastrófico"))))),"") | AD35: =IFERROR(IF(S35="Impacto",(O35-(+O35*V35)),IF(S35="Probabilidad",O35,"")),"") | AE35: =IFERROR(IF(OR(AND(AA35="Muy Baja",AC35="Leve"),AND(AA35="Muy Baja",AC35="Menor"),AND(AA35="Baja",AC35="Leve")),"Bajo",IF(OR(AND(AA35="Muy baja",AC35="Moderado"),AND(AA35="Baja",AC35="Menor"),AND(AA35="Baja",AC35="Moderado"),AND(AA35="Media",AC35="Leve"),AND(AA35="Media",AC35="Menor"),AND(AA35="Media",AC35="Moderado"),AND(AA35="Alta",AC35="Leve"),AND(AA35="Alta",AC35="Menor")),"Moderado",IF(OR(AND(AA35="Muy Baja",AC35="Mayor"),AND(AA35="Baja",AC35="Mayor"),AND(AA35="Media",AC35="Mayor"),AND(AA35="Alta",AC35="Moderado"),AND(AA35="Alta",AC35="Mayor"),AND(AA35="Muy Alta",AC35="Leve"),AND(AA35="Muy Alta",AC35="Menor"),AND(AA35="Muy Alta",AC35="Moderado"),AND(AA35="Muy Alta",AC35="Mayor")),"Alto",IF(OR(AND(AA35="Muy Baja",AC35="Catastrófico"),AND(AA35="Baja",AC35="Catastrófico"),AND(AA35="Media",AC35="Catastrófico"),AND(AA35="Alta",AC35="Catastrófico"),AND(AA35="Muy Alta",AC35="Catastrófico")),"Extremo","")))),"")
M36: =IF(NOT(ISERROR(MATCH(L36,_xlfn.ANCHORARRAY(G47),0))),K49&"Por favor no seleccionar los criterios de impacto",L36) -> 0 | Q36: 6 | S36: =IF(OR(T36="Preventivo",T36="Detectivo"),"Probabilidad",IF(T36="Correctivo","Impacto","")) | V36: =IF(AND(T36="Preventivo",U36="Automático"),"50%",IF(AND(T36="Preventivo",U36="Manual"),"40%",IF(AND(T36="Detectivo",U36="Automático"),"40%",IF(AND(T36="Detectivo",U36="Manual"),"30%",IF(AND(T36="Correctivo",U36="Automático"),"35%",IF(AND(T36="Correctivo",U36="Manual"),"25%","")))))) | Z36: =IFERROR(IF(S35="Probabilidad",(K31-(+K31*V36)),IF(S36="Impacto",K31,"")),"") | AA36: =IFERROR(IF(Z36="","",IF(Z36<=0.2,"Muy Baja",IF(Z36<=0.4,"Baja",IF(Z36<=0.6,"Media",IF(Z36<=0.8,"Alta","Muy Alta"))))),"") | AB36: =+Z36 | AC36: =IFERROR(IF(AD36="","",IF(AD36<=0.2,"Leve",IF(AD36<=0.4,"Menor",IF(AD36<=0.6,"Moderado",IF(AD36<=0.8,"Mayor","Catastrófico"))))),"") | AD36: =IFERROR(IF(S36="Impacto",(O36-(+O36*V36)),IF(S36="Probabilidad",O36,"")),"") | AE36: =IFERROR(IF(OR(AND(AA36="Muy Baja",AC36="Leve"),AND(AA36="Muy Baja",AC36="Menor"),AND(AA36="Baja",AC36="Leve")),"Bajo",IF(OR(AND(AA36="Muy baja",AC36="Moderado"),AND(AA36="Baja",AC36="Menor"),AND(AA36="Baja",AC36="Moderado"),AND(AA36="Media",AC36="Leve"),AND(AA36="Media",AC36="Menor"),AND(AA36="Media",AC36="Moderado"),AND(AA36="Alta",AC36="Leve"),AND(AA36="Alta",AC36="Menor")),"Moderado",IF(OR(AND(AA36="Muy Baja",AC36="Mayor"),AND(AA36="Baja",AC36="Mayor"),AND(AA36="Media",AC36="Mayor"),AND(AA36="Alta",AC36="Moderado"),AND(AA36="Alta",AC36="Mayor"),AND(AA36="Muy Alta",AC36="Leve"),AND(AA36="Muy Alta",AC36="Menor"),AND(AA36="Muy Alta",AC36="Moderado"),AND(AA36="Muy Alta",AC36="Mayor")),"Alto",IF(OR(AND(AA36="Muy Baja",AC36="Catastrófico"),AND(AA36="Baja",AC36="Catastrófico"),AND(AA36="Media",AC36="Catastrófico"),AND(AA36="Alta",AC36="Catastrófico"),AND(AA36="Muy Alta",AC36="Catastrófico")),"Extremo","")))),"")
A37: 5 | B37: Planeación | C37: Oficina Asesora de Planeación | D37: Económico y Reputacional | E37: Multas, sanciones por parte de entes de control y desconfianza por parte de la ciudadanía, grupos de valor, usuarios internos y externos. | F37: Fallas en la verificación de la información reportada en el aplicativo (Suite Visión Empresarial) y errores en la transcripción y procesamiento de datos. | G37: Posibilidad de afectación económica y reputacional por multas, sanciones por parte de entes de control y desconfianza por parte de la ciudadanía, grupos de valor, usuarios internos y externos, debido a fallas en la verificación de la información reportada en el aplicativo (Suite Visión Empresarial) y errores en la transcripción y procesamiento de datos. | H37: Ejecución y Administración de procesos | I37: 12 | J37: =IF(I37<=0,"",IF(I37<=2,"Muy Baja",IF(I37<=24,"Baja",IF(I37<=500,"Media",IF(I37<=5000,"Alta","Muy Alta"))))) -> Baja | K37: =IF(J37="","",IF(J37="Muy Baja",0.2,IF(J37="Baja",0.4,IF(J37="Media",0.6,IF(J37="Alta",0.8,IF(J37="Muy Alta",1,)))))) -> 0.4 | L37: El riesgo afecta la imagen de la entidad con algunos usuarios de relevancia frente al logro de los objetivos | M37: =IF(NOT(ISERROR(MATCH(L37,'[2]Tabla Impacto'!$B$221:$B$223,0))),'[2]Tabla Impacto'!$F$223&"Por favor no seleccionar los criterios de impacto(Afectación Económica o presupuestal y Pérdida Reputacional)",L37) -> El riesgo afecta la imagen de la entidad con algunos usuarios de relevancia frente al logro de los objetivos | N37: =+IF(OR(M37='[2]Tabla Impacto'!$C$11,M37='[2]Tabla Impacto'!$D$11),"Leve",IF(OR(M37='[2]Tabla Impacto'!$C$12,M37='[2]Tabla Impacto'!$D$12),"Menor",IF(OR(M37='[2]Tabla Impacto'!$C$13,M37='[2]Tabla Impacto'!$D$13),"Moderado",IF(OR(M37='[2]Tabla Impacto'!$C$14,M37='[2]Tabla Impacto'!$D$14),"Mayor",IF(OR(M37='[2]Tabla Impacto'!$C$15,M37='[2]Tabla Impacto'!$D$15),"Catastrófico",""))))) -> Moderado | O37: =IF(N37="","",IF(N37="Leve",0.2,IF(N37="Menor",0.4,IF(N37="Moderado",0.6,IF(N37="Mayor",0.8,IF(N37="Catastrófico",1,)))))) -> 0.6 | P37: =IF(OR(AND(J37="Muy Baja",N37="Leve"),AND(J37="Muy Baja",N37="Menor"),AND(J37="Baja",N37="Leve")),"Bajo",IF(OR(AND(J37="Muy baja",N37="Moderado"),AND(J37="Baja",N37="Menor"),AND(J37="Baja",N37="Moderado"),AND(J37="Media",N37="Leve"),AND(J37="Media",N37="Menor"),AND(J37="Media",N37="Moderado"),AND(J37="Alta",N37="Leve"),AND(J37="Alta",N37="Menor")),"Moderado",IF(OR(AND(J37="Muy Baja",N37="Mayor"),AND(J37="Baja",N37="Mayor"),AND(J37="Media",N37="Mayor"),AND(J37="Alta",N37="Moderado"),AND(J37="Alta",N37="Mayor"),AND(J37="Muy Alta",N37="Leve"),AND(J37="Muy Alta",N37="Menor"),AND(J37="Muy Alta",N37="Moderado"),AND(J37="Muy Alta",N37="Mayor")),"Alto",IF(OR(AND(J37="Muy Baja",N37="Catastrófico"),AND(J37="Baja",N37="Catastrófico"),AND(J37="Media",N37="Catastrófico"),AND(J37="Alta",N37="Catastrófico"),AND(J37="Muy Alta",N37="Catastrófico")),"Extremo","")))) -> Moderado | Q37: 1 | R37: El profesional de la Oficina Asesora de Planeación realiza trimestralmente la verificación de datos de los indicadores estratégicos, comparando lo reportado en el aplicativo (Suite Visión Empresarial) Vs el formato PL-OAPL-PR-09-FT-02, con el fin de cotejar la información suministrada por parte de las dependencias. | S37: =IF(OR(T37="Preventivo",T37="Detectivo"),"Probabilidad",IF(T37="Correctivo","Impacto","")) -> Probabilidad | T37: Detectivo | U37: Manual | V37: =IF(AND(T37="Preventivo",U37="Automático"),"50%",IF(AND(T37="Preventivo",U37="Manual"),"40%",IF(AND(T37="Detectivo",U37="Automático"),"40%",IF(AND(T37="Detectivo",U37="Manual"),"30%",IF(AND(T37="Correctivo",U37="Automático"),"35%",IF(AND(T37="Correctivo",U37="Manual"),"25%","")))))) -> 30% | W37: Documentado | X37: Continua | Y37: Con Registro | Z37: =IFERROR(IF(S37="Probabilidad",(K37-(+K37*V37)),IF(S37="Impacto",K37,"")),"") -> 0.28 | AA37: =IFERROR(IF(Z37="","",IF(Z37<=0.2,"Muy Baja",IF(Z37<=0.4,"Baja",IF(Z37<=0.6,"Media",IF(Z37<=0.8,"Alta","Muy Alta"))))),"") -> Baja | AB37: =+Z37 -> 0.28 | AC37: =IFERROR(IF(AD37="","",IF(AD37<=0.2,"Leve",IF(AD37<=0.4,"Menor",IF(AD37<=0.6,"Moderado",IF(AD37<=0.8,"Mayor","Catastrófico"))))),"") -> Moderado | AD37: =IFERROR(IF(S37="Impacto",(O37-(+O37*V37)),IF(S37="Probabilidad",O37,"")),"") -> 0.6 | AE37: =IFERROR(IF(OR(AND(AA37="Muy Baja",AC37="Leve"),AND(AA37="Muy Baja",AC37="Menor"),AND(AA37="Baja",AC37="Leve")),"Bajo",IF(OR(AND(AA37="Muy baja",AC37="Moderado"),AND(AA37="Baja",AC37="Menor"),AND(AA37="Baja",AC37="Moderado"),AND(AA37="Media",AC37="Leve"),AND(AA37="Media",AC37="Menor"),AND(AA37="Media",AC37="Moderado"),AND(AA37="Alta",AC37="Leve"),AND(AA37="Alta",AC37="Menor")),"Moderado",IF(OR(AND(AA37="Muy Baja",AC37="Mayor"),AND(AA37="Baja",AC37="Mayor"),AND(AA37="Media",AC37="Mayor"),AND(AA37="Alta",AC37="Moderado"),AND(AA37="Alta",AC37="Mayor"),AND(AA37="Muy Alta",AC37="Leve"),AND(AA37="Muy Alta",AC37="Menor"),AND(AA37="Muy Alta",AC37="Moderado"),AND(AA37="Muy Alta",AC37="Mayor")),"Alto",IF(OR(AND(AA37="Muy Baja",AC37="Catastrófico"),AND(AA37="Baja",AC37="Catastrófico"),AND(AA37="Media",AC37="Catastrófico"),AND(AA37="Alta",AC37="Catastrófico"),AND(AA37="Muy Alta",AC37="Catastrófico")),"Extremo","")))),"") -> Moderado | AF37: Aceptar
M38: =IF(NOT(ISERROR(MATCH(L38,_xlfn.ANCHORARRAY(G49),0))),K51&"Por favor no seleccionar los criterios de impacto",L38) -> 0 | Q38: 2 | R38: El profesional de la Oficina Asesora de Planeación realiza mesas de trabajo de manera trimestral con subdirectores y jefes de unidad, con el fin de validar y verificar los resultados obtenidos en los indicadores y actividades estratégicas que conforman el Plan de Acción Institucional. | S38: =IF(OR(T38="Preventivo",T38="Detectivo"),"Probabilidad",IF(T38="Correctivo","Impacto","")) -> Probabilidad | T38: Detectivo | U38: Manual | V38: =IF(AND(T38="Preventivo",U38="Automático"),"50%",IF(AND(T38="Preventivo",U38="Manual"),"40%",IF(AND(T38="Detectivo",U38="Automático"),"40%",IF(AND(T38="Detectivo",U38="Manual"),"30%",IF(AND(T38="Correctivo",U38="Automático"),"35%",IF(AND(T38="Correctivo",U38="Manual"),"25%","")))))) -> 30% | W38: Documentado | X38: Continua | Y38: Con Registro | Z38: =IFERROR(IF(S38="Probabilidad",(K37-(+K37*V38)),IF(S38="Impacto",K37,"")),"") -> 0.28 | AA38: =IFERROR(IF(Z38="","",IF(Z38<=0.2,"Muy Baja",IF(Z38<=0.4,"Baja",IF(Z38<=0.6,"Media",IF(Z38<=0.8,"Alta","Muy Alta"))))),"") -> Baja | AB38: =+Z38 -> 0.28 | AC38: =IFERROR(IF(AD38="","",IF(AD38<=0.2,"Leve",IF(AD38<=0.4,"Menor",IF(AD38<=0.6,"Moderado",IF(AD38<=0.8,"Mayor","Catastrófico"))))),"") -> Moderado | AD38: =IFERROR(IF(S38="Impacto",(O37-(+O37*V38)),IF(S38="Probabilidad",O37,"")),"") -> 0.6 | AE38: =IFERROR(IF(OR(AND(AA38="Muy Baja",AC38="Leve"),AND(AA38="Muy Baja",AC38="Menor"),AND(AA38="Baja",AC38="Leve")),"Bajo",IF(OR(AND(AA38="Muy baja",AC38="Moderado"),AND(AA38="Baja",AC38="Menor"),AND(AA38="Baja",AC38="Moderado"),AND(AA38="Media",AC38="Leve"),AND(AA38="Media",AC38="Menor"),AND(AA38="Media",AC38="Moderado"),AND(AA38="Alta",AC38="Leve"),AND(AA38="Alta",AC38="Menor")),"Moderado",IF(OR(AND(AA38="Muy Baja",AC38="Mayor"),AND(AA38="Baja",AC38="Mayor"),AND(AA38="Media",AC38="Mayor"),AND(AA38="Alta",AC38="Moderado"),AND(AA38="Alta",AC38="Mayor"),AND(AA38="Muy Alta",AC38="Leve"),AND(AA38="Muy Alta",AC38="Menor"),AND(AA38="Muy Alta",AC38="Moderado"),AND(AA38="Muy Alta",AC38="Mayor")),"Alto",IF(OR(AND(AA38="Muy Baja",AC38="Catastrófico"),AND(AA38="Baja",AC38="Catastrófico"),AND(AA38="Media",AC38="Catastrófico"),AND(AA38="Alta",AC38="Catastrófico"),AND(AA38="Muy Alta",AC38="Catastrófico")),"Extremo","")))),"") -> Moderado | AF38: Aceptar
M39: =IF(NOT(ISERROR(MATCH(L39,_xlfn.ANCHORARRAY(G50),0))),K52&"Por favor no seleccionar los criterios de impacto",L39) -> 0 | Q39: 3 | S39: =IF(OR(T39="Preventivo",T39="Detectivo"),"Probabilidad",IF(T39="Correctivo","Impacto","")) | V39: =IF(AND(T39="Preventivo",U39="Automático"),"50%",IF(AND(T39="Preventivo",U39="Manual"),"40%",IF(AND(T39="Detectivo",U39="Automático"),"40%",IF(AND(T39="Detectivo",U39="Manual"),"30%",IF(AND(T39="Correctivo",U39="Automático"),"35%",IF(AND(T39="Correctivo",U39="Manual"),"25%","")))))) | Z39: =IFERROR(IF(S39="Probabilidad",(K37-(+K37*V39)),IF(S39="Impacto",K37,"")),"") | AA39: =IFERROR(IF(Z39="","",IF(Z39<=0.2,"Muy Baja",IF(Z39<=0.4,"Baja",IF(Z39<=0.6,"Media",IF(Z39<=0.8,"Alta","Muy Alta"))))),"") | AB39: =+Z39 | AC39: =IFERROR(IF(AD39="","",IF(AD39<=0.2,"Leve",IF(AD39<=0.4,"Menor",IF(AD39<=0.6,"Moderado",IF(AD39<=0.8,"Mayor","Catastrófico"))))),"") | AD39: =IFERROR(IF(S39="Impacto",(O39-(+O39*V39)),IF(S39="Probabilidad",O39,"")),"") | AE39: =IFERROR(IF(OR(AND(AA39="Muy Baja",AC39="Leve"),AND(AA39="Muy Baja",AC39="Menor"),AND(AA39="Baja",AC39="Leve")),"Bajo",IF(OR(AND(AA39="Muy baja",AC39="Moderado"),AND(AA39="Baja",AC39="Menor"),AND(AA39="Baja",AC39="Moderado"),AND(AA39="Media",AC39="Leve"),AND(AA39="Media",AC39="Menor"),AND(AA39="Media",AC39="Moderado"),AND(AA39="Alta",AC39="Leve"),AND(AA39="Alta",AC39="Menor")),"Moderado",IF(OR(AND(AA39="Muy Baja",AC39="Mayor"),AND(AA39="Baja",AC39="Mayor"),AND(AA39="Media",AC39="Mayor"),AND(AA39="Alta",AC39="Moderado"),AND(AA39="Alta",AC39="Mayor"),AND(AA39="Muy Alta",AC39="Leve"),AND(AA39="Muy Alta",AC39="Menor"),AND(AA39="Muy Alta",AC39="Moderado"),AND(AA39="Muy Alta",AC39="Mayor")),"Alto",IF(OR(AND(AA39="Muy Baja",AC39="Catastrófico"),AND(AA39="Baja",AC39="Catastrófico"),AND(AA39="Media",AC39="Catastrófico"),AND(AA39="Alta",AC39="Catastrófico"),AND(AA39="Muy Alta",AC39="Catastrófico")),"Extremo","")))),"")
M40: =IF(NOT(ISERROR(MATCH(L40,_xlfn.ANCHORARRAY(G51),0))),K53&"Por favor no seleccionar los criterios de impacto",L40) -> 0 | Q40: 4 | S40: =IF(OR(T40="Preventivo",T40="Detectivo"),"Probabilidad",IF(T40="Correctivo","Impacto","")) | V40: =IF(AND(T40="Preventivo",U40="Automático"),"50%",IF(AND(T40="Preventivo",U40="Manual"),"40%",IF(AND(T40="Detectivo",U40="Automático"),"40%",IF(AND(T40="Detectivo",U40="Manual"),"30%",IF(AND(T40="Correctivo",U40="Automático"),"35%",IF(AND(T40="Correctivo",U40="Manual"),"25%","")))))) | Z40: =IFERROR(IF(S40="Probabilidad",(K37-(+K37*V40)),IF(S40="Impacto",K37,"")),"") | AA40: =IFERROR(IF(Z40="","",IF(Z40<=0.2,"Muy Baja",IF(Z40<=0.4,"Baja",IF(Z40<=0.6,"Media",IF(Z40<=0.8,"Alta","Muy Alta"))))),"") | AB40: =+Z40 | AC40: =IFERROR(IF(AD40="","",IF(AD40<=0.2,"Leve",IF(AD40<=0.4,"Menor",IF(AD40<=0.6,"Moderado",IF(AD40<=0.8,"Mayor","Catastrófico"))))),"") | AD40: =IFERROR(IF(S40="Impacto",(O40-(+O40*V40)),IF(S40="Probabilidad",O40,"")),"") | AE40: =IFERROR(IF(OR(AND(AA40="Muy Baja",AC40="Leve"),AND(AA40="Muy Baja",AC40="Menor"),AND(AA40="Baja",AC40="Leve")),"Bajo",IF(OR(AND(AA40="Muy baja",AC40="Moderado"),AND(AA40="Baja",AC40="Menor"),AND(AA40="Baja",AC40="Moderado"),AND(AA40="Media",AC40="Leve"),AND(AA40="Media",AC40="Menor"),AND(AA40="Media",AC40="Moderado"),AND(AA40="Alta",AC40="Leve"),AND(AA40="Alta",AC40="Menor")),"Moderado",IF(OR(AND(AA40="Muy Baja",AC40="Mayor"),AND(AA40="Baja",AC40="Mayor"),AND(AA40="Media",AC40="Mayor"),AND(AA40="Alta",AC40="Moderado"),AND(AA40="Alta",AC40="Mayor"),AND(AA40="Muy Alta",AC40="Leve"),AND(AA40="Muy Alta",AC40="Menor"),AND(AA40="Muy Alta",AC40="Moderado"),AND(AA40="Muy Alta",AC40="Mayor")),"Alto",IF(OR(AND(AA40="Muy Baja",AC40="Catastrófico"),AND(AA40="Baja",AC40="Catastrófico"),AND(AA40="Media",AC40="Catastrófico"),AND(AA40="Alta",AC40="Catastrófico"),AND(AA40="Muy Alta",AC40="Catastrófico")),"Extremo","")))),"")
...

Sheet Monitoreo No. 1
A2: HOSPITAL MILITAR CENTRAL | F2: FORMATO: SEGUIMIENTOS Y MONITOREO MAPA DE RIESGOS | N2: CÓDIGO: PL-OAPL-PO-FT-01
F3: OFICINA: ASESORA DE PLANEACION
N4: FECHA DE EMISIÓN: 07-09-2021
F5: PROCESO: PLANEACION | N5: VERSIÓN: 04
F6: SISTEMA DE GESTION INTEGRADO SGI | N6: Página 1 de 1
A9: MATRIZ DE MONITOREO DE RIESGOS 1 CORTE (ENERO - ABRIL)
A10: FECHA DEL REPORTE DEL MONITOREO | B10: IDENTIFICACIÓN DEL RIESGO | F10: ¿SE MATERIALIZO EL RIESGO? | G10: PLAN DE MANEJO Y/O MITIGACIÓN DEL RIESGO (Diligencie en caso de haberse materializado el riesgo)
